BEGIN:VCALENDAR
VERSION:2.0
PRODID:-//LINK by UMA-ATech - ECPv6.15.20//NONSGML v1.0//EN
CALSCALE:GREGORIAN
METHOD:PUBLISH
X-WR-CALNAME:LINK by UMA-ATech
X-ORIGINAL-URL:https://www.link.uma.es
X-WR-CALDESC:Eventos para LINK by UMA-ATech
REFRESH-INTERVAL;VALUE=DURATION:PT1H
X-Robots-Tag:noindex
X-PUBLISHED-TTL:PT1H
BEGIN:VTIMEZONE
TZID:UTC
BEGIN:STANDARD
TZOFFSETFROM:+0000
TZOFFSETTO:+0000
TZNAME:UTC
DTSTART:20240101T000000
END:STANDARD
END:VTIMEZONE
BEGIN:VEVENT
DTSTART;TZID=UTC:20250311T090000
DTEND;TZID=UTC:20250311T150000
DTSTAMP:20260419T162633
CREATED:20250213T095927Z
LAST-MODIFIED:20250213T100353Z
UID:60167-1741683600-1741705200@www.link.uma.es
SUMMARY:3.02+2.01+2.02.  IBIMA: Reunión Oficinas de Transferencia de Tecnología del Sistema Sanitario Público de Andalucía.
DESCRIPTION:Salas 3.02+2.01+2.02. De 9 a 15h \nEncuentro de trabajo de las Oficinas de Transferencia de Tecnología del Sistema Sanitario Público de Andalucía \nEl Instituto de Investigación Biomédica de Málaga y Plataforma en Nanomedicina (IBIMA Plataforma BIONAND) es un Instituto Sanitario de Investigación creado en julio de 2010\, a partir de un acuerdo entre la Consejería de Salud de la Junta de Andalucía y la Universidad de Málaga\, que ratificaron su compromiso para el afianzamiento de IBIMA como centro de vanguardia y excelencia en biomedicina.
URL:https://www.link.uma.es/event/3-022-012-02-ibima-encuentro-de-trabajo-de-las-oficinas-de-transferencia-de-tecnologia-del-sistema-sanitario-publico-de-andalucia/
LOCATION:Sala 2.01+2.02+3.02
ATTACH;FMTTYPE=image/png:https://www.link.uma.es/wp-content/uploads/2025/02/logo_ibima_-_copia.png
ORGANIZER;CN="Mar%C3%ADa Mengual IBIMA":MAILTO:maria.mengual@ibima.eu
END:VEVENT
BEGIN:VEVENT
DTSTART;TZID=UTC:20250311T120000
DTEND;TZID=UTC:20250311T140000
DTSTAMP:20260419T162633
CREATED:20250311T093414Z
LAST-MODIFIED:20250311T093414Z
UID:60422-1741694400-1741701600@www.link.uma.es
SUMMARY:CW Visita Delegación de Polonia
DESCRIPTION:Coworking\, 4ª planta – 12.00 a 14.00 h \nVisita Delegación de Polonia
URL:https://www.link.uma.es/event/cw-visita-delegacion-de-polonia/
LOCATION:Coworking\, Cuarta Planta\, Avenida Louis Pasteur\, 47\, Málaga\, Málaga\, 29010\, España
ORGANIZER;CN="Antonio Pe%C3%B1afiel. Director Servicio Empleabilidad y Emprendimiento.":MAILTO:apenafiel@uma.es
END:VEVENT
BEGIN:VEVENT
DTSTART;TZID=UTC:20250311T160000
DTEND;TZID=UTC:20250311T200000
DTSTAMP:20260419T162633
CREATED:20250120T114520Z
LAST-MODIFIED:20250128T121954Z
UID:59940-1741708800-1741723200@www.link.uma.es
SUMMARY:3.02. Programa de Innovación Docente
DESCRIPTION:Sala 3.02\, 3ª planta de Link by UMA\, de 16 a 20h \nPrograma de Innovación Docente: Formación e Innovación Docente del Profesorado Universitario \nEste programa tiene como objetivo fomentar la formación y la mejora\, permitiendo al profesorado adquirir y perfeccionar competencias en el uso de modelos docentes. Está diseñado para acercar tanto a docentes experimentados como a aquellos que inician su carrera a un enfoque más innovador y alineado con las últimas investigaciones en educación\, didáctica\, psicología del aprendizaje\, epistemología y neurociencia. \nLos objetivos del Programa\, sin perjuicio de que se consideren otros durante su desarrollo\, deben ir encaminados a trabajar en la naturaleza y el perfeccionamiento del conocimiento profesional docente\, en lo que concierne a: \n– Comprender la importancia de la práctica docente y el conocimiento didáctico específico vinculado a cada materia.\n– Profundizar en el conocimiento de las materias a enseñar y en el proceso de transformación de contenidos para su enseñanza.\n– Analizar la práctica docente en relación con diferentes modelos de enseñanza-aprendizaje\, incluyendo metodología y evaluación.\n– Diseñar\, aplicar y evaluar propuestas de mejora e intervención\, con un enfoque en Ciclos de Mejora en el Aula (CIMA).
URL:https://www.link.uma.es/event/cw-programa-de-innovacion-docente-6/
LOCATION:Sala 3.02\, Tercera Planta\, Avenida Louis Pasteur\, 47\, Málaga\, Málaga\, 29010\, España
ATTACH;FMTTYPE=image/png:https://www.link.uma.es/wp-content/uploads/2025/01/sfi_uma.png
ORGANIZER;CN="Diego Aguilar. CC. Educaci%C3%B3n. UMA":MAILTO:diego@uma.es
END:VEVENT
BEGIN:VEVENT
DTSTART;TZID=UTC:20250311T170000
DTEND;TZID=UTC:20250311T203000
DTSTAMP:20260419T162633
CREATED:20250217T094247Z
LAST-MODIFIED:20250217T094247Z
UID:60223-1741712400-1741725000@www.link.uma.es
SUMMARY:2.01. Acelera Startups con Jesús Pedrero
DESCRIPTION:Sala 2.01\, 2ª planta de Link by UMA\, de 17 a 20.30h \n7ª edición de Acelera Startups \nEstrategias de Financiación e Inversión: Comunicación y presentación ante inversores\nFecha: 11/03/2024\nHora: 17h a 20:30h\nFormador: Jesús Pedrero \nEl programa Acelera Startups proporciona a todo emprendedor la posibilidad de acceder a expertos de distintos ámbitos a través de talleres y mentorías personalizadas.
URL:https://www.link.uma.es/event/2-01-acelera-startups-con-jesus-pedrero-4/
LOCATION:Sala 2.01\, Segunda Planta\, Avenida Louis Pasteur\, 47\, Málaga\, Málaga\, 29010\, España
ATTACH;FMTTYPE=image/png:https://www.link.uma.es/wp-content/uploads/2025/02/ACELERA_1200X629_2-1024x536-1.png
ORGANIZER;CN="Nacho Mart%C3%ADn. Impact Hub M%C3%A1laga.":MAILTO:nacho.martin@impacthub.net
END:VEVENT
END:VCALENDAR