BEGIN:VCALENDAR
VERSION:2.0
PRODID:-//LINK by UMA-ATech - ECPv6.15.20//NONSGML v1.0//EN
CALSCALE:GREGORIAN
METHOD:PUBLISH
X-WR-CALNAME:LINK by UMA-ATech
X-ORIGINAL-URL:https://www.link.uma.es
X-WR-CALDESC:Eventos para LINK by UMA-ATech
REFRESH-INTERVAL;VALUE=DURATION:PT1H
X-Robots-Tag:noindex
X-PUBLISHED-TTL:PT1H
BEGIN:VTIMEZONE
TZID:UTC
BEGIN:STANDARD
TZOFFSETFROM:+0000
TZOFFSETTO:+0000
TZNAME:UTC
DTSTART:20240101T000000
END:STANDARD
END:VTIMEZONE
BEGIN:VEVENT
DTSTART;TZID=UTC:20250117T160000
DTEND;TZID=UTC:20250117T203000
DTSTAMP:20260426T035141
CREATED:20250109T112449Z
LAST-MODIFIED:20250109T112449Z
UID:59886-1737129600-1737145800@www.link.uma.es
SUMMARY:2.01. Grabación de podcast
DESCRIPTION:Sala 2.01\, 2ª planta de Link by UMA\, de 16 a 20.30h \nGrabación de podcast para estudiantes de doctorado.
URL:https://www.link.uma.es/event/2-01-grabacion-de-podcast/
LOCATION:Sala 2.01\, Segunda Planta\, Avenida Louis Pasteur\, 47\, Málaga\, Málaga\, 29010\, España
ATTACH;FMTTYPE=image/jpeg:https://www.link.uma.es/wp-content/uploads/2024/10/UMA_Horizontal.jpg
ORGANIZER;CN="Fernando Navarro Lucena. Econom%C3%ADa y Adm%C3%B3n. De Empresas UMA":MAILTO:fnl@uma.es
END:VEVENT
END:VCALENDAR