BEGIN:VCALENDAR
VERSION:2.0
PRODID:-//LINK by UMA-ATech - ECPv6.15.20//NONSGML v1.0//EN
CALSCALE:GREGORIAN
METHOD:PUBLISH
X-ORIGINAL-URL:https://www.link.uma.es
X-WR-CALDESC:Eventos para LINK by UMA-ATech
REFRESH-INTERVAL;VALUE=DURATION:PT1H
X-Robots-Tag:noindex
X-PUBLISHED-TTL:PT1H
BEGIN:VTIMEZONE
TZID:UTC
BEGIN:STANDARD
TZOFFSETFROM:+0000
TZOFFSETTO:+0000
TZNAME:UTC
DTSTART:20230101T000000
END:STANDARD
END:VTIMEZONE
BEGIN:VEVENT
DTSTART;TZID=UTC:20241025T090000
DTEND;TZID=UTC:20241025T143000
DTSTAMP:20260421T064245
CREATED:20241004T114314Z
LAST-MODIFIED:20241004T114314Z
UID:59334-1729846800-1729866600@www.link.uma.es
SUMMARY:CW +Salón Actos_“Equilibrios en la carrera académica y tareas generizadas. ¿Cómo (no) competir y avanzar?”
DESCRIPTION:Evento del Vicerrectorado de Igualdad sobre el equilibrio entre la Carrera Académica y las Tareas Generizadas \nEl objetivo es analizar cómo es el reparto del tiempo entre el colectivo docente e investigador mediante una catalogación de tareas\, tanto en el ámbito laboral como en el privado\, con la idea de establecer patrones de funcionamiento que se intuyen generizados. Para ello\, se diseñará una aplicación móvil en la que las personas participantes puedan realizar sus registros de actividades diarias\, para proceder posteriormente a su análisis cuantitativo\, sin menoscabo de aplicarle\, igualmente\, un análisis cualitativo. Por otro lado\, se realizarán entrevistas semiestructuradas para poder obtener información más personalizada y desde una perspectiva experiencial\, de las personas sujetas a estudio\, y hacer un posterior análisis cualitativo.\nEse mismo día de la presentación se harán 3 formaciones\, una sobre dinamización\, otra sobre mentoría y otra sobre categorización
URL:https://www.link.uma.es/event/cw-salon-actos_equilibrios-en-la-carrera-academica-y-tareas-generizadas-como-no-competir-y-avanzar/
LOCATION:Coworking + Salón de Actos
ORGANIZER;CN="Mar%C3%ADa Victoria Miranda Romero":MAILTO:miranda@uma.es
END:VEVENT
END:VCALENDAR