BEGIN:VCALENDAR
VERSION:2.0
PRODID:-//LINK by UMA-ATech - ECPv6.15.20//NONSGML v1.0//EN
CALSCALE:GREGORIAN
METHOD:PUBLISH
X-WR-CALNAME:LINK by UMA-ATech
X-ORIGINAL-URL:https://www.link.uma.es
X-WR-CALDESC:Eventos para LINK by UMA-ATech
REFRESH-INTERVAL;VALUE=DURATION:PT1H
X-Robots-Tag:noindex
X-PUBLISHED-TTL:PT1H
BEGIN:VTIMEZONE
TZID:UTC
BEGIN:STANDARD
TZOFFSETFROM:+0000
TZOFFSETTO:+0000
TZNAME:UTC
DTSTART:20230101T000000
END:STANDARD
END:VTIMEZONE
BEGIN:VEVENT
DTSTART;TZID=UTC:20241021T143000
DTEND;TZID=UTC:20241021T160000
DTSTAMP:20260422T022612
CREATED:20241016T122340Z
LAST-MODIFIED:20241016T122340Z
UID:59428-1729521000-1729526400@www.link.uma.es
SUMMARY:3.02. Tupl: formación interna
DESCRIPTION:Sala 3.02\, 3ª planta de Link by UMA\, de 14:30 a 16h \nFormación interna de la empresa Tupl. \nTupl provides a Low-code MLOps framework to develop hyperautomation applications with a fast time to market.
URL:https://www.link.uma.es/event/3-02-tupl-formacion-interna/
LOCATION:Sala 3.02\, Tercera Planta\, Avenida Louis Pasteur\, 47\, Málaga\, Málaga\, 29010\, España
ATTACH;FMTTYPE=image/png:https://www.link.uma.es/wp-content/uploads/2019/07/Tupl.png
ORGANIZER;CN="Beatriz Garc%C3%ADa Terrones. Tupl":MAILTO:beatriz.garcia@tupl.com
END:VEVENT
END:VCALENDAR