BEGIN:VCALENDAR
VERSION:2.0
PRODID:-//LINK by UMA-ATech - ECPv6.15.20//NONSGML v1.0//EN
CALSCALE:GREGORIAN
METHOD:PUBLISH
X-WR-CALNAME:LINK by UMA-ATech
X-ORIGINAL-URL:https://www.link.uma.es
X-WR-CALDESC:Eventos para LINK by UMA-ATech
REFRESH-INTERVAL;VALUE=DURATION:PT1H
X-Robots-Tag:noindex
X-PUBLISHED-TTL:PT1H
BEGIN:VTIMEZONE
TZID:UTC
BEGIN:STANDARD
TZOFFSETFROM:+0000
TZOFFSETTO:+0000
TZNAME:UTC
DTSTART:20230101T000000
END:STANDARD
END:VTIMEZONE
BEGIN:VEVENT
DTSTART;TZID=UTC:20241018T150000
DTEND;TZID=UTC:20241018T200000
DTSTAMP:20260421T140842
CREATED:20240926T121904Z
LAST-MODIFIED:20240926T121904Z
UID:59264-1729263600-1729281600@www.link.uma.es
SUMMARY:2.02 Reunión AIESEC
DESCRIPTION:Reunión interna
URL:https://www.link.uma.es/event/2-02-reunion-aiesec-2/
LOCATION:Sala 2.02\, 2ª planta
END:VEVENT
BEGIN:VEVENT
DTSTART;TZID=UTC:20241018T160000
DTEND;TZID=UTC:20241018T200000
DTSTAMP:20260421T140842
CREATED:20240724T092605Z
LAST-MODIFIED:20240724T092647Z
UID:59020-1729267200-1729281600@www.link.uma.es
SUMMARY:3.01. Proyecto Roma: Jornadas familia\, mediación y profesorado
DESCRIPTION:Sala 3.01\, 3ª planta de Link by UMA\, de 16 a 20h \nEl Proyecto Roma nace en 1990 como un proyecto europeo de investigación en el que intervienen la Universidad de Málaga\, desde España\, y la Universidad de Bolonia y el Servicio Neuropsicopedagógico del Hospital Bambino Gesú de Roma\, en Italia. Iniciado por el Profesor Dr. Miguel LÓPEZ MELERO\, catedrático e investigador de la Universidad de Málaga\, junto con los doctores Nicola CUOMO\, Giorgio ALBERTINI\, Gianni BIONDI\, ha sido desarrollado hasta la fecha como un trabajo de investigación grupal por familias\, investigadores y profesionales de la docencia. El nombre de Proyecto Roma surge de este origen\, en reconocimiento a la ciudad italiana que vio su nacimiento. Por contra\, es conocido en Italia como Proyecto Málaga. \nLa Asociación Proyecto Roma nace como una institución con carácter cultural\, docente e investigador para seguir trabajando de manera comprometida en la construcción de un modelo educativo inclusivo que mejore los contextos familiares\, escolares y sociales.
URL:https://www.link.uma.es/event/3-01-proyecto-roma-jornadas-familia-mediacion-y-profesorado/
LOCATION:Sala 3.01\, Tercera Planta\, Avenida Louis Pasteur\, 47\, Málaga\, Málaga\, 29010\, España
ATTACH;FMTTYPE=image/png:https://www.link.uma.es/wp-content/uploads/2024/07/Proyecto-Roma.png
ORGANIZER;CN="Jose Serrano Barrientos. Coordinador Proyecto Roma":MAILTO:0619978616@uma.es
END:VEVENT
END:VCALENDAR