BEGIN:VCALENDAR
VERSION:2.0
PRODID:-//LINK by UMA-ATech - ECPv6.15.20//NONSGML v1.0//EN
CALSCALE:GREGORIAN
METHOD:PUBLISH
X-ORIGINAL-URL:https://www.link.uma.es
X-WR-CALDESC:Eventos para LINK by UMA-ATech
REFRESH-INTERVAL;VALUE=DURATION:PT1H
X-Robots-Tag:noindex
X-PUBLISHED-TTL:PT1H
BEGIN:VTIMEZONE
TZID:UTC
BEGIN:STANDARD
TZOFFSETFROM:+0000
TZOFFSETTO:+0000
TZNAME:UTC
DTSTART:20230101T000000
END:STANDARD
END:VTIMEZONE
BEGIN:VEVENT
DTSTART;TZID=UTC:20241017T170000
DTEND;TZID=UTC:20241017T203000
DTSTAMP:20260421T045642
CREATED:20241014T111944Z
LAST-MODIFIED:20241014T112028Z
UID:59398-1729184400-1729197000@www.link.uma.es
SUMMARY:2.02. Acelera Startups con Miguel Infantes Nuñez
DESCRIPTION:Sala 2.02\, 2ª planta de Link by UMA\, de 17 a 20.30h \n6ª edición de Acelera Startups \nEntorno digital y Estrategia I: Estrategia de innovación\nFecha: 17/10/2024\nHora: 17h a 20:30h\nFormador: Miguel Infantes Nuñez \nEl programa Acelera Startups proporciona a todo emprendedor la posibilidad de acceder a expertos de distintos ámbitos a través de talleres y mentorías personalizadas
URL:https://www.link.uma.es/event/2-01-acelera-startups-con-miguel-infantes-nunez-2/
LOCATION:Sala 2.02\, 2ª planta
ATTACH;FMTTYPE=image/jpeg:https://www.link.uma.es/wp-content/uploads/2024/02/logo-acelera-startups.jpg
ORGANIZER;CN="Nacho Mart%C3%ADn. Impact Hub M%C3%A1laga.":MAILTO:nacho.martin@impacthub.net
END:VEVENT
END:VCALENDAR