BEGIN:VCALENDAR
VERSION:2.0
PRODID:-//LINK by UMA-ATech - ECPv6.15.20//NONSGML v1.0//EN
CALSCALE:GREGORIAN
METHOD:PUBLISH
X-WR-CALNAME:LINK by UMA-ATech
X-ORIGINAL-URL:https://www.link.uma.es
X-WR-CALDESC:Eventos para LINK by UMA-ATech
REFRESH-INTERVAL;VALUE=DURATION:PT1H
X-Robots-Tag:noindex
X-PUBLISHED-TTL:PT1H
BEGIN:VTIMEZONE
TZID:UTC
BEGIN:STANDARD
TZOFFSETFROM:+0000
TZOFFSETTO:+0000
TZNAME:UTC
DTSTART:20230101T000000
END:STANDARD
END:VTIMEZONE
BEGIN:VEVENT
DTSTART;TZID=UTC:20241010T080000
DTEND;TZID=UTC:20241010T160000
DTSTAMP:20260421T232614
CREATED:20240927T093122Z
LAST-MODIFIED:20240927T093232Z
UID:59279-1728547200-1728576000@www.link.uma.es
SUMMARY:CW Team Work OPPLUS
DESCRIPTION:Reunión interna de Opplus \n 
URL:https://www.link.uma.es/event/cw-team-work-opplus/
LOCATION:Coworking\, Cuarta Planta\, Avenida Louis Pasteur\, 47\, Málaga\, Málaga\, 29010\, España
ATTACH;FMTTYPE=image/png:https://www.link.uma.es/wp-content/uploads/2023/10/Logotipo_Grupo_Opplus_Descriptivo.png
ORGANIZER;CN="Mar%C3%ADa del Mar L%C3%B3pez":MAILTO:mdm.lopez.marquez@opplus.bbva.com
END:VEVENT
BEGIN:VEVENT
DTSTART;TZID=UTC:20241010T100000
DTEND;TZID=UTC:20241010T110000
DTSTAMP:20260421T232614
CREATED:20240912T105611Z
LAST-MODIFIED:20240923T070810Z
UID:59087-1728554400-1728558000@www.link.uma.es
SUMMARY:3.01. Visita alumnado Grado Estudios Asia Oriental + Grado Ing. en Organización Industrial
DESCRIPTION:Sala 3.01\, 3ª planta de Link by UMA\, de 10 a 11h \nAlumnos de 4º curso del grado en Estudios de Asia Oriental y 4º curso del grado en Ingeniería en Organización Industrial\, visitan hoy las instalaciones de Link by UMA de la mano de su profesora Macarena Marchante\, para conocer las actividades que les ofrece el Servicio de Empleabilidad y Emprendimiento de la UMA.
URL:https://www.link.uma.es/event/3-01-visita-alumando-economicas/
LOCATION:Sala 3.01\, Tercera Planta\, Avenida Louis Pasteur\, 47\, Málaga\, Málaga\, 29010\, España
ATTACH;FMTTYPE=image/png:https://www.link.uma.es/wp-content/uploads/2022/02/UMA.png
ORGANIZER;CN="Macarena Marchante UMA":MAILTO:mmarchante@uma.es
END:VEVENT
BEGIN:VEVENT
DTSTART;TZID=UTC:20241010T130000
DTEND;TZID=UTC:20241010T170000
DTSTAMP:20260421T232614
CREATED:20240927T085859Z
LAST-MODIFIED:20240927T085859Z
UID:59268-1728565200-1728579600@www.link.uma.es
SUMMARY:3.01 Reunión SoftProject Ibérica
DESCRIPTION:Staff meeting: reunión anual de equipos internacionales
URL:https://www.link.uma.es/event/3-01-reunion-softproject-iberica/
ATTACH;FMTTYPE=image/jpeg:https://www.link.uma.es/wp-content/uploads/2024/09/softproject_gmbh_logo.jpg
ORGANIZER;CN="Jes%C3%BAs Gonz%C3%A1lez. Soft Project":MAILTO:jesus.gonzalez@softproject.es
END:VEVENT
BEGIN:VEVENT
DTSTART;TZID=UTC:20241010T183000
DTEND;TZID=UTC:20241010T203000
DTSTAMP:20260421T232614
CREATED:20241002T120600Z
LAST-MODIFIED:20241007T072858Z
UID:59296-1728585000-1728592200@www.link.uma.es
SUMMARY:CW. MarTech
DESCRIPTION:Coworking\, 4ª planta de Link by UMA\, de 18:30 a 20:30h \nArrancamos con la sesiones Martech en Link by UMA de la mano de Fabiana Aguilar\, diseñadora\, ilustradora y coach\, quien ofrecerá la siguiente charla: Imágenes con IA para marketers: ahorra tiempo\, atrae clientes\, gana más. No te la pierdas! \n ¿ ́       ? \nDescúbrelo en este evento imperdible\, diseñado para que veas de primera mano cómo la tecnología más avanzada puede transformar tu negocio.\n✍ Fabiana Aguilar — \,  &   — estará a cargo de esta sesión\, compartiendo sus conocimientos sobre cómo las ́    pueden ayudarte a  \,      . \n Con la  &   \, aprenderás de manera práctica y con ejemplos reales cómo implementar estas herramientas en tu estrategia de marketing. \n ¿          ? Este evento es la oportunidad perfecta para ampliar tu visión del marketing y profundizar en su aplicación junto a otros especialistas en un entorno de aprendizaje colaborativo. \n⚠️     para aprovechar al máximo esta  ́. \n ́ ́: https://bit.ly/4eMRHl4 \n      Código gratuito: UMACMKM \n¡   !  No dejes pasar esta oportunidad única para mejorar tu marketing con IA. \n  \n 
URL:https://www.link.uma.es/event/cw-martech/
LOCATION:Coworking\, Cuarta Planta\, Avenida Louis Pasteur\, 47\, Málaga\, Málaga\, 29010\, España
ATTACH;FMTTYPE=image/png:https://www.link.uma.es/wp-content/uploads/2024/10/10-octubre-Fabiana-Aguilar.png
ORGANIZER;CN="Ver%C3%B3nica Aguiliera. Club de M%C3%A1rketing M%C3%A1laga":MAILTO:info@cmarketingmalaga.org
END:VEVENT
END:VCALENDAR