BEGIN:VCALENDAR
VERSION:2.0
PRODID:-//LINK by UMA-ATech - ECPv6.15.20//NONSGML v1.0//EN
CALSCALE:GREGORIAN
METHOD:PUBLISH
X-ORIGINAL-URL:https://www.link.uma.es
X-WR-CALDESC:Eventos para LINK by UMA-ATech
REFRESH-INTERVAL;VALUE=DURATION:PT1H
X-Robots-Tag:noindex
X-PUBLISHED-TTL:PT1H
BEGIN:VTIMEZONE
TZID:UTC
BEGIN:STANDARD
TZOFFSETFROM:+0000
TZOFFSETTO:+0000
TZNAME:UTC
DTSTART:20230101T000000
END:STANDARD
END:VTIMEZONE
BEGIN:VEVENT
DTSTART;TZID=UTC:20241004T090000
DTEND;TZID=UTC:20241004T120000
DTSTAMP:20260421T092423
CREATED:20240926T115859Z
LAST-MODIFIED:20240926T115944Z
UID:59256-1728032400-1728043200@www.link.uma.es
SUMMARY:Salón de Actos_ Seminario IHSM
DESCRIPTION:Celebración de Seminario por parte del Instituto Hortofruticultura Subtropical Mediterranea IHSM \n 
URL:https://www.link.uma.es/event/salon-de-actos_-seminario-ihsm/
LOCATION:Salón de Actos
ORGANIZER;CN="Luc%C3%ADa Cruzado. IHSM":MAILTO:lucruzado@uma.es
END:VEVENT
BEGIN:VEVENT
DTSTART;TZID=UTC:20241004T150000
DTEND;TZID=UTC:20241004T200000
DTSTAMP:20260421T092423
CREATED:20240926T121611Z
LAST-MODIFIED:20240926T121611Z
UID:59262-1728054000-1728072000@www.link.uma.es
SUMMARY:3.02 Reunión AIESEC
DESCRIPTION:Reunión interna
URL:https://www.link.uma.es/event/3-02-reunion-aiesec-2/
LOCATION:Sala 3.02\, Tercera Planta\, Avenida Louis Pasteur\, 47\, Málaga\, Málaga\, 29010\, España
END:VEVENT
END:VCALENDAR