BEGIN:VCALENDAR
VERSION:2.0
PRODID:-//LINK by UMA-ATech - ECPv6.15.20//NONSGML v1.0//EN
CALSCALE:GREGORIAN
METHOD:PUBLISH
X-WR-CALNAME:LINK by UMA-ATech
X-ORIGINAL-URL:https://www.link.uma.es
X-WR-CALDESC:Eventos para LINK by UMA-ATech
REFRESH-INTERVAL;VALUE=DURATION:PT1H
X-Robots-Tag:noindex
X-PUBLISHED-TTL:PT1H
BEGIN:VTIMEZONE
TZID:UTC
BEGIN:STANDARD
TZOFFSETFROM:+0000
TZOFFSETTO:+0000
TZNAME:UTC
DTSTART:20230101T000000
END:STANDARD
END:VTIMEZONE
BEGIN:VEVENT
DTSTART;TZID=UTC:20240926T090000
DTEND;TZID=UTC:20240926T150000
DTSTAMP:20260421T083441
CREATED:20240730T110623Z
LAST-MODIFIED:20240730T110623Z
UID:59032-1727341200-1727362800@www.link.uma.es
SUMMARY:3.01/3.02 Fundación Esplai: Exposición proyectos finales
DESCRIPTION:Desde Fundación Esplai se expondrán los proyectos finales del alumnado asistente al Bootcamp de programación JAVA. Para ello acudirán varias empresas y  tendrán un espacio de Networking con un aperitivo. \n 
URL:https://www.link.uma.es/event/3-01-3-02-fundacion-esplai-exposicion-proyectos-finales/
LOCATION:Sala 3.01 y 3.02\, 3ª planta de Link
ORGANIZER;CN="Esperanza Rub%C3%AD":MAILTO:esperanza.rubi@fundacionesplai.org
END:VEVENT
BEGIN:VEVENT
DTSTART;TZID=UTC:20240926T120000
DTEND;TZID=UTC:20240926T140000
DTSTAMP:20260421T083441
CREATED:20240913T102454Z
LAST-MODIFIED:20240917T062659Z
UID:59136-1727352000-1727359200@www.link.uma.es
SUMMARY:CW. Coderland Networking
DESCRIPTION:Coworking\, 4ª planta de Link by UMA\, de 12 a 14h \nEn Coderland\, queremos ofrecerte una oportunidad para conocernos\, compartir experiencias con otras empresas y explorar nuevas tendencias y oportunidades de colaboración. Como especialistas en soluciones IT\, estamos comprometidos en conectar con otros profesionales para avanzar juntos en el mundo digital. \nNos encantaría que te unas a nosotros para disfrutar de un espacio de networking enriquecedor. \nPara hacer de este encuentro una experiencia aún más agradable\, ofreceremos bebidas y algo de picar. ¡Esperamos verte allí!
URL:https://www.link.uma.es/event/cw-coderland-networking/
LOCATION:Coworking\, 4ª planta de Link by UMA
ATTACH;FMTTYPE=image/png:https://www.link.uma.es/wp-content/uploads/2024/09/logo_coderland_transparente.png
ORGANIZER;CN="Adriana Cort%C3%A9s. Coderland":MAILTO:adriana.cortes@coderland.com
END:VEVENT
BEGIN:VEVENT
DTSTART;TZID=UTC:20240926T160000
DTEND;TZID=UTC:20240926T200000
DTSTAMP:20260421T083441
CREATED:20240926T121146Z
LAST-MODIFIED:20240926T121313Z
UID:59260-1727366400-1727380800@www.link.uma.es
SUMMARY:3.02 Reunión AIESEC
DESCRIPTION:Reunión interna AIESEC
URL:https://www.link.uma.es/event/3-02-reunion-aiesec/
LOCATION:Sala 3.02\, Tercera Planta\, Avenida Louis Pasteur\, 47\, Málaga\, Málaga\, 29010\, España
END:VEVENT
BEGIN:VEVENT
DTSTART;TZID=UTC:20240926T170000
DTEND;TZID=UTC:20240926T203000
DTSTAMP:20260421T083441
CREATED:20240913T100053Z
LAST-MODIFIED:20240917T063229Z
UID:59126-1727370000-1727382600@www.link.uma.es
SUMMARY:CW: Acelera Startups con Daniela Elster
DESCRIPTION:Coworking\, 4ª planta de Link by UMA\, de 17 a 20.30h \nImpacto social y ambiental en las startups\nFecha: 26/09/2024\nHora: 17h a 20:30h\nFormador: Daniela Elster \nEl programa Acelera Startups proporciona a todo emprendedor la posibilidad de acceder a expertos de distintos ámbitos a través de talleres y mentorías personalizadas.
URL:https://www.link.uma.es/event/cw-acelera-startups-con-daniela-elster/
LOCATION:Coworking\, 4ª planta de Link by UMA
ATTACH;FMTTYPE=image/jpeg:https://www.link.uma.es/wp-content/uploads/2024/02/logo-acelera-startups.jpg
ORGANIZER;CN="Nacho Mart%C3%ADn. Impact Hub M%C3%A1laga.":MAILTO:nacho.martin@impacthub.net
END:VEVENT
END:VCALENDAR