BEGIN:VCALENDAR
VERSION:2.0
PRODID:-//LINK by UMA-ATech - ECPv6.15.20//NONSGML v1.0//EN
CALSCALE:GREGORIAN
METHOD:PUBLISH
X-WR-CALNAME:LINK by UMA-ATech
X-ORIGINAL-URL:https://www.link.uma.es
X-WR-CALDESC:Eventos para LINK by UMA-ATech
REFRESH-INTERVAL;VALUE=DURATION:PT1H
X-Robots-Tag:noindex
X-PUBLISHED-TTL:PT1H
BEGIN:VTIMEZONE
TZID:UTC
BEGIN:STANDARD
TZOFFSETFROM:+0000
TZOFFSETTO:+0000
TZNAME:UTC
DTSTART:20230101T000000
END:STANDARD
END:VTIMEZONE
BEGIN:VEVENT
DTSTART;TZID=UTC:20240705T090000
DTEND;TZID=UTC:20240705T150000
DTSTAMP:20260422T033834
CREATED:20240702T094843Z
LAST-MODIFIED:20240703T100528Z
UID:58982-1720170000-1720191600@www.link.uma.es
SUMMARY:2.01 Zexel Sprints
DESCRIPTION:Zexel realiza su sesión de trabajo de cada mes llamada Zexel Sprints. En esta sesión discutimos avances del producto.
URL:https://www.link.uma.es/event/2-01-zexel-sprints-2/
LOCATION:Sala 2.01
ATTACH;FMTTYPE=image/png:https://www.link.uma.es/wp-content/uploads/2024/07/ZEXEL_PAY_LOGO.png
ORGANIZER;CN="Valent%C3%ADn V%C3%A9liz. Zexel":MAILTO:valentinveliz@zexel.io
END:VEVENT
BEGIN:VEVENT
DTSTART;TZID=UTC:20240705T110000
DTEND;TZID=UTC:20240705T143000
DTSTAMP:20260422T033834
CREATED:20240701T113608Z
LAST-MODIFIED:20240701T113608Z
UID:58972-1720177200-1720189800@www.link.uma.es
SUMMARY:Cw Demo Day Acelera Startups - Bic Euronova
DESCRIPTION:Coworking – 11.00 a 14.30 h \nPrograma Acelera Statups\, gestionado por BIC Euronova y PwC\, en la que una selección de 10 startups participantes realizarán un pitch ante una selección de inversores.
URL:https://www.link.uma.es/event/cw-demo-day-acelera-startups-bic-euronova/
LOCATION:Coworking\, Cuarta Planta\, Avenida Louis Pasteur\, 47\, Málaga\, Málaga\, 29010\, España
ATTACH;FMTTYPE=image/png:https://www.link.uma.es/wp-content/uploads/2024/07/logo_demo_day_acelera.png
ORGANIZER;CN="V%C3%ADctor Tienda - Bic Euronova":MAILTO:victortienda@bic.es
END:VEVENT
END:VCALENDAR