BEGIN:VCALENDAR
VERSION:2.0
PRODID:-//LINK by UMA-ATech - ECPv6.15.20//NONSGML v1.0//EN
CALSCALE:GREGORIAN
METHOD:PUBLISH
X-ORIGINAL-URL:https://www.link.uma.es
X-WR-CALDESC:Eventos para LINK by UMA-ATech
REFRESH-INTERVAL;VALUE=DURATION:PT1H
X-Robots-Tag:noindex
X-PUBLISHED-TTL:PT1H
BEGIN:VTIMEZONE
TZID:UTC
BEGIN:STANDARD
TZOFFSETFROM:+0000
TZOFFSETTO:+0000
TZNAME:UTC
DTSTART:20230101T000000
END:STANDARD
END:VTIMEZONE
BEGIN:VEVENT
DTSTART;TZID=UTC:20240704T090000
DTEND;TZID=UTC:20240704T150000
DTSTAMP:20260422T163114
CREATED:20240412T083840Z
LAST-MODIFIED:20240703T100700Z
UID:58575-1720083600-1720105200@www.link.uma.es
SUMMARY:CW. OPPLUS: Equipo MGE & Cultura
DESCRIPTION:Coworking\, 4ª planta de Link by UMA\, de 9 a 16.30h \nSesión estratégica colaborativa MGE & Cultura \nOPPLUS es una empresa líder en consultoría y optimización de procesos de negocio (BPO) que ofrece soluciones innovadoras y personalizadas a sus clientes.
URL:https://www.link.uma.es/event/cw-opplus-equipo-mge-cultura/
LOCATION:Coworking\, 4ª planta de Link by UMA
ATTACH;FMTTYPE=image/png:https://www.link.uma.es/wp-content/uploads/2023/10/Logotipo_Grupo_Opplus_Descriptivo.png
ORGANIZER;CN="Rub%C3%A9n Cuenca Rubalcaba. OPPLUS":MAILTO:ruben.cuenca.contractor@opplus.bbva.com
END:VEVENT
END:VCALENDAR