BEGIN:VCALENDAR
VERSION:2.0
PRODID:-//LINK by UMA-ATech - ECPv6.15.20//NONSGML v1.0//EN
CALSCALE:GREGORIAN
METHOD:PUBLISH
X-ORIGINAL-URL:https://www.link.uma.es
X-WR-CALDESC:Eventos para LINK by UMA-ATech
REFRESH-INTERVAL;VALUE=DURATION:PT1H
X-Robots-Tag:noindex
X-PUBLISHED-TTL:PT1H
BEGIN:VTIMEZONE
TZID:UTC
BEGIN:STANDARD
TZOFFSETFROM:+0000
TZOFFSETTO:+0000
TZNAME:UTC
DTSTART:20230101T000000
END:STANDARD
END:VTIMEZONE
BEGIN:VEVENT
DTSTART;TZID=UTC:20240503T090000
DTEND;TZID=UTC:20240503T180000
DTSTAMP:20260419T215834
CREATED:20240502T084723Z
LAST-MODIFIED:20240502T104759Z
UID:58703-1714726800-1714759200@www.link.uma.es
SUMMARY:2.04. Zexel\, sesión de trabajo
DESCRIPTION:Sala 2.04\, 2ª planta de Link by UMA\, de 9 a 18h \nSesión de trabajo del equipo Zexel. \nZexel Pay facilita el pago a creadores de contenido\, y ayuda a marcas y agencias a obtener facturas en su representación.
URL:https://www.link.uma.es/event/2-01-zexel-sesion-de-trabajo/
LOCATION:Sala 2.04\, 2ª planta de Link\, Avenida Louis Pasteur\, 47\, Málaga\, Málaga\, 29010\, España
ATTACH;FMTTYPE=image/png:https://www.link.uma.es/wp-content/uploads/2023/02/zexel-logo.png
ORGANIZER;CN="Valent%C3%ADn V%C3%A9liz. Zexel":MAILTO:valentinveliz@zexel.io
END:VEVENT
BEGIN:VEVENT
DTSTART;TZID=UTC:20240503T110000
DTEND;TZID=UTC:20240503T140000
DTSTAMP:20260419T215834
CREATED:20240502T104318Z
LAST-MODIFIED:20240502T104424Z
UID:58708-1714734000-1714744800@www.link.uma.es
SUMMARY:2.01. Grabación UMA Racing Team
DESCRIPTION:Sala 2.01\, 2ª planta\, de 11 a 14h \nGrabación UMA Racing Team
URL:https://www.link.uma.es/event/2-01-grabacion-uma-racing-team/
LOCATION:Sala 2.01\, Segunda Planta\, Avenida Louis Pasteur\, 47\, Málaga\, Málaga\, 29010\, España
ATTACH;FMTTYPE=image/png:https://www.link.uma.es/wp-content/uploads/2024/04/uma-racing-speaks.png
ORGANIZER;CN="Isabel Ruiz Mora. UMA":MAILTO:isabelruiz@uma.es
END:VEVENT
BEGIN:VEVENT
DTSTART;TZID=UTC:20240503T150000
DTEND;TZID=UTC:20240503T190000
DTSTAMP:20260419T215834
CREATED:20240408T110213Z
LAST-MODIFIED:20240408T110213Z
UID:58521-1714748400-1714762800@www.link.uma.es
SUMMARY:2.02. AIESEC: Reunión de equipo
DESCRIPTION:Sala 2.02\, 2ª planta de Link by UMA\, de 15 a 19h \nAIESEC es la organización global liderada por jóvenes más grande del mundo que busca el desarrollo de liderazgo en los jóvenes a través de oportunidades en el entorno internacional. Conectamos jóvenes con proyectos en el extranjero\, donde pueden aprender más sobre otras culturas y trabajar en su propio crecimiento. Nuestro objetivo es el desarrollo del liderazgo en los jóvenes a través de experiencias prácticas en ambientes retadores.
URL:https://www.link.uma.es/event/2-02-aiesec-reunion-de-equipo-6/
LOCATION:Sala 2.04\, 2ª planta de Link\, Avenida Louis Pasteur\, 47\, Málaga\, Málaga\, 29010\, España
ATTACH;FMTTYPE=image/png:https://www.link.uma.es/wp-content/uploads/2024/01/aiesec_logo.png
END:VEVENT
BEGIN:VEVENT
DTSTART;TZID=UTC:20240503T150000
DTEND;TZID=UTC:20240503T200000
DTSTAMP:20260419T215834
CREATED:20240502T091219Z
LAST-MODIFIED:20240502T091219Z
UID:58706-1714748400-1714766400@www.link.uma.es
SUMMARY:1.10. Familiones: Grabación programa
DESCRIPTION:Oficina 1.10 \, 1ª planta de Link by UMA\, de 15 a 20h \nGrabación para Familiones. \nFamiliones es una comunidad para la nueva generación de familias. Ofrecemos programas impartidos por profesionales especialistas en salud y educación. Lo que nos diferencia es nuestra comunidad. Donde tendrás acceso a Chat\, sesiones en directo y eventos presenciales\, para hacer piña .
URL:https://www.link.uma.es/event/1-10-familiones-grabacion-programa-2/
LOCATION:Oficina 1.10\, 1ª planta de Link by UMA
ATTACH;FMTTYPE=image/png:https://www.link.uma.es/wp-content/uploads/2024/04/Familiones.png
ORGANIZER;CN="Paloma Zanon. Familiones":MAILTO:paloma@familiones.com
END:VEVENT
BEGIN:VEVENT
DTSTART;TZID=UTC:20240503T170000
DTEND;TZID=UTC:20240503T203000
DTSTAMP:20260419T215834
CREATED:20240416T105950Z
LAST-MODIFIED:20240502T084315Z
UID:58606-1714755600-1714768200@www.link.uma.es
SUMMARY:CW. Acelera Startups con Laura Melgar Otero
DESCRIPTION:Coworking\, 4ª planta de Link by UMA\, de 17 a 20.30h \nAcelera startups. Procesos digitales en los negocios\, con Laura Melgar Otero. \nEl Programa de Acelera Startups tiene por objetivo facilitar a startups y emprendedores innovadores de todos los sectores\, actividades de asesoramiento especializado orientadas a hacer crecer y desarrollar sus negocios.\nEl plan de aceleración contará con los siguientes servicios:\n● Fase 1: Asesórate de forma especializada en talleres grupales\, donde podrás aplicar el contenido formativo a tu startup en concreto\, para mejorar tu modelo de negocio y sus áreas correspondientes: marketing\, finanzas\, etc.\n● Fase 2: Reúnete con expertos en la mentorización individual\, resuelve dudas y revisa tu plan para impulsar el desarrollo de tu negocio. Sesiones online personalizadas de 2 horas. Un acompañamiento 1 a 1 en el que plantear preguntas sobre los temas más importantes para tu startup.\n● Fase 3: Pitches\, selección para presentaciones a inversores y conexión con el ecosistema empresarial a través de eventos de networking.\n● Fase 4: Sé parte del ecosistema y la comunidad de Impact Hub y mentorDay\, beneficiándote de espacios de coworking para ecosistemas Cataluña\, Andalucía y Canarias\, la herramienta Actúa Sostenible GO\, campañas de Social Ads al 50%\, y más. \nDuración del programa de aceleración: 5 meses \nFormato:\n➔ 1º mes: 15 talleres de 4h.\n➔ 2º mes: 20 sesiones de mentorías de 2h.\n➔ Durante los 5 meses: Se realizará 1 evento mensual de networking.
URL:https://www.link.uma.es/event/2-01-acelera-startups-con-laura-melgar-otero/
LOCATION:Coworking\, 4ª planta de Link by UMA
ATTACH;FMTTYPE=image/jpeg:https://www.link.uma.es/wp-content/uploads/2024/02/logo-acelera-startups.jpg
ORGANIZER;CN="Nacho Mart%C3%ADn. Impact Hub M%C3%A1laga.":MAILTO:nacho.martin@impacthub.net
END:VEVENT
END:VCALENDAR