BEGIN:VCALENDAR
VERSION:2.0
PRODID:-//LINK by UMA-ATech - ECPv6.15.20//NONSGML v1.0//EN
CALSCALE:GREGORIAN
METHOD:PUBLISH
X-WR-CALNAME:LINK by UMA-ATech
X-ORIGINAL-URL:https://www.link.uma.es
X-WR-CALDESC:Eventos para LINK by UMA-ATech
REFRESH-INTERVAL;VALUE=DURATION:PT1H
X-Robots-Tag:noindex
X-PUBLISHED-TTL:PT1H
BEGIN:VTIMEZONE
TZID:UTC
BEGIN:STANDARD
TZOFFSETFROM:+0000
TZOFFSETTO:+0000
TZNAME:UTC
DTSTART:20230101T000000
END:STANDARD
END:VTIMEZONE
BEGIN:VEVENT
DTSTART;TZID=UTC:20240402T103000
DTEND;TZID=UTC:20240402T120000
DTSTAMP:20260419T235427
CREATED:20240221T122555Z
LAST-MODIFIED:20240221T122555Z
UID:58314-1712053800-1712059200@www.link.uma.es
SUMMARY:3.01 Visita estudiantes Grado en Trabajo Social
DESCRIPTION:Sala 3.01\, 3ª planta – 10.30 a 12.00 h \nHoy nos visitan estudiantes del Grado en Trabajo Social\, acompañados por su profesora Aurora Garrido\, para conocer las distintas actividades\, concursos y programas que se organizan desde el Servicio de Empleabilidad y Emprendimiento. \nBievenid@s a Link!!!
URL:https://www.link.uma.es/event/3-01-visita-estudiantes-grado-en-trabajo-social/
LOCATION:Sala 3.01\, Tercera Planta\, Avenida Louis Pasteur\, 47\, Málaga\, Málaga\, 29010\, España
ATTACH;FMTTYPE=image/jpeg:https://www.link.uma.es/wp-content/uploads/2023/03/UMA-PALOMA-vertical.jpg
ORGANIZER;CN="Aurora Garrido - UMA":MAILTO:agarridom@uma.es
END:VEVENT
BEGIN:VEVENT
DTSTART;TZID=UTC:20240402T160000
DTEND;TZID=UTC:20240402T173000
DTSTAMP:20260419T235427
CREATED:20240221T125604Z
LAST-MODIFIED:20240221T125846Z
UID:58316-1712073600-1712079000@www.link.uma.es
SUMMARY:3.01 Visita estudiantes Grado en Trabajo Social
DESCRIPTION:Sala 3.01\, 3ª planta – 16.00 a 17.30 h \nHoy nos visitan estudiantes del Grado en Trabajo Social\, acompañados por su profesora Aurora Garrido\, para conocer las distintas actividades\, concursos y programas que se organizan desde el Servicio de Empleabilidad y Emprendimiento. \nBievenid@s a Link!!!
URL:https://www.link.uma.es/event/3-01-visita-estudiantes-grado-en-trabajo-social-2/
LOCATION:Sala 3.01\, Tercera Planta\, Avenida Louis Pasteur\, 47\, Málaga\, Málaga\, 29010\, España
ATTACH;FMTTYPE=image/jpeg:https://www.link.uma.es/wp-content/uploads/2023/03/UMA-PALOMA-vertical.jpg
ORGANIZER;CN="Aurora Garrido - UMA":MAILTO:agarridom@uma.es
END:VEVENT
END:VCALENDAR