BEGIN:VCALENDAR
VERSION:2.0
PRODID:-//LINK by UMA-ATech - ECPv6.15.20//NONSGML v1.0//EN
CALSCALE:GREGORIAN
METHOD:PUBLISH
X-ORIGINAL-URL:https://www.link.uma.es
X-WR-CALDESC:Eventos para LINK by UMA-ATech
REFRESH-INTERVAL;VALUE=DURATION:PT1H
X-Robots-Tag:noindex
X-PUBLISHED-TTL:PT1H
BEGIN:VTIMEZONE
TZID:UTC
BEGIN:STANDARD
TZOFFSETFROM:+0000
TZOFFSETTO:+0000
TZNAME:UTC
DTSTART:20230101T000000
END:STANDARD
END:VTIMEZONE
BEGIN:VEVENT
DTSTART;TZID=UTC:20240313T080000
DTEND;TZID=UTC:20240313T130000
DTSTAMP:20260419T173143
CREATED:20240305T074732Z
LAST-MODIFIED:20240305T074732Z
UID:58397-1710316800-1710334800@www.link.uma.es
SUMMARY:2.01. Softproject workshop
DESCRIPTION:Sala 2.01\, 2ª planta de Link by UMA\, de 8 a 13h \nWorkshop de Softproject. \nEn Softproject digitalizan con éxito procesos de negocio.
URL:https://www.link.uma.es/event/2-01-softproject-workshop/
LOCATION:Sala 2.01\, Segunda Planta\, Avenida Louis Pasteur\, 47\, Málaga\, Málaga\, 29010\, España
ATTACH;FMTTYPE=image/png:https://www.link.uma.es/wp-content/uploads/2021/10/SoftProject.png
ORGANIZER;CN="Alba Vallejo - SoftProject":MAILTO:alba.vallejo@softproject.es
END:VEVENT
BEGIN:VEVENT
DTSTART;TZID=UTC:20240313T080000
DTEND;TZID=UTC:20240313T170000
DTSTAMP:20260419T173143
CREATED:20240209T110050Z
LAST-MODIFIED:20240209T110050Z
UID:58174-1710316800-1710349200@www.link.uma.es
SUMMARY:2.04. Softproject Workshop
DESCRIPTION:Sala 2.04\, 2ª planta de Link by UMA\, de 8 a 17h \nSoftproject Workshop. \nSoftproject digitaliza procesos de negocio.
URL:https://www.link.uma.es/event/2-04-softproject-workshop-2/
LOCATION:Sala 2.04\, 2ª planta de Link\, Avenida Louis Pasteur\, 47\, Málaga\, Málaga\, 29010\, España
ATTACH;FMTTYPE=image/png:https://www.link.uma.es/wp-content/uploads/2021/10/SoftProject.png
ORGANIZER;CN="Jes%C3%BAs Gonz%C3%A1lez. Soft Project":MAILTO:jesus.gonzalez@softproject.es
END:VEVENT
BEGIN:VEVENT
DTSTART;TZID=UTC:20240313T090000
DTEND;TZID=UTC:20240313T130000
DTSTAMP:20260419T173143
CREATED:20240226T132110Z
LAST-MODIFIED:20240311T081415Z
UID:58350-1710320400-1710334800@www.link.uma.es
SUMMARY:2.02. UNIVERGEM: Práctica presentación proyectos
DESCRIPTION:Sala 2.02\, 2ª planta de Link by UMA\, de 9 a 13h \nLas chicas del programa Univergem ensayan hoy sus presentaciones de proyectos emprendedores. Ánimo y adelante! \nUnivergem tiene como finalidad promover actuaciones innovadoras y contextualizadas para incentivar el empleo\, el autoempleo y el emprendimiento entre las mujeres universitarias\, favoreciendo la igualdad de oportunidades entre mujeres y hombres.
URL:https://www.link.uma.es/event/2-02-univergem-practica-presentacion-proyectos/
LOCATION:Sala 2.02\, 2ª planta
ATTACH;FMTTYPE=image/jpeg:https://www.link.uma.es/wp-content/uploads/2023/09/univergem-logo.jpg
ORGANIZER;CN="Antonia J. Avil%C3%A9s Zugasti. UMA[%3Aen]Antonia Avil%C3%A9s Zugasti. UMA":MAILTO:azugasti@uma.es
END:VEVENT
BEGIN:VEVENT
DTSTART;TZID=UTC:20240313T090000
DTEND;TZID=UTC:20240313T143000
DTSTAMP:20260419T173143
CREATED:20231213T122402Z
LAST-MODIFIED:20240304T112758Z
UID:57862-1710320400-1710340200@www.link.uma.es
SUMMARY:3.01+3.02 . International Conference “Marginality\, inclusion\, and gender in Korea: past and present.”
DESCRIPTION:Salas 3.01 y  3.02\, 3ª planta de Link by UMA\, de 09 a 14.30h \nInternational Conference “Marginality\, inclusion\, and gender in Korea: past and present.”12 y 13 de marzo de 2024 \nLa Conferencia se organiza en el marco del proyecto de investigación Academy of Korean Studies Seed Program for Korean Studies (Advanced Track) «Path to Equality: Korean Studies Network\non inclusiveness» (AKS-2021-INC-2250002) el proyecto nacional I+D+i ASIA-SLAVES «El camino hacia la libertad en el periodo Joseon en Corea: Esclavitud y abolicionismo en el contexto de Asia Oriental» (PID2020-116910GB-I00) y el proyecto de investigación de la Universidad de Málaga «Historias de vida de los esclavos gisaeng coreanos» (B1-2022_07). \nEsta conferencia pretende considerar los procesos interrelacionados de discriminación e integración de grupos sociales dentro de la sociedad coreana desde una amplia perspectiva metodológica y temática. Esta convocatoria de ponencias anima a presentar contribuciones que aborden el análisis del proceso cultural e institucional de la discriminación social en Corea\, así como los movimientos políticos y las transformaciones institucionales dirigidas a la integración de grupos sociales anteriormente discriminados \nWednesday\, 13th March. Rayo Verde Building\, Link by UMA-ATECH \n09.00 – 11:00 PANEL 3A: Social minorities in Korea.\n 09:00-09:20 (9). “Learn to Belong: Filipino Students’ Experiences of Discrimination in South Korea”\, Kristina Rico. Ateneo de Manila University\, Philippines. (*tbc)\n 09:20-09:40 (4). “Welcome back home (?): South Korean reality as seen by koryo-saram migrant minority”\, Andrii Ryzhkov. Universidad Nacional Autónoma de México\n 09:40-10:00(11). “Mexican women in the Republic of Korea”\, Nayelli López. Universidad Nacional Autónoma de México\, Mexico.\n 10:00-10:20 (17). “NaesŏnIlche: Racial Formation and Mixed-Blood Koreans in the Japanese Empire”\, Victoria Caudle. University of California\, Los Angeles\, USA.\n 10:20-10:40 (12). “North Korean defectors in South Korea: religious aspects”\, Nicolas Levi. Institute of Mediterranean and Oriental Cultures at the Polish Academy of Sciences\, Polland.\n20 min Q&A. \nCOFFEE BREAK \n11:30 – 12:20 Panel 3 B: Social minorities in Korea.Aging and motherhood.\n 11:30-11:50 (14). “Re-remembering History and Re-writing Truth: Post-reunion Experiences of Korean Transnational Adoptees and Birth Mothers”\, Sina Lee. Wooster University\, Ohio\, USA.\n 11:50- 12:10 (19). “The Articulations of Unmarried Mothers in Korean Novels since the 1960s”\, Youlim Kim. Ruhr Universität Bochum\, Germany.\n 12:10-12:30 (15). “Exploring Age-Based Conflicts in South Korean Queer Communities: A Sociocultural Analysis”\, Sung Un Gang. Technische Universität Berlin\, Germany.\n20 min Q&A.\n12:50 – 13:50 Panel 4: Social and political activism in Korea.\n 12:50-13:10 (6). “Contested Spaces: Transforming Areas of the Marginalized in Seoul”\, Chungse Jung. SUNY Cortland\, USA.\n 13:10-13:30 (8). “#MeToo Movement: Its Origin and Impact in South Korea and India”\, Goldi Ravindra. Jawaharlal Nehru University\, India.31Wonkeun Lee\n20 min Q&A.\n13:50 – 12:10 Final remarks: Challenge of Korean Society regarding Marginality\, Inclusion and Gender in Korea
URL:https://www.link.uma.es/event/3-02-international-conference-marginality-inclusion-and-gender-in-korea-past-and-present/
LOCATION:Salas 3.01 y 3.02\, 3ª planta
ATTACH;FMTTYPE=image/png:https://www.link.uma.es/wp-content/uploads/2023/12/LOGO_AREA-dpto.png
ORGANIZER;CN="Maria Del Mar Blanco Mercado. Estudios de Asia Oriental. UMA":MAILTO:asiaoriental@uma.es
END:VEVENT
BEGIN:VEVENT
DTSTART;TZID=UTC:20240313T090000
DTEND;TZID=UTC:20240313T180000
DTSTAMP:20260419T173143
CREATED:20240209T125754Z
LAST-MODIFIED:20240301T122642Z
UID:58189-1710320400-1710352800@www.link.uma.es
SUMMARY:CW. II Seminario Interno IGIUMA
DESCRIPTION:Coworking 4ª planta\, de 9 a 18h. \nEl Instituto Universitario de Investigación de Género e Igualdad de la Universidad de Málaga (IGIUMA) es un organismo dedicado fundamentalmente a la investigación\, la formación\, la difusión y el asesoramiento a organismos e instituciones en materia de igualdad y género. \nActualmente el Instituto está conformado por más de un centenar de personas agrupadas en cinco líneas de investigación con el objetivo de aunar esfuerzos para constituirse en un centro de referencia en este ámbito y continuar la labor realizada con anterioridad por los grupos constituidos como tales\, así como por el personal investigador a título individual. \nSEMINARIO INTERNO DEL IGIUMA. EL CUERPO. VISIONES MULTIDISCIPLINARES DESDE UNA PERSPECTIVA DE GÉNERO\n13 DE MARZO: DE 10:00 A 18:00 SEMINARIO EN LA PLANTA 4 DEL GREEN RAY\n10:00-11:00 Presentación a cargo de la Vicerrectora de Igualdad\, la Directora y la Secretaria del IGIUMA\n11:00-12:00 Mesas de trabajo (Presentación de propuestas)\n12:00-12:30 Descanso (Cafetería del Green Ray)\n12:30-13:30 Mesas de trabajo (Presentación de propuestas)\n13:30-15:00 Comida (Cafetería del Green Ray)\n15:00-18:00 Puesta en común mesas de trabajo
URL:https://www.link.uma.es/event/cw-sa-ii-seminario-interno-igiuma/
LOCATION:Coworking\, Cuarta Planta\, Avenida Louis Pasteur\, 47\, Málaga\, Málaga\, 29010\, España
ATTACH;FMTTYPE=image/jpeg:https://www.link.uma.es/wp-content/uploads/2024/02/IGIUMA.jpg
ORGANIZER;CN="Manuel Villalobos Sanchez. IGIUMA.":MAILTO:manu.villalobos@uma.es
END:VEVENT
BEGIN:VEVENT
DTSTART;TZID=UTC:20240313T170000
DTEND;TZID=UTC:20240313T203000
DTSTAMP:20260419T173143
CREATED:20240206T131807Z
LAST-MODIFIED:20240222T080250Z
UID:58157-1710349200-1710361800@www.link.uma.es
SUMMARY:2.04. Acelera Startups con Jesús Vivas
DESCRIPTION:Sala 2.04\, 4ª planta de Link by UMA\, de 17 a 20.30h \nTaller 15. Tecnologías para la innovación y los negocios digitales con Jesús Vivas. \nEl Programa de Acelera Startups tiene por objetivo facilitar a startups y emprendedores innovadores de todos los sectores\, actividades de asesoramiento especializado orientadas a hacer crecer y desarrollar sus negocios.\nEl plan de aceleración contará con los siguientes servicios:\n● Fase 1: Asesórate de forma especializada en talleres grupales\, donde podrás aplicar el contenido formativo a tu startup en concreto\, para mejorar tu modelo de negocio y sus áreas correspondientes: marketing\, finanzas\, etc.\n● Fase 2: Reúnete con expertos en la mentorización individual\, resuelve dudas y revisa tu plan para impulsar el desarrollo de tu negocio. Sesiones online personalizadas de 2 horas. Un acompañamiento 1 a 1 en el que plantear preguntas sobre los temas más importantes para tu startup.\n● Fase 3: Pitches\, selección para presentaciones a inversores y conexión con el ecosistema empresarial a través de eventos de networking.\n● Fase 4: Sé parte del ecosistema y la comunidad de Impact Hub y mentorDay\, beneficiándote de espacios de coworking para ecosistemas Cataluña\, Andalucía y Canarias\, la herramienta Actúa Sostenible GO\, campañas de Social Ads al 50%\, y más. \nDuración del programa de aceleración: 5 meses \nFormato:\n➔ 1º mes: 15 talleres de 4h.\n➔ 2º mes: 20 sesiones de mentorías de 2h.\n➔ Durante los 5 meses: Se realizará 1 evento mensual de networking.
URL:https://www.link.uma.es/event/2-01-acelera-startups-con-jesus-vivas/
LOCATION:Sala 2.04\, 2ª planta de Link\, Avenida Louis Pasteur\, 47\, Málaga\, Málaga\, 29010\, España
ATTACH;FMTTYPE=image/jpeg:https://www.link.uma.es/wp-content/uploads/2024/02/logo-acelera-startups.jpg
ORGANIZER;CN="Nacho Mart%C3%ADn. Impact Hub M%C3%A1laga.":MAILTO:nacho.martin@impacthub.net
END:VEVENT
END:VCALENDAR