BEGIN:VCALENDAR
VERSION:2.0
PRODID:-//LINK by UMA-ATech - ECPv6.15.20//NONSGML v1.0//EN
CALSCALE:GREGORIAN
METHOD:PUBLISH
X-ORIGINAL-URL:https://www.link.uma.es
X-WR-CALDESC:Eventos para LINK by UMA-ATech
REFRESH-INTERVAL;VALUE=DURATION:PT1H
X-Robots-Tag:noindex
X-PUBLISHED-TTL:PT1H
BEGIN:VTIMEZONE
TZID:UTC
BEGIN:STANDARD
TZOFFSETFROM:+0000
TZOFFSETTO:+0000
TZNAME:UTC
DTSTART:20230101T000000
END:STANDARD
END:VTIMEZONE
BEGIN:VEVENT
DTSTART;TZID=UTC:20240223T090000
DTEND;TZID=UTC:20240223T100000
DTSTAMP:20260420T015333
CREATED:20240222T073246Z
LAST-MODIFIED:20240222T073246Z
UID:58328-1708678800-1708682400@www.link.uma.es
SUMMARY:S.A. IHSM con alumnado Bioquímica
DESCRIPTION:Salón de Actos\, planta baja\, de 9 a 10h \nReunión de integrantes del Instituto de Hortofruticultura Subtropical y Mediterránea –IHSM- con alumnado de Bioquímica. Bienvenidos a Link by UMA! \nEl Instituto de Hortofruticultura Subtropical y Mediterránea «La Mayora» fue creado para unir los esfuerzos de los grupos de la preexistente Estación Experimental «La Mayora» del Consejo Superior de Investigaciones Científicas (EELM-CSIC) y grupos de varios departamentos de la Universidad de Málaga (UMA) para potenciar y coordinar más eficientemente la investigación científica en horticultura intensiva y fruticultura subtropical que venía desarrollándose en las dos entidades.
URL:https://www.link.uma.es/event/s-a-ihsm-con-alumnado-bioquimica/
LOCATION:Salón de Actos\, Planta Baja\, Avenida Louis Pasteur\, 47\, Málaga\, Málaga\, 29010\, España
ATTACH;FMTTYPE=image/png:https://www.link.uma.es/wp-content/uploads/2021/09/logo_IHSMpng.png
ORGANIZER;CN="Eduardo Rodr%C3%ADguez Bejarano. IHSM":MAILTO:Edu_rodri@uma.es
END:VEVENT
BEGIN:VEVENT
DTSTART;TZID=UTC:20240223T090000
DTEND;TZID=UTC:20240223T113000
DTSTAMP:20260420T015333
CREATED:20240209T120447Z
LAST-MODIFIED:20240209T120447Z
UID:58184-1708678800-1708687800@www.link.uma.es
SUMMARY:CW. Reunión CEUMA
DESCRIPTION:Coworking\, 4ª planta de Link by UMA\, de 9 a 11.30h \nEl Consejo de Estudiantes de la Universidad de Málaga es el máximo órgano de representación de estudiantes de la universidad\, formado únicamente por estudiantes de los distintos centros. \nNuestra responsabilidad es velar por los derechos e intereses de los estudiantes. En la Universidad Pública las decisiones se deben tomar democráticamente a través de órganos donde\, de principio a fin\,  los estudiantes también tenemos participación y capacidad de decisión. Es muy importante que haya estudiantes en estos órganos\, no solo porque tenemos derecho a decidir\, sino porque debemos defender una educación que proteja a los estudiantes y que sea de calidad\, además de promover una universidad llena de actividades interesantes.
URL:https://www.link.uma.es/event/cw-reunion-ceuma/
LOCATION:Coworking\, Cuarta Planta\, Avenida Louis Pasteur\, 47\, Málaga\, Málaga\, 29010\, España
ATTACH;FMTTYPE=image/png:https://www.link.uma.es/wp-content/uploads/2024/02/CEUMA.png
ORGANIZER;CN="M%C2%AA Jos%C3%A9 S%C3%A1nchez G%C3%A1lvez. Gabinete del Rector.":MAILTO:mjsanchezg@uma.es
END:VEVENT
BEGIN:VEVENT
DTSTART;TZID=UTC:20240223T093000
DTEND;TZID=UTC:20240223T133000
DTSTAMP:20260420T015333
CREATED:20240130T111118Z
LAST-MODIFIED:20240130T111118Z
UID:58043-1708680600-1708695000@www.link.uma.es
SUMMARY:2.02. UNIVERGEM: Emprendimiento y autoempleo
DESCRIPTION:Sala 2.02\, 2ª planta de Link by UMA\, de 9.30 a 13.30h \nUNIVERGEM: Emprendimiento y autoempleo como opción profesional. Taller impartido por Diverxia Consulting. \nUnivergem tiene como finalidad promover actuaciones innovadoras y contextualizadas para incentivar el empleo\, el autoempleo y el emprendimiento entre las mujeres universitarias\, favoreciendo la igualdad de oportunidades entre mujeres y hombres.
URL:https://www.link.uma.es/event/2-02-univergem-emprendimiento-y-autoempleo-7/
LOCATION:Sala 2.02\, 2ª planta
ATTACH;FMTTYPE=image/jpeg:https://www.link.uma.es/wp-content/uploads/2023/09/univergem-logo.jpg
ORGANIZER;CN="Antonia J. Avil%C3%A9s Zugasti. UMA[%3Aen]Antonia Avil%C3%A9s Zugasti. UMA":MAILTO:azugasti@uma.es
END:VEVENT
BEGIN:VEVENT
DTSTART;TZID=UTC:20240223T150000
DTEND;TZID=UTC:20240223T190000
DTSTAMP:20260420T015334
CREATED:20240119T080952Z
LAST-MODIFIED:20240119T080952Z
UID:57984-1708700400-1708714800@www.link.uma.es
SUMMARY:2.01. Reunión AIESEC
DESCRIPTION:Sala 2.01\, 2ª planta de Link by UMA\, de 15 A 19h. \nAIESEC es la organización global liderada por jóvenes más grande del mundo que busca el desarrollo de liderazgo en los jóvenes a través de oportunidades en el entorno internacional. Conectamos jóvenes con proyectos en el extranjero\, donde pueden aprender más sobre otras culturas y trabajar en su propio crecimiento. Su objetivo es el desarrollo del liderazgo en los jóvenes a través de experiencias prácticas en ambientes retadores.
URL:https://www.link.uma.es/event/2-01-reunion-aiesec-17/
LOCATION:Sala 2.01\, Segunda Planta\, Avenida Louis Pasteur\, 47\, Málaga\, Málaga\, 29010\, España
ATTACH;FMTTYPE=image/png:https://www.link.uma.es/wp-content/uploads/2024/01/aiesec_logo.png
END:VEVENT
END:VCALENDAR