BEGIN:VCALENDAR
VERSION:2.0
PRODID:-//LINK by UMA-ATech - ECPv6.15.20//NONSGML v1.0//EN
CALSCALE:GREGORIAN
METHOD:PUBLISH
X-WR-CALNAME:LINK by UMA-ATech
X-ORIGINAL-URL:https://www.link.uma.es
X-WR-CALDESC:Eventos para LINK by UMA-ATech
REFRESH-INTERVAL;VALUE=DURATION:PT1H
X-Robots-Tag:noindex
X-PUBLISHED-TTL:PT1H
BEGIN:VTIMEZONE
TZID:UTC
BEGIN:STANDARD
TZOFFSETFROM:+0000
TZOFFSETTO:+0000
TZNAME:UTC
DTSTART:20230101T000000
END:STANDARD
END:VTIMEZONE
BEGIN:VEVENT
DTSTART;TZID=UTC:20240221T100000
DTEND;TZID=UTC:20240221T120000
DTSTAMP:20260423T201133
CREATED:20240213T121118Z
LAST-MODIFIED:20240213T121118Z
UID:58222-1708509600-1708516800@www.link.uma.es
SUMMARY:2.04 Miércoles x la Orientación
DESCRIPTION:Sala 2.04\, 2ª planta – 10.00 a 12.00 h \nSesión presencial dirigida al alumnado de los Cursos Online  de Formación en Competencias: \n1. Enfoca tu futuro 2. Actitud Emprendedora 3. Soft&Digital Skills \nSi ya eres alumno/a es necesario inscripción previa a través de Campus Virtual https://empleabilidad.cv.uma.es/mod/scheduler/view.php?id=4285 \nPara ello\, entra en tu curso y sigue estos pasos: 1. Pincha en la pestaña Evaluación 2. Pincha Sesión presencial («Compartiendo lo aprendido») 3. Inscríbete el miércoles que más te interese \nOBJETIVO DE LA SESIÓN: \nTe rodean múltiples recursos para ayudarte a conseguir el puesto de trabajo que te interesa o para poner en marcha tu proyecto empresarial\, ¿los conoces? En este taller te mostraremos el amplio abanico que tanto tu universidad como otras entidades malagueñas y andaluzas te pueden ofrecer \nCONTENIDOS: \nRecursos formativos. \nProgramas de prácticas en empresas a nivel nacional e internacional. \nProgramas de acceso al empleo dirigido a jóvenes. \nHorario: 10:00-12:00 h \n¿Dónde? Sala 2.04 (Segunda Planta) Edif. The Green Ray\, Avenida Louis Pasteur\, 4\, 29010 Málaga \n(Campus: Extensión Teatinos)
URL:https://www.link.uma.es/event/2-04-miercoles-x-la-orientacion-2/
LOCATION:Sala 2.04\, 2ª planta de Link\, Avenida Louis Pasteur\, 47\, Málaga\, Málaga\, 29010\, España
ATTACH;FMTTYPE=image/jpeg:https://www.link.uma.es/wp-content/uploads/2022/10/miercoles-pro-el-empleo.jpg
ORGANIZER;CN="Laura Marcos. Orientaci%C3%B3n UMA":MAILTO:lauramarcos@uma.es
END:VEVENT
BEGIN:VEVENT
DTSTART;TZID=UTC:20240221T170000
DTEND;TZID=UTC:20240221T203000
DTSTAMP:20260423T201133
CREATED:20240206T123355Z
LAST-MODIFIED:20240222T074839Z
UID:58128-1708534800-1708547400@www.link.uma.es
SUMMARY:CW. Acelera Startups con Eduardo Martín Prieto
DESCRIPTION:Coworking\, 4ª planta de Link by UMA\, de 17 a 20.30h \nTaller III. Desarrollo Comercial I: Estrategia de marketing y gestión comercial\, con Eduardo Martín Prieto. \nEl Programa de Acelera Startups tiene por objetivo facilitar a startups y emprendedores innovadores de todos los sectores\, actividades de asesoramiento especializado orientadas a hacer crecer y desarrollar sus negocios.\nEl plan de aceleración contará con los siguientes servicios:\n● Fase 1: Asesórate de forma especializada en talleres grupales\, donde podrás aplicar el contenido formativo a tu startup en concreto\, para mejorar tu modelo de negocio y sus áreas correspondientes: marketing\, finanzas\, etc.\n● Fase 2: Reúnete con expertos en la mentorización individual\, resuelve dudas y revisa tu plan para impulsar el desarrollo de tu negocio. Sesiones online personalizadas de 2 horas. Un acompañamiento 1 a 1 en el que plantear preguntas sobre los temas más importantes para tu startup.\n● Fase 3: Pitches\, selección para presentaciones a inversores y conexión con el ecosistema empresarial a través de eventos de networking.\n● Fase 4: Sé parte del ecosistema y la comunidad de Impact Hub y mentorDay\, beneficiándote de espacios de coworking para ecosistemas Cataluña\, Andalucía y Canarias\, la herramienta Actúa Sostenible GO\, campañas de Social Ads al 50%\, y más. \nDuración del programa de aceleración: 5 meses \nFormato:\n➔ 1º mes: 15 talleres de 4h.\n➔ 2º mes: 20 sesiones de mentorías de 2h.\n➔ Durante los 5 meses: Se realizará 1 evento mensual de networking.
URL:https://www.link.uma.es/event/2-01-acelera-startups-con-eduardo-martin-prieto/
LOCATION:Coworking\, 4ª planta de Link by UMA
ATTACH;FMTTYPE=image/jpeg:https://www.link.uma.es/wp-content/uploads/2024/02/logo-acelera-startups.jpg
ORGANIZER;CN="Nacho Mart%C3%ADn. Impact Hub M%C3%A1laga.":MAILTO:nacho.martin@impacthub.net
END:VEVENT
END:VCALENDAR