BEGIN:VCALENDAR
VERSION:2.0
PRODID:-//LINK by UMA-ATech - ECPv6.15.20//NONSGML v1.0//EN
CALSCALE:GREGORIAN
METHOD:PUBLISH
X-ORIGINAL-URL:https://www.link.uma.es
X-WR-CALDESC:Eventos para LINK by UMA-ATech
REFRESH-INTERVAL;VALUE=DURATION:PT1H
X-Robots-Tag:noindex
X-PUBLISHED-TTL:PT1H
BEGIN:VTIMEZONE
TZID:UTC
BEGIN:STANDARD
TZOFFSETFROM:+0000
TZOFFSETTO:+0000
TZNAME:UTC
DTSTART:20230101T000000
END:STANDARD
END:VTIMEZONE
BEGIN:VEVENT
DTSTART;TZID=UTC:20240202T150000
DTEND;TZID=UTC:20240202T190000
DTSTAMP:20260422T163117
CREATED:20240119T074312Z
LAST-MODIFIED:20240119T074312Z
UID:57969-1706886000-1706900400@www.link.uma.es
SUMMARY:CW. Reunión AIESEC
DESCRIPTION:Coworking\, 4ª planta de Link by UMA\, de 15 a 19h. \nAIESEC es la organización global liderada por jóvenes más grande del mundo que busca el desarrollo de liderazgo en los jóvenes a través de oportunidades en el entorno internacional. Conectamos jóvenes con proyectos en el extranjero\, donde pueden aprender más sobre otras culturas y trabajar en su propio crecimiento. Su objetivo es el desarrollo del liderazgo en los jóvenes a través de experiencias prácticas en ambientes retadores.
URL:https://www.link.uma.es/event/cw-reunion-aiesec/
LOCATION:Coworking\, Cuarta Planta\, Avenida Louis Pasteur\, 47\, Málaga\, Málaga\, 29010\, España
ATTACH;FMTTYPE=image/png:https://www.link.uma.es/wp-content/uploads/2024/01/aiesec_logo.png
END:VEVENT
END:VCALENDAR