BEGIN:VCALENDAR
VERSION:2.0
PRODID:-//LINK by UMA-ATech - ECPv6.15.20//NONSGML v1.0//EN
CALSCALE:GREGORIAN
METHOD:PUBLISH
X-WR-CALNAME:LINK by UMA-ATech
X-ORIGINAL-URL:https://www.link.uma.es
X-WR-CALDESC:Eventos para LINK by UMA-ATech
REFRESH-INTERVAL;VALUE=DURATION:PT1H
X-Robots-Tag:noindex
X-PUBLISHED-TTL:PT1H
BEGIN:VTIMEZONE
TZID:UTC
BEGIN:STANDARD
TZOFFSETFROM:+0000
TZOFFSETTO:+0000
TZNAME:UTC
DTSTART:20230101T000000
END:STANDARD
END:VTIMEZONE
BEGIN:VEVENT
DTSTART;TZID=UTC:20240117T163000
DTEND;TZID=UTC:20240117T200000
DTSTAMP:20260422T125721
CREATED:20231215T100241Z
LAST-MODIFIED:20231215T100241Z
UID:57885-1705509000-1705521600@www.link.uma.es
SUMMARY:CW_ Máster Desarrollos Sociales de la Cultura Artística
DESCRIPTION:Impartición de la asignatura «Narrativas y curadurías digitales» perteneciente al Máster en Desarrollos Sociales de la Cultura Artística \n  \n 
URL:https://www.link.uma.es/event/cw_-master-desarrollos-sociales-de-la-cultura-artistica/
LOCATION:Coworking\, Cuarta Planta\, Avenida Louis Pasteur\, 47\, Málaga\, Málaga\, 29010\, España
ATTACH;FMTTYPE=image/png:https://www.link.uma.es/wp-content/uploads/2023/10/MDSCA-logo-2018.png
ORGANIZER;CN="Nuria Rodr%C3%ADguez Ortega":MAILTO:nro@uma.es
END:VEVENT
END:VCALENDAR