BEGIN:VCALENDAR
VERSION:2.0
PRODID:-//LINK by UMA-ATech - ECPv6.15.20//NONSGML v1.0//EN
CALSCALE:GREGORIAN
METHOD:PUBLISH
X-ORIGINAL-URL:https://www.link.uma.es
X-WR-CALDESC:Eventos para LINK by UMA-ATech
REFRESH-INTERVAL;VALUE=DURATION:PT1H
X-Robots-Tag:noindex
X-PUBLISHED-TTL:PT1H
BEGIN:VTIMEZONE
TZID:UTC
BEGIN:STANDARD
TZOFFSETFROM:+0000
TZOFFSETTO:+0000
TZNAME:UTC
DTSTART:20230101T000000
END:STANDARD
END:VTIMEZONE
BEGIN:VEVENT
DTSTART;TZID=UTC:20240109T140000
DTEND;TZID=UTC:20240109T200000
DTSTAMP:20260420T072207
CREATED:20240108T123425Z
LAST-MODIFIED:20240108T123726Z
UID:57924-1704808800-1704830400@www.link.uma.es
SUMMARY:2.01. Agrow Analytics
DESCRIPTION:Sala 2.01\, de 14 a 20h. \nReunión de equipo Agrow Analytics. \nAgrow Analytics es una plataforma dedicada al seguimiento en tiempo real y a futuro del agua disponible en las parcelas y su efecto en los cultivos.
URL:https://www.link.uma.es/event/2-01-agrow-analitycs/
LOCATION:Sala 2.01\, Segunda Planta\, Avenida Louis Pasteur\, 47\, Málaga\, Málaga\, 29010\, España
ATTACH;FMTTYPE=image/png:https://www.link.uma.es/wp-content/uploads/2024/01/Agrow-Analytics.png
ORGANIZER;CN="Antonella Maggioni. Agrow Analytics":MAILTO:antonella@agrowanalytics.com
END:VEVENT
END:VCALENDAR