BEGIN:VCALENDAR
VERSION:2.0
PRODID:-//LINK by UMA-ATech - ECPv6.15.20//NONSGML v1.0//EN
CALSCALE:GREGORIAN
METHOD:PUBLISH
X-WR-CALNAME:LINK by UMA-ATech
X-ORIGINAL-URL:https://www.link.uma.es
X-WR-CALDESC:Eventos para LINK by UMA-ATech
REFRESH-INTERVAL;VALUE=DURATION:PT1H
X-Robots-Tag:noindex
X-PUBLISHED-TTL:PT1H
BEGIN:VTIMEZONE
TZID:UTC
BEGIN:STANDARD
TZOFFSETFROM:+0000
TZOFFSETTO:+0000
TZNAME:UTC
DTSTART:20220101T000000
END:STANDARD
END:VTIMEZONE
BEGIN:VEVENT
DTSTART;TZID=UTC:20231221T100000
DTEND;TZID=UTC:20231221T140000
DTSTAMP:20260419T135415
CREATED:20231211T123949Z
LAST-MODIFIED:20231211T123949Z
UID:57830-1703152800-1703167200@www.link.uma.es
SUMMARY:2.01. Rebs: reunión de equipo
DESCRIPTION:Sala 2.01\, 2ª planta de Link by UMA\, de 10 a 14h. \nReunión de equipo REBS. Real Estate Business School
URL:https://www.link.uma.es/event/2-01-rebs-reunion-de-equipo/
LOCATION:Sala 2.01\, Segunda Planta\, Avenida Louis Pasteur\, 47\, Málaga\, Málaga\, 29010\, España
ATTACH;FMTTYPE=image/png:https://www.link.uma.es/wp-content/uploads/2022/05/Rebs.png
ORGANIZER;CN="Carmen Herrera - Talent by Rebs":MAILTO:carmenherrera@rebs-edu.com
END:VEVENT
BEGIN:VEVENT
DTSTART;TZID=UTC:20231221T100000
DTEND;TZID=UTC:20231221T140000
DTSTAMP:20260419T135415
CREATED:20231218T095846Z
LAST-MODIFIED:20231218T095846Z
UID:57904-1703152800-1703167200@www.link.uma.es
SUMMARY:3.02. Polaris Mentoring
DESCRIPTION:Sala 3.02\, 3ª planta de Link by UMA\, de 10 a 14h. \nMesa redonda de Polaris Mentoring\, en la que pondrán en común el progreso de los distintos proyectos Spin-Off hasta la fecha. \nPolaris Mentoring permite a los proyectos contar con el asesoramiento de un mentor general\, profesional en el ámbito de creación y consolidación empresarial\, que les guiará durante todo el programa\, y con un seguimiento por parte de mentores especialistas en materias específicas de apoyo esenciales para su negocio.
URL:https://www.link.uma.es/event/3-02-polaris-mentoring/
LOCATION:Sala 3.02\, Tercera Planta\, Avenida Louis Pasteur\, 47\, Málaga\, Málaga\, 29010\, España
ATTACH;FMTTYPE=image/jpeg:https://www.link.uma.es/wp-content/uploads/2020/04/POLARIS-MENTORING-CIRCULO.jpg
ORGANIZER;CN="Pepe de la Varga. UMA":MAILTO:jmdelavarga@uma.es
END:VEVENT
END:VCALENDAR