BEGIN:VCALENDAR
VERSION:2.0
PRODID:-//LINK by UMA-ATech - ECPv6.15.20//NONSGML v1.0//EN
CALSCALE:GREGORIAN
METHOD:PUBLISH
X-WR-CALNAME:LINK by UMA-ATech
X-ORIGINAL-URL:https://www.link.uma.es
X-WR-CALDESC:Eventos para LINK by UMA-ATech
REFRESH-INTERVAL;VALUE=DURATION:PT1H
X-Robots-Tag:noindex
X-PUBLISHED-TTL:PT1H
BEGIN:VTIMEZONE
TZID:UTC
BEGIN:STANDARD
TZOFFSETFROM:+0000
TZOFFSETTO:+0000
TZNAME:UTC
DTSTART:20220101T000000
END:STANDARD
END:VTIMEZONE
BEGIN:VEVENT
DTSTART;TZID=UTC:20231213T090000
DTEND;TZID=UTC:20231213T163000
DTSTAMP:20260419T162627
CREATED:20231017T063300Z
LAST-MODIFIED:20231017T063300Z
UID:57397-1702458000-1702485000@www.link.uma.es
SUMMARY:CW. MGE & Cultura_🔧🔩 Diseñamos juntos 2024 📑
DESCRIPTION:Reunión interna OPPLUS: Sesión de trabajo conjunta entre el rol Mánager de Gestión de Equipo y Cultura.
URL:https://www.link.uma.es/event/cw-mge-cultura_%f0%9f%94%a7%f0%9f%94%a9-disenamos-juntos-2024-%f0%9f%93%91/
LOCATION:Coworking\, Cuarta Planta\, Avenida Louis Pasteur\, 47\, Málaga\, Málaga\, 29010\, España
ATTACH;FMTTYPE=image/png:https://www.link.uma.es/wp-content/uploads/2023/10/Logotipo_Grupo_Opplus_Descriptivo.png
ORGANIZER;CN="Ana Resola":MAILTO:ana.resola.jimenez@opplus.bbva.com
END:VEVENT
BEGIN:VEVENT
DTSTART;TZID=UTC:20231213T100000
DTEND;TZID=UTC:20231213T120000
DTSTAMP:20260419T162627
CREATED:20231205T120613Z
LAST-MODIFIED:20231205T120613Z
UID:57819-1702461600-1702468800@www.link.uma.es
SUMMARY:2.04. Miércoles por la Orientación
DESCRIPTION:Sala 2.04\, 2ª planta – 10.00 a 12.00 h \nSesión presencial dirigida al alumnado de los Cursos Online  de Formación en Competencias: \n1. Enfoca tu futuro \n2. Actitud Emprendedora \n3. Soft&Digital Skills \nSi ya eres alumno/a es necesario inscripción previa a través de Campus Virtual https://empleabilidad.cv.uma.es/mod/scheduler/view.php?id=4285 \nPara ello\, entra en tu curso y sigue estos pasos: 1. Pincha en la pestaña Evaluación 2. Pincha Sesión presencial («Compartiendo lo aprendido») 3. Inscríbete el miércoles que más te interese \nOBJETIVO DE LA SESIÓN: \nTe rodean múltiples recursos para ayudarte a conseguir el puesto de trabajo que te interesa o para poner en marcha tu proyecto empresarial\, ¿los conoces? En este taller te mostraremos el amplio abanico que tanto tu universidad como otras entidades malagueñas y andaluzas te pueden ofrecer \nCONTENIDOS: \nRecursos formativos. \nProgramas de prácticas en empresas a nivel nacional e internacional. \nProgramas de acceso al empleo dirigido a jóvenes. \nHorario: 10:00-12:00 h \n¿Dónde? Sala 2.04 (Segunda Planta) Edif. The Green Ray\, Avenida Louis Pasteur\, 4\, 29010 Málaga \n(Campus: Extensión Teatinos)
URL:https://www.link.uma.es/event/2-04-miercoles-por-la-orientacion-2/
LOCATION:Sala 2.04\, 2ª planta de Link\, Avenida Louis Pasteur\, 47\, Málaga\, Málaga\, 29010\, España
ATTACH;FMTTYPE=image/jpeg:https://www.link.uma.es/wp-content/uploads/2022/10/miercoles-pro-el-empleo.jpg
ORGANIZER;CN="Laura Marcos. Orientaci%C3%B3n UMA":MAILTO:lauramarcos@uma.es
END:VEVENT
BEGIN:VEVENT
DTSTART;TZID=UTC:20231213T100000
DTEND;TZID=UTC:20231213T180000
DTSTAMP:20260419T162627
CREATED:20231025T121419Z
LAST-MODIFIED:20231025T121419Z
UID:57488-1702461600-1702490400@www.link.uma.es
SUMMARY:2.01 Seminario de investigación "Religiosity in Early Modern Joseon & Europe"
DESCRIPTION:Este primer seminario de investigación entre la Universidad de Oxford y la Universidad de Málaga explorará de forma crítica distintos modelos\, prácticas y debates sobre la religiosidad en la edad moderna en la Península de Corea y Europa. Este primer seminario comparativo espera plantear las bases para una futura línea de investigación al respecto y una mayor colaboración en el futuro entre los equipos investigadores de ambas universidades.
URL:https://www.link.uma.es/event/2-01-seminario-de-investigacion-religiosity-in-early-modern-joseon-europe/
LOCATION:Sala 2.01. 2ª planta
ATTACH;FMTTYPE=image/jpeg:https://www.link.uma.es/wp-content/uploads/2023/10/Seminario_Religiosity_in_early_modern_Korea_and_Europe.jpg
ORGANIZER;CN="Luis Alberto Botella S%C3%A1nchez":MAILTO:luisbotella@uma.es
END:VEVENT
BEGIN:VEVENT
DTSTART;TZID=UTC:20231213T163000
DTEND;TZID=UTC:20231213T200000
DTSTAMP:20260419T162627
CREATED:20231011T111238Z
LAST-MODIFIED:20231011T111238Z
UID:57366-1702485000-1702497600@www.link.uma.es
SUMMARY:3.01+3.02 Máster en Desarrollos sociales de la Cultura artística
DESCRIPTION:En esta sesión se impartirá la asignatura «Cultura Artística y Sociedad posdigital» perteneciente al Máster en Desarrollos sociales de la cultura artística de la Facultad de Filosofía y Letras
URL:https://www.link.uma.es/event/3-013-02-master-en-desarrollos-sociales-de-la-cultura-artistica-4/
LOCATION:Sala 3.01 y 3.02\, 3ª planta de Link
ATTACH;FMTTYPE=image/png:https://www.link.uma.es/wp-content/uploads/2023/10/MDSCA-logo-2018.png
ORGANIZER;CN="Nuria Rodr%C3%ADguez Ortega":MAILTO:nro@uma.es
END:VEVENT
BEGIN:VEVENT
DTSTART;TZID=UTC:20231213T163000
DTEND;TZID=UTC:20231213T200000
DTSTAMP:20260419T162627
CREATED:20231212T132926Z
LAST-MODIFIED:20231212T133055Z
UID:57845-1702485000-1702497600@www.link.uma.es
SUMMARY:CW: Narrativas y curadurías digitales
DESCRIPTION:Coworking\, 4ª planta de Link by UMA\, de 16.30 a 20h \nImpartición de la asignatura «Narrativas y cradurías digitales»\, por Nuria Rodríguez\, perteneciente al máster en Desarrollos Sociales de la Cultura Artística. \n 
URL:https://www.link.uma.es/event/cw-narrativas-y-curadurias-digitales/
LOCATION:Coworking\, 4ª planta de Link by UMA
ATTACH;FMTTYPE=image/png:https://www.link.uma.es/wp-content/uploads/2023/10/MDSCA-logo-2018-1.png
ORGANIZER;CN="Nuria Rodr%C3%ADguez Ortega.  Professor and Chair%2C Art History Department University of M%C3%A1laga":MAILTO:nro@uma.es
END:VEVENT
END:VCALENDAR