BEGIN:VCALENDAR
VERSION:2.0
PRODID:-//LINK by UMA-ATech - ECPv6.15.20//NONSGML v1.0//EN
CALSCALE:GREGORIAN
METHOD:PUBLISH
X-WR-CALNAME:LINK by UMA-ATech
X-ORIGINAL-URL:https://www.link.uma.es
X-WR-CALDESC:Eventos para LINK by UMA-ATech
REFRESH-INTERVAL;VALUE=DURATION:PT1H
X-Robots-Tag:noindex
X-PUBLISHED-TTL:PT1H
BEGIN:VTIMEZONE
TZID:UTC
BEGIN:STANDARD
TZOFFSETFROM:+0000
TZOFFSETTO:+0000
TZNAME:UTC
DTSTART:20220101T000000
END:STANDARD
END:VTIMEZONE
BEGIN:VEVENT
DTSTART;TZID=UTC:20231128T080000
DTEND;TZID=UTC:20231128T170000
DTSTAMP:20260420T031051
CREATED:20231122T130500Z
LAST-MODIFIED:20231122T130500Z
UID:57728-1701158400-1701190800@www.link.uma.es
SUMMARY:2.02 Reunión Opplus
DESCRIPTION:Reunión interna Opplus
URL:https://www.link.uma.es/event/2-02-reunion-opplus/
LOCATION:Sala 2.02\, 2ª planta
ATTACH;FMTTYPE=image/png:https://www.link.uma.es/wp-content/uploads/2023/10/Logotipo_Grupo_Opplus_Descriptivo.png
ORGANIZER;CN="Nicol%C3%A1s Gelabert Mart%C3%ADn":MAILTO:nicolas.gelabert@opplus.bbva.com
END:VEVENT
BEGIN:VEVENT
DTSTART;TZID=UTC:20231128T133000
DTEND;TZID=UTC:20231128T153000
DTSTAMP:20260420T031051
CREATED:20231027T115925Z
LAST-MODIFIED:20231027T115925Z
UID:57513-1701178200-1701185400@www.link.uma.es
SUMMARY:2.01 Grabación programa de Radio FEST
DESCRIPTION:Trabajo práctico con estudiantes del Grado de Estudios en Asia Oriental para conocer y utilizar un estudio de radio\, experiencia que les servirá  para la elaboración de programas informativos de radio
URL:https://www.link.uma.es/event/2-01-grabacion-programa-de-radio-fest/
LOCATION:Sala 2.01
ATTACH;FMTTYPE=image/jpeg:https://www.link.uma.es/wp-content/uploads/2023/10/logo-FEST.jpg
ORGANIZER;CN="Francisco Javier Moreno G%C3%A1lvez":MAILTO:javiermorenog@uma.es
END:VEVENT
BEGIN:VEVENT
DTSTART;TZID=UTC:20231128T150000
DTEND;TZID=UTC:20231128T183000
DTSTAMP:20260420T031051
CREATED:20231124T081612Z
LAST-MODIFIED:20231127T125512Z
UID:57743-1701183600-1701196200@www.link.uma.es
SUMMARY:2.01. "La 24" Podcast: Ensayo Técnico
DESCRIPTION:Sala 2.01. segunda planta de Link by UMA\, de 15:00 a 18:30h. \n«La 24» es un podcast innovador y entretenido que explora el emocionante mundo de la tecnología y las startups tecnológicas desde la perspectiva de tres jóvenes emprendedores y universitarios con diferentes profesiones y orígenes culturales. Con Expe Avomo\, Data Scientist y estudiante del grado de Ingeniería de Telecomunicaciones; Martín Huertas\, estudiante del Grado en Ciencias Gastronómicas y Gestión Hotelera; y Samuel Mula\, estudiante del Grado en Sistemas Electrónicos; este podcast ofrece una visión fresca y multicultural de la escena tecnológica en constante\ncrecimiento. «La 24» se convierte en un escaparate para proyectos destacados a nivel nacional e internacional\, aprovechando el auge tecnológico global.
URL:https://www.link.uma.es/event/2-01-la-24-podcast-ensayo-tecnico/
LOCATION:Sala 2.01\, Segunda Planta\, Avenida Louis Pasteur\, 47\, Málaga\, Málaga\, 29010\, España
ATTACH;FMTTYPE=image/jpeg:https://www.link.uma.es/wp-content/uploads/2023/11/00_Portada_Podcast_La_24-scaled.jpg
ORGANIZER;CN="Exp%C3%A9dito Salvador Obiang":MAILTO:soyexpeavomo@gmail.com
END:VEVENT
END:VCALENDAR