BEGIN:VCALENDAR
VERSION:2.0
PRODID:-//LINK by UMA-ATech - ECPv6.15.20//NONSGML v1.0//EN
CALSCALE:GREGORIAN
METHOD:PUBLISH
X-ORIGINAL-URL:https://www.link.uma.es
X-WR-CALDESC:Eventos para LINK by UMA-ATech
REFRESH-INTERVAL;VALUE=DURATION:PT1H
X-Robots-Tag:noindex
X-PUBLISHED-TTL:PT1H
BEGIN:VTIMEZONE
TZID:UTC
BEGIN:STANDARD
TZOFFSETFROM:+0000
TZOFFSETTO:+0000
TZNAME:UTC
DTSTART:20220101T000000
END:STANDARD
END:VTIMEZONE
BEGIN:VEVENT
DTSTART;TZID=UTC:20231116T090000
DTEND;TZID=UTC:20231116T130000
DTSTAMP:20260420T010602
CREATED:20231026T094923Z
LAST-MODIFIED:20231026T094923Z
UID:57494-1700125200-1700139600@www.link.uma.es
SUMMARY:2.02 Reunión PwC
DESCRIPTION:Henning Rütz\, Senior Assistant de PwC tiene reunión con compañeros de PwC
URL:https://www.link.uma.es/event/2-02-reunion-pwc/
LOCATION:Sala 2.02\, 2ª planta
ATTACH;FMTTYPE=image/png:https://www.link.uma.es/wp-content/uploads/2023/10/Logo-pwc.png
ORGANIZER;CN="Jacqueline Lefranc Fern%C3%A1ndez. PWC":MAILTO:jacqueline.lefranc.fernandez@pwc.com
END:VEVENT
BEGIN:VEVENT
DTSTART;TZID=UTC:20231116T100000
DTEND;TZID=UTC:20231116T140000
DTSTAMP:20260420T010602
CREATED:20230920T100004Z
LAST-MODIFIED:20230920T100004Z
UID:57183-1700128800-1700143200@www.link.uma.es
SUMMARY:2.01.UNIVERGEM. Taller desarrollo profesional
DESCRIPTION:Sala 2.01\, 2ª planta de Link by UMA\, de 10 a 14h \nUNIVERGEM. Taller «Empoderamiento y desarrollo profesional desde la perspectiva de género» \nEl Vicerrectorado de Innovación Social y Emprendimiento de la Universidad de Málaga\, gracias a la subvención recibida por el Instituto Andaluz de la Mujer de la Junta de Andalucía\, pone en marcha el Programa UNIVERGEM: “Universidades por la empleabilidad y el emprendimiento de las mujeres universitarias desde la perspectiva de género”. \nUnivergem tiene como finalidad promover actuaciones innovadoras y contextualizadas para incentivar el empleo\, el autoempleo y el emprendimiento entre las mujeres universitarias\, favoreciendo la igualdad de oportunidades entre mujeres y hombres.
URL:https://www.link.uma.es/event/2-01-univergem-taller-desarrollo-profesional-3/
LOCATION:Sala 2.01\, Segunda Planta\, Avenida Louis Pasteur\, 47\, Málaga\, Málaga\, 29010\, España
ATTACH;FMTTYPE=image/jpeg:https://www.link.uma.es/wp-content/uploads/2023/09/univergem-logo.jpg
ORGANIZER;CN="Antonia J. Avil%C3%A9s Zugasti. UMA[%3Aen]Antonia Avil%C3%A9s Zugasti. UMA":MAILTO:azugasti@uma.es
END:VEVENT
BEGIN:VEVENT
DTSTART;TZID=UTC:20231116T160000
DTEND;TZID=UTC:20231116T200000
DTSTAMP:20260420T010602
CREATED:20231031T125739Z
LAST-MODIFIED:20231031T125739Z
UID:57535-1700150400-1700164800@www.link.uma.es
SUMMARY:3.01-3.02 Fundación Esplai: reconocimiento al voluntariado
DESCRIPTION:Hoy estará en Link by UMA la Fundación Esplai llevando a cabo la entrega de certificaciones y diplomas al voluntariado participante en el Programa de mentoría social HEDERA
URL:https://www.link.uma.es/event/3-01-3-02-fundacion-esplai-reconocimiento-al-voluntariado/
LOCATION:Sala 3.01 y 3.02\, 3ª planta de Link
ORGANIZER;CN="Sergio Ca%C3%B1izares Berrocal":MAILTO:sergiotrabajadorsocial@uma.es
END:VEVENT
END:VCALENDAR