BEGIN:VCALENDAR
VERSION:2.0
PRODID:-//LINK by UMA-ATech - ECPv6.15.20//NONSGML v1.0//EN
CALSCALE:GREGORIAN
METHOD:PUBLISH
X-ORIGINAL-URL:https://www.link.uma.es
X-WR-CALDESC:Eventos para LINK by UMA-ATech
REFRESH-INTERVAL;VALUE=DURATION:PT1H
X-Robots-Tag:noindex
X-PUBLISHED-TTL:PT1H
BEGIN:VTIMEZONE
TZID:UTC
BEGIN:STANDARD
TZOFFSETFROM:+0000
TZOFFSETTO:+0000
TZNAME:UTC
DTSTART:20220101T000000
END:STANDARD
END:VTIMEZONE
BEGIN:VEVENT
DTSTART;TZID=UTC:20231108T010000
DTEND;TZID=UTC:20231108T150000
DTSTAMP:20260419T194339
CREATED:20231103T124202Z
LAST-MODIFIED:20231103T124202Z
UID:57554-1699405200-1699455600@www.link.uma.es
SUMMARY:3.01. Visita Universidad Alemana
DESCRIPTION:Sala 3.01\, de 13 a 15h \nVisita de Universidad Alamana a las instalaciones de Link by UMA. Bienvenidos! \n 
URL:https://www.link.uma.es/event/3-01-visita-universidad-alemana-2/
LOCATION:Sala 3.01\, Tercera Planta\, Avenida Louis Pasteur\, 47\, Málaga\, Málaga\, 29010\, España
ORGANIZER;CN="Rafael Ventura.Vicerrector Innovaci%C3%B3n Social y Emprendimiento UMA.":MAILTO:rventura@uma.es
END:VEVENT
BEGIN:VEVENT
DTSTART;TZID=UTC:20231108T100000
DTEND;TZID=UTC:20231108T120000
DTSTAMP:20260419T194339
CREATED:20231106T114244Z
LAST-MODIFIED:20231106T114244Z
UID:57560-1699437600-1699444800@www.link.uma.es
SUMMARY:2.04. Taller Miércoles por la Orientación
DESCRIPTION:Sala 2.04\, 2ª planta – 10.00 a 12.00 h \nSesión presencial dirigida al alumnado de los Cursos Online  de Formación en Competencias: \n1. Enfoca tu futuro 2. Actitud Emprendedora 3. Soft&Digital Skills \nSi ya eres alumno/a es necesario inscripción previa a través de Campus Virtual https://empleabilidad.cv.uma.es/mod/scheduler/view.php?id=4285 \nPara ello\, entra en tu curso y sigue estos pasos: 1. Pincha en la pestaña Evaluación 2. Pincha Sesión presencial («Compartiendo lo aprendido») 3. Inscríbete el miércoles que más te interese \nOBJETIVO DE LA SESIÓN: \nTe rodean múltiples recursos para ayudarte a conseguir el puesto de trabajo que te interesa o para poner en marcha tu proyecto empresarial\, ¿los conoces? En este taller te mostraremos el amplio abanico que tanto tu universidad como otras entidades malagueñas y andaluzas te pueden ofrecer \nCONTENIDOS: \nRecursos formativos. \nProgramas de prácticas en empresas a nivel nacional e internacional. \nProgramas de acceso al empleo dirigido a jóvenes. \nHorario: 10:00-12:00 h \n¿Dónde? Sala 2.04 (Segunda Planta) Edif. The Green Ray\, Avenida Louis Pasteur\, 4\, 29010 Málaga \n(Campus: Extensión Teatinos)
URL:https://www.link.uma.es/event/2-04-taller-miercoles-por-la-orientacion-5/
LOCATION:Sala 2.04\, 2ª planta de Link\, Avenida Louis Pasteur\, 47\, Málaga\, Málaga\, 29010\, España
ORGANIZER;CN="Laura Marcos. Orientaci%C3%B3n UMA":MAILTO:lauramarcos@uma.es
END:VEVENT
BEGIN:VEVENT
DTSTART;TZID=UTC:20231108T103000
DTEND;TZID=UTC:20231108T163000
DTSTAMP:20260419T194339
CREATED:20231107T131226Z
LAST-MODIFIED:20231107T131226Z
UID:57581-1699439400-1699461000@www.link.uma.es
SUMMARY:2.02 Grabación Link TV
DESCRIPTION:Grabación Link TV
URL:https://www.link.uma.es/event/2-02-grabacion-link-tv/
LOCATION:Sala 2.02\, 2ª planta
ATTACH;FMTTYPE=image/png:https://www.link.uma.es/wp-content/uploads/2023/11/linktv.png
ORGANIZER;CN="Laura Mar%C3%ADa Gutierrez Guti%C3%A9rrez":MAILTO:lamagugu@uma.es
END:VEVENT
BEGIN:VEVENT
DTSTART;TZID=UTC:20231108T163000
DTEND;TZID=UTC:20231108T200000
DTSTAMP:20260419T194339
CREATED:20231011T110504Z
LAST-MODIFIED:20231011T110504Z
UID:57358-1699461000-1699473600@www.link.uma.es
SUMMARY:3.01+3.02 Máster en Desarrollos sociales de la Cultura Artística
DESCRIPTION:En esta sesión se impartirá la asignatura «Cultura Artística y Sociedad posdigital» perteneciente al Máster en Desarrollos sociales de la cultura artística de la Facultad de Filosofía y Letras
URL:https://www.link.uma.es/event/3-013-02-master-en-desarrollos-sociales-de-la-cultura-artistica/
LOCATION:Sala 3.01 y 3.02\, 3ª planta de Link
ATTACH;FMTTYPE=image/png:https://www.link.uma.es/wp-content/uploads/2023/10/MDSCA-logo-2018.png
ORGANIZER;CN="Nuria Rodr%C3%ADguez Ortega":MAILTO:nro@uma.es
END:VEVENT
END:VCALENDAR