BEGIN:VCALENDAR
VERSION:2.0
PRODID:-//LINK by UMA-ATech - ECPv6.15.20//NONSGML v1.0//EN
CALSCALE:GREGORIAN
METHOD:PUBLISH
X-ORIGINAL-URL:https://www.link.uma.es
X-WR-CALDESC:Eventos para LINK by UMA-ATech
REFRESH-INTERVAL;VALUE=DURATION:PT1H
X-Robots-Tag:noindex
X-PUBLISHED-TTL:PT1H
BEGIN:VTIMEZONE
TZID:UTC
BEGIN:STANDARD
TZOFFSETFROM:+0000
TZOFFSETTO:+0000
TZNAME:UTC
DTSTART:20220101T000000
END:STANDARD
END:VTIMEZONE
BEGIN:VEVENT
DTSTART;TZID=UTC:20231107T100000
DTEND;TZID=UTC:20231107T130000
DTSTAMP:20260420T000055
CREATED:20231031T130821Z
LAST-MODIFIED:20231031T130821Z
UID:57538-1699351200-1699362000@www.link.uma.es
SUMMARY:2.01_ Reunión Rebs
DESCRIPTION:Reunión interna de trabajo por parte de Rebs
URL:https://www.link.uma.es/event/2-01_-reunion-rebs/
LOCATION:Sala 2.01
ORGANIZER;CN="Carmen Herrera - Talent by Rebs":MAILTO:carmenherrera@rebs-edu.com
END:VEVENT
END:VCALENDAR