BEGIN:VCALENDAR
VERSION:2.0
PRODID:-//LINK by UMA-ATech - ECPv6.15.20//NONSGML v1.0//EN
CALSCALE:GREGORIAN
METHOD:PUBLISH
X-WR-CALNAME:LINK by UMA-ATech
X-ORIGINAL-URL:https://www.link.uma.es
X-WR-CALDESC:Eventos para LINK by UMA-ATech
REFRESH-INTERVAL;VALUE=DURATION:PT1H
X-Robots-Tag:noindex
X-PUBLISHED-TTL:PT1H
BEGIN:VTIMEZONE
TZID:UTC
BEGIN:STANDARD
TZOFFSETFROM:+0000
TZOFFSETTO:+0000
TZNAME:UTC
DTSTART:20220101T000000
END:STANDARD
END:VTIMEZONE
BEGIN:VEVENT
DTSTART;TZID=UTC:20231030T160000
DTEND;TZID=UTC:20231030T200000
DTSTAMP:20260419T201544
CREATED:20231030T093839Z
LAST-MODIFIED:20231030T101513Z
UID:57520-1698681600-1698696000@www.link.uma.es
SUMMARY:2.01. Máster Gestión Entidades Deportivas
DESCRIPTION:Sala 2.01\, de 16 a 20h \nClase del Máster de Gestión de Entidades Deportivas. Bienvenidos a Link by UMA! \nEl II Máster de Formación Permanente en Dirección y Marketing de Entidades Deportivas\, organizado conjuntamente por el Málaga Club de Fútbol y la Universidad de Málaga\, está estructurado en seis módulos que aportan un conocimiento global sobre la realidad empresarial de una entidad deportiva: Dirección y Gestión Estratégica\, Dirección y Gestión Financiera\, Dirección Técnica y Humana\, Marketing Estratégico\, Marketing Digital y Comunicación\, y Marketing y Desarrollo de Líneas de Negocio. El conocimiento de estos bloques ofrece una visión completa de la manera en la que se realizan las planificaciones a medio y largo plazo\, y cómo estos planes se gestionan en un día a día intenso y cambiante\, propio de la idiosincrasia de una entidad deportiva. \n\n\n\n\n\n\nDaniel Ruiz Palomo y Ana Vera Gallego\, director y subdirectora académica del Máster\, han conformado un magnífico equipo de 60 profesionales que aportarán una visión de 360 grados sobre las entidades deportivas. Todas las materias son impartidas por docentes de primerísimo nivel\, profesionales en activo de empresas de reconocido prestigio como Amazon\, Coca-Cola\, Tik-Tok\, Adidas\, Giants Gaming e-Sports\, Nielsen\, la RFEF\, LaLiga\, Sprinklr y un largo etcétera. Todas las empresas\, a través de una voz autorizada\, ofrecen un prisma enriquecedor para el alumnado.
URL:https://www.link.uma.es/event/2-01-vicerrectorado-empleabilidad-y-emprendimiento/
LOCATION:Sala 2.01. 2ª planta
ATTACH;FMTTYPE=image/png:https://www.link.uma.es/wp-content/uploads/2023/10/Diseno-sin-titulo-2022-06-20T125720.929-1024x480-1.png
END:VEVENT
BEGIN:VEVENT
DTSTART;TZID=UTC:20231030T160000
DTEND;TZID=UTC:20231030T200000
DTSTAMP:20260419T201544
CREATED:20231030T095003Z
LAST-MODIFIED:20231030T095003Z
UID:57522-1698681600-1698696000@www.link.uma.es
SUMMARY:2.04. Máster Gestión Entidades Deportivas
DESCRIPTION:Sala 2.04\, de 16 a 20h \nClase del Máster de Gestión de Entidades Deportivas. Bienvenidos a Link by UMA! \nEl II Máster de Formación Permanente en Dirección y Marketing de Entidades Deportivas\, organizado conjuntamente por el Málaga Club de Fútbol y la Universidad de Málaga\, está estructurado en seis módulos que aportan un conocimiento global sobre la realidad empresarial de una entidad deportiva: Dirección y Gestión Estratégica\, Dirección y Gestión Financiera\, Dirección Técnica y Humana\, Marketing Estratégico\, Marketing Digital y Comunicación\, y Marketing y Desarrollo de Líneas de Negocio. El conocimiento de estos bloques ofrece una visión completa de la manera en la que se realizan las planificaciones a medio y largo plazo\, y cómo estos planes se gestionan en un día a día intenso y cambiante\, propio de la idiosincrasia de una entidad deportiva. \n\n\n\n\n\n\nDaniel Ruiz Palomo y Ana Vera Gallego\, director y subdirectora académica del Máster\, han conformado un magnífico equipo de 60 profesionales que aportarán una visión de 360 grados sobre las entidades deportivas. Todas las materias son impartidas por docentes de primerísimo nivel\, profesionales en activo de empresas de reconocido prestigio como Amazon\, Coca-Cola\, Tik-Tok\, Adidas\, Giants Gaming e-Sports\, Nielsen\, la RFEF\, LaLiga\, Sprinklr y un largo etcétera. Todas las empresas\, a través de una voz autorizada\, ofrecen un prisma enriquecedor para el alumnado.
URL:https://www.link.uma.es/event/2-04-master-gestion-entidades-deportivas/
LOCATION:Sala 2.04\, 2ª planta de Link\, Avenida Louis Pasteur\, 47\, Málaga\, Málaga\, 29010\, España
ATTACH;FMTTYPE=image/png:https://www.link.uma.es/wp-content/uploads/2023/10/Diseno-sin-titulo-2022-06-20T125720.929-1024x480-1.png
END:VEVENT
BEGIN:VEVENT
DTSTART;TZID=UTC:20231030T163000
DTEND;TZID=UTC:20231030T200000
DTSTAMP:20260419T201544
CREATED:20231026T100925Z
LAST-MODIFIED:20231026T100925Z
UID:57497-1698683400-1698696000@www.link.uma.es
SUMMARY:CW. Máster Desarrollos Sociales de la Cultura Artística
DESCRIPTION:Impartición de la asignatura Cultura Artística y Sociedad Posdigital dentro del marco del  «Máster Desarrollos Sociales de la Cultura Artística» perteneciente a la Facultad de Filosofía y Letras
URL:https://www.link.uma.es/event/cw-master-desarrollos-sociales-de-la-cultura-artistica/
LOCATION:Coworking\, 4ª planta de Link by UMA
ATTACH;FMTTYPE=image/png:https://www.link.uma.es/wp-content/uploads/2023/10/MDSCA-logo-2018-1.png
ORGANIZER;CN="Nuria Rodr%C3%ADguez Ortega":MAILTO:nro@uma.es
END:VEVENT
BEGIN:VEVENT
DTSTART;TZID=UTC:20231030T170000
DTEND;TZID=UTC:20231030T203000
DTSTAMP:20260419T201544
CREATED:20231016T105933Z
LAST-MODIFIED:20231016T110912Z
UID:57393-1698685200-1698697800@www.link.uma.es
SUMMARY:3.01. Coaching para construir futuro
DESCRIPTION:Sala 3.01\, 3ª planta\, de 17 a 20.30h. \nK-Skills: Coaching para construir futuro \n“¿Quieres poseer los recursos y estrategias necesarios que te permitan acceder al ejercicio de tu profesión de forma innovadora\, gestionando tus propios estados emocionales e induciendo cambios en las personas con las que trabajas? \n¡Si la respuesta es afirmativa este es tu curso! Un total de 20 horas de trabajo\, en las que aprenderás a: \n\nPlantear objetivos de forma correcta y planificar las acciones necesarias para la consecución de los mismos.\nAumentar la claridad mental para la correcta toma de decisiones.\nMejorar las pautas para la gestión del estrés y las emociones.\nInducir estados positivos tanto en uno mismo como en los demás.\nExtrapolar los estados internos logrados del ámbito personal al profesional y viceversa.\nGestionar las relaciones interpersonales en todos los ámbitos y aumentar su calidad\, de tal forma que generen entornos saludables y beneficiosos.\n\nLas técnicas que se van a utilizar pertenecen a disciplinas alternativas tales como Mindfulness\, Inteligencia Emocional y Programación Neurolingüística. Estos paradigmas han mostrado una alta eficacia a la hora de generar estados internos positivos que influyan tanto en la propia persona como en su entorno a través de las relaciones que mantiene. \nCoordina: Antonio Manuel Ciruela Lorenzo. \nImparte: Itziar de la Rubia Sedeño.
URL:https://www.link.uma.es/event/3-01-coaching-para-construir-futuro-2/
LOCATION:Sala 3.01\, Tercera Planta\, Avenida Louis Pasteur\, 47\, Málaga\, Málaga\, 29010\, España
ATTACH;FMTTYPE=image/png:https://www.link.uma.es/wp-content/uploads/2023/09/Cartel-Coaching-2023.png
ORGANIZER;CN="Gema L%C3%B3pez. Coordinadora K-Projects. UMA":MAILTO:glopez@uma.es
END:VEVENT
END:VCALENDAR