BEGIN:VCALENDAR
VERSION:2.0
PRODID:-//LINK by UMA-ATech - ECPv6.15.20//NONSGML v1.0//EN
CALSCALE:GREGORIAN
METHOD:PUBLISH
X-ORIGINAL-URL:https://www.link.uma.es
X-WR-CALDESC:Eventos para LINK by UMA-ATech
REFRESH-INTERVAL;VALUE=DURATION:PT1H
X-Robots-Tag:noindex
X-PUBLISHED-TTL:PT1H
BEGIN:VTIMEZONE
TZID:UTC
BEGIN:STANDARD
TZOFFSETFROM:+0000
TZOFFSETTO:+0000
TZNAME:UTC
DTSTART:20220101T000000
END:STANDARD
END:VTIMEZONE
BEGIN:VEVENT
DTSTART;TZID=UTC:20231023T090000
DTEND;TZID=UTC:20231023T183000
DTSTAMP:20260420T022432
CREATED:20230929T084707Z
LAST-MODIFIED:20231017T110340Z
UID:57233-1698051600-1698085800@www.link.uma.es
SUMMARY:2.04. Keysight: Formación interna
DESCRIPTION:Sala 2.04\, 2ª planta de Link by UMA\, de 9.30 a 18.30h \nFormación interna para personal de Keysight. \nFundada en 1939\, Keysight Technologies cuenta con una amplia experiencia en el equipamiento de herramientas de medida y prueba electrónica y otros productos dedicados a la medición. Actualmente\, esta empresa está presente en más de 100 países. \nKeysight Technologies ayuda a sus clientes a llevar al mercado productos y sistemas electrónicos innovadores en menos tiempo y con un menor coste. Las soluciones de Keysight van a donde va la señal electrónica: sus clientes abarcan los mercados finales de ecosistemas de comunicaciones mundiales\, infraestructuras de Internet\, aeroespacial y defensa\, automoción\, semiconductores y electrónica en general.
URL:https://www.link.uma.es/event/2-01-keysight-formacion-interna/
LOCATION:Sala 2.04\, 2ª planta de Link\, Avenida Louis Pasteur\, 47\, Málaga\, Málaga\, 29010\, España
ORGANIZER;CN="Mar%C3%ADa Villanueva. Keysight":MAILTO:maria.villanueva@keysight.com
END:VEVENT
END:VCALENDAR