BEGIN:VCALENDAR
VERSION:2.0
PRODID:-//LINK by UMA-ATech - ECPv6.15.20//NONSGML v1.0//EN
CALSCALE:GREGORIAN
METHOD:PUBLISH
X-WR-CALNAME:LINK by UMA-ATech
X-ORIGINAL-URL:https://www.link.uma.es
X-WR-CALDESC:Eventos para LINK by UMA-ATech
REFRESH-INTERVAL;VALUE=DURATION:PT1H
X-Robots-Tag:noindex
X-PUBLISHED-TTL:PT1H
BEGIN:VTIMEZONE
TZID:UTC
BEGIN:STANDARD
TZOFFSETFROM:+0000
TZOFFSETTO:+0000
TZNAME:UTC
DTSTART:20220101T000000
END:STANDARD
END:VTIMEZONE
BEGIN:VEVENT
DTSTART;TZID=UTC:20231019T090000
DTEND;TZID=UTC:20231019T103000
DTSTAMP:20260419T222705
CREATED:20231005T084607Z
LAST-MODIFIED:20231017T103915Z
UID:57315-1697706000-1697711400@www.link.uma.es
SUMMARY:2.04. Visita profesorado FP
DESCRIPTION:Sala 2.04\, 2ª planta de Link by UMA\, de 9 a 10.30h. \nVisita de profesorado de FP a las instalaciones de Link by UMA. Bienvenidos!
URL:https://www.link.uma.es/event/2-04-visita-profesorado-fp/
LOCATION:Sala 2.04\, 2ª planta de Link\, Avenida Louis Pasteur\, 47\, Málaga\, Málaga\, 29010\, España
ATTACH;FMTTYPE=image/jpeg:https://www.link.uma.es/wp-content/uploads/2016/07/Link_By-UMA-ATECH_Marca.jpg
ORGANIZER;CN="Jes%C3%BAs Pedrero.":MAILTO:jesus@jesuspedrero.com
END:VEVENT
BEGIN:VEVENT
DTSTART;TZID=UTC:20231019T100000
DTEND;TZID=UTC:20231019T130000
DTSTAMP:20260419T222705
CREATED:20231003T082800Z
LAST-MODIFIED:20231003T082800Z
UID:57281-1697709600-1697720400@www.link.uma.es
SUMMARY:3.01 Sesión Inaugural Programa Univergem
DESCRIPTION:Sala 3.01\, 3ª planta – 10.00 a 13.00 h \nTendrá lugar la sesión inaugural del Programa Univergem\, presidida por el Vicerrector de Innovación Social y Emprendimiento\, Rafael Ventura\, y la Asesora de Programa del Instituto Andaluz de la Mujer en Málaga\, Remedios Cueto. \nEl Vicerrectorado de Innovación Social y Emprendimiento de la Universidad de Málaga\, gracias a la subvención recibida por el Instituto Andaluz de la Mujer de la Junta de Andalucía\, pone en marcha el Programa UNIVERGEM: “Universidades por la empleabilidad y el emprendimiento de las mujeres universitarias desde la perspectiva de género”. \nUnivergem tiene como finalidad promover actuaciones innovadoras y contextualizadas para incentivar el empleo\, el autoempleo y el emprendimiento entre las mujeres universitarias\, favoreciendo la igualdad de oportunidades entre mujeres y hombres.
URL:https://www.link.uma.es/event/3-01-sesion-inaugural-programa-univergem/
LOCATION:Sala 3.01\, Tercera Planta\, Avenida Louis Pasteur\, 47\, Málaga\, Málaga\, 29010\, España
ATTACH;FMTTYPE=image/jpeg:https://www.link.uma.es/wp-content/uploads/2023/09/univergem-logo.jpg
ORGANIZER;CN="Antonia J. Avil%C3%A9s Zugasti. UMA[%3Aen]Antonia Avil%C3%A9s Zugasti. UMA":MAILTO:azugasti@uma.es
END:VEVENT
BEGIN:VEVENT
DTSTART;TZID=UTC:20231019T120000
DTEND;TZID=UTC:20231019T140000
DTSTAMP:20260419T222705
CREATED:20231017T105857Z
LAST-MODIFIED:20231017T110222Z
UID:57419-1697716800-1697724000@www.link.uma.es
SUMMARY:2.01. Reunión Logikers
DESCRIPTION:Sala 2.01\, 2ª planta\, de 12 a 14h. \nLOGIKERS es una start-up tecnológica joven y dinámica. Su misión es desarrollar una ingeniería de calidad orientada al futuro. La actividad principal de la empresa es la I+D en los campos de la Inteligencia Artificial y las plataformas digitales \n  \n 
URL:https://www.link.uma.es/event/2-01-reunion-logikers/
LOCATION:Sala 2.01. 2ª planta
ATTACH;FMTTYPE=image/png:https://www.link.uma.es/wp-content/uploads/2023/10/Logo-Logikers.png
ORGANIZER;CN="Carmen Ram%C3%ADrez. Logikers.":MAILTO:carmen@logikers.com
END:VEVENT
BEGIN:VEVENT
DTSTART;TZID=UTC:20231019T140000
DTEND;TZID=UTC:20231019T170000
DTSTAMP:20260419T222705
CREATED:20230630T080902Z
LAST-MODIFIED:20231003T173141Z
UID:56902-1697724000-1697734800@www.link.uma.es
SUMMARY:SA+CW. CGI Annual Tour FY24
DESCRIPTION:Salón de actos\, de 14 a 17h. Cw+3.01 de 17 a 20h \nJornada interna organizada por CGI
URL:https://www.link.uma.es/event/salon-de-actos_annual-tour-fy24/
LOCATION:Salón de Actos + Coworking
ATTACH;FMTTYPE=image/png:https://www.link.uma.es/wp-content/uploads/2017/05/cgi-logo-430.png
ORGANIZER;CN="Antonio Palomo Mu%C3%B1oz. Director Consulting Delibery. CGI":MAILTO:antonio.palomomunoz@cgi.com
END:VEVENT
END:VCALENDAR