BEGIN:VCALENDAR
VERSION:2.0
PRODID:-//LINK by UMA-ATech - ECPv6.15.20//NONSGML v1.0//EN
CALSCALE:GREGORIAN
METHOD:PUBLISH
X-WR-CALNAME:LINK by UMA-ATech
X-ORIGINAL-URL:https://www.link.uma.es
X-WR-CALDESC:Eventos para LINK by UMA-ATech
REFRESH-INTERVAL;VALUE=DURATION:PT1H
X-Robots-Tag:noindex
X-PUBLISHED-TTL:PT1H
BEGIN:VTIMEZONE
TZID:UTC
BEGIN:STANDARD
TZOFFSETFROM:+0000
TZOFFSETTO:+0000
TZNAME:UTC
DTSTART:20220101T000000
END:STANDARD
END:VTIMEZONE
BEGIN:VEVENT
DTSTART;TZID=UTC:20231018T100000
DTEND;TZID=UTC:20231018T120000
DTSTAMP:20260419T222651
CREATED:20230918T083459Z
LAST-MODIFIED:20230918T124520Z
UID:57149-1697623200-1697630400@www.link.uma.es
SUMMARY:2.02. Taller Elaboración del CV y búsqueda de empleo
DESCRIPTION:Sala 2.02\, 2ª planta – 10.00 a 12.00 h \nCon este taller aprenderás a elaborar un buen currículum para no ser eliminado en la primera fase de un proceso de selección. Además\, te presentaremos distintas opciones para conseguir ese empleo que te interesa. \nInscripciones en: https://talentank.uma.es/orientacion/
URL:https://www.link.uma.es/event/2-02-taller-elaboracion-del-cv-y-busqueda-de-empleo/
LOCATION:Sala 2.02\, 2ª planta
ATTACH;FMTTYPE=image/jpeg:https://www.link.uma.es/wp-content/uploads/2022/10/miercoles-pro-el-empleo.jpg
ORGANIZER;CN="Laura Marcos. Orientaci%C3%B3n UMA":MAILTO:lauramarcos@uma.es
END:VEVENT
BEGIN:VEVENT
DTSTART;TZID=UTC:20231018T100000
DTEND;TZID=UTC:20231018T150000
DTSTAMP:20260419T222651
CREATED:20231011T123217Z
LAST-MODIFIED:20231011T123217Z
UID:57382-1697623200-1697641200@www.link.uma.es
SUMMARY:3.01 Grabación Canal Sur Clúster Marítimo Marino de Andalucía
DESCRIPTION:Canal Sur grabará el próximo 18 de octubre\, miércoles\, al presidente del CMMA\, Javier Noriega\, para la realización de un documental sobre Economía Azul en Andalucía.
URL:https://www.link.uma.es/event/3-01-grabacion-canal-sur-cluster-maritimo-marino-de-andalucia/
LOCATION:Sala 3.01\, Tercera Planta\, Avenida Louis Pasteur\, 47\, Málaga\, Málaga\, 29010\, España
ORGANIZER;CN="jose antonio sau martin":MAILTO:comunicacion@cmma.eu
END:VEVENT
END:VCALENDAR