BEGIN:VCALENDAR
VERSION:2.0
PRODID:-//LINK by UMA-ATech - ECPv6.15.20//NONSGML v1.0//EN
CALSCALE:GREGORIAN
METHOD:PUBLISH
X-ORIGINAL-URL:https://www.link.uma.es
X-WR-CALDESC:Eventos para LINK by UMA-ATech
REFRESH-INTERVAL;VALUE=DURATION:PT1H
X-Robots-Tag:noindex
X-PUBLISHED-TTL:PT1H
BEGIN:VTIMEZONE
TZID:UTC
BEGIN:STANDARD
TZOFFSETFROM:+0000
TZOFFSETTO:+0000
TZNAME:UTC
DTSTART:20220101T000000
END:STANDARD
END:VTIMEZONE
BEGIN:VEVENT
DTSTART;TZID=UTC:20231017T120000
DTEND;TZID=UTC:20231017T130000
DTSTAMP:20260419T163404
CREATED:20231011T120243Z
LAST-MODIFIED:20231017T081701Z
UID:57378-1697544000-1697547600@www.link.uma.es
SUMMARY:2.01 Reunión Málaga TechPark
DESCRIPTION:Sala 2.01\, 2ª planta de Link\, de 12 a 13h. \nReunión de Málaga TechPark y el Vicerrectorado de Innovación Social y Emprendimiento con la empresa suiza Pilatus Aircraft\, una ensambladora de aviones. \nPilatus Aircraft Ltd. es una compañía fabricante de aviones primordialmente destinados al entrenamiento militar. La compañía tiene su sede en Stans\, Suiza\, y emplea aproximadamente a 1.100 personas.
URL:https://www.link.uma.es/event/2-01-reunion-malaga-techpark/
LOCATION:Sala 2.01
ATTACH;FMTTYPE=image/png:https://www.link.uma.es/wp-content/uploads/2023/10/logo-pilatus-credit-pilatus-aircraft.png
ORGANIZER;CN="Isabel Cort%C3%A9s. M%C3%A1laga Tech Park[%3Aen]Isabel Cort%C3%A9s CabreraI":MAILTO:isabelcortes@pta.es
END:VEVENT
BEGIN:VEVENT
DTSTART;TZID=UTC:20231017T160000
DTEND;TZID=UTC:20231017T180000
DTSTAMP:20260419T163404
CREATED:20231017T105412Z
LAST-MODIFIED:20231017T105412Z
UID:57418-1697558400-1697565600@www.link.uma.es
SUMMARY:2.01_ 2.02. Workshop Viewnext
DESCRIPTION:Reunión interna de trabajo
URL:https://www.link.uma.es/event/2-01_-2-02-workshop-viewnext/
LOCATION:Sala 2.01 + 2.02\, Segunda Planta
ORGANIZER;CN="Leonor Jim%C3%A9nez. ViewNext":MAILTO:mljimenez@viewnext.com
END:VEVENT
BEGIN:VEVENT
DTSTART;TZID=UTC:20231017T170000
DTEND;TZID=UTC:20231017T190000
DTSTAMP:20260419T163404
CREATED:20231003T123642Z
LAST-MODIFIED:20231017T065729Z
UID:57290-1697562000-1697569200@www.link.uma.es
SUMMARY:2.04. Ecodecs: Visita estudiantes Dinamarca
DESCRIPTION:Sala 2.04\, 2ª planta de Link by UMA\, de 17 a 19h \nLa startup de la UMA ECODEC´S recibe hoy a un grupo de estudiantes de Dinamarca para presentarles proyectos de emprendimiento y hablarles sobre el ecosistema de emprendimiento de Málaga. \nEn Ecodecs creamos decoración ecológica y natural en Málaga. Especializados en terrarios y microclimas autosuficientes. Cada pieza creada en Ecodecs es única e irrepetible.  Nuestro método está orientado a que puedas encontrar el terrario que mejor se ajuste a tus necesidades y preferencias. \nBienvenid@s a Link by UMA!
URL:https://www.link.uma.es/event/2-04-adsol-visita-estudiantes-dinamarca/
LOCATION:Sala 2.04\, 2ª planta de Link\, Avenida Louis Pasteur\, 47\, Málaga\, Málaga\, 29010\, España
ATTACH;FMTTYPE=image/png:https://www.link.uma.es/wp-content/uploads/2023/10/Ecodecs.png
ORGANIZER;CN="Ignacio Colombo. Adsol.":MAILTO:adsoltechsl@gmail.com
END:VEVENT
BEGIN:VEVENT
DTSTART;TZID=UTC:20231017T170000
DTEND;TZID=UTC:20231017T203000
DTSTAMP:20260419T163404
CREATED:20231016T104457Z
LAST-MODIFIED:20231016T104457Z
UID:57390-1697562000-1697574600@www.link.uma.es
SUMMARY:3.01. Coaching para construir futuro
DESCRIPTION:Sala 3.01\, 3ª planta\, de 17 a 20.30h. \nK-Skills: Coaching para construir futuro \n“¿Quieres poseer los recursos y estrategias necesarios que te permitan acceder al ejercicio de tu profesión de forma innovadora\, gestionando tus propios estados emocionales e induciendo cambios en las personas con las que trabajas? \n¡Si la respuesta es afirmativa este es tu curso! Un total de 20 horas de trabajo\, en las que aprenderás a: \n\nPlantear objetivos de forma correcta y planificar las acciones necesarias para la consecución de los mismos.\nAumentar la claridad mental para la correcta toma de decisiones.\nMejorar las pautas para la gestión del estrés y las emociones.\nInducir estados positivos tanto en uno mismo como en los demás.\nExtrapolar los estados internos logrados del ámbito personal al profesional y viceversa.\nGestionar las relaciones interpersonales en todos los ámbitos y aumentar su calidad\, de tal forma que generen entornos saludables y beneficiosos.\n\nLas técnicas que se van a utilizar pertenecen a disciplinas alternativas tales como Mindfulness\, Inteligencia Emocional y Programación Neurolingüística. Estos paradigmas han mostrado una alta eficacia a la hora de generar estados internos positivos que influyan tanto en la propia persona como en su entorno a través de las relaciones que mantiene. \nCoordina: Antonio Manuel Ciruela Lorenzo. \nImparte: Itziar de la Rubia Sedeño.
URL:https://www.link.uma.es/event/3-01-coaching-para-construir-futuro/
LOCATION:Sala 3.01\, Tercera Planta\, Avenida Louis Pasteur\, 47\, Málaga\, Málaga\, 29010\, España
ATTACH;FMTTYPE=image/png:https://www.link.uma.es/wp-content/uploads/2023/09/Cartel-Coaching-2023.png
ORGANIZER;CN="Gema L%C3%B3pez. Coordinadora K-Projects. UMA":MAILTO:glopez@uma.es
END:VEVENT
END:VCALENDAR