BEGIN:VCALENDAR
VERSION:2.0
PRODID:-//LINK by UMA-ATech - ECPv6.15.20//NONSGML v1.0//EN
CALSCALE:GREGORIAN
METHOD:PUBLISH
X-WR-CALNAME:LINK by UMA-ATech
X-ORIGINAL-URL:https://www.link.uma.es
X-WR-CALDESC:Eventos para LINK by UMA-ATech
REFRESH-INTERVAL;VALUE=DURATION:PT1H
X-Robots-Tag:noindex
X-PUBLISHED-TTL:PT1H
BEGIN:VTIMEZONE
TZID:UTC
BEGIN:STANDARD
TZOFFSETFROM:+0000
TZOFFSETTO:+0000
TZNAME:UTC
DTSTART:20220101T000000
END:STANDARD
END:VTIMEZONE
BEGIN:VEVENT
DTSTART;TZID=UTC:20231016T133000
DTEND;TZID=UTC:20231016T143000
DTSTAMP:20260419T222703
CREATED:20231016T101709Z
LAST-MODIFIED:20231016T101709Z
UID:57388-1697463000-1697466600@www.link.uma.es
SUMMARY:2.04. Reunión Servicio Empleabilidad y Emprendimiento UMA
DESCRIPTION:Sala 2.04\, segunda planta\, de 13.30 a 14.30 \nReunión del equipo del Servicio de Empleabilidad y Emprendimiento de la UMA con Ernesto Pimentel.
URL:https://www.link.uma.es/event/2-04-reunion-servicio-empleabilidad-y-emprendimiento-uma/
LOCATION:Sala 2.04\, 2ª planta de Link\, Avenida Louis Pasteur\, 47\, Málaga\, Málaga\, 29010\, España
ATTACH;FMTTYPE=image/jpeg:https://www.link.uma.es/wp-content/uploads/2016/07/Link_By-UMA-ATECH_Marca.jpg
ORGANIZER;CN="Antonio Pe%C3%B1afiel. Director Servicio Empleabilidad y Emprendimiento.":MAILTO:apenafiel@uma.es
END:VEVENT
END:VCALENDAR