BEGIN:VCALENDAR
VERSION:2.0
PRODID:-//LINK by UMA-ATech - ECPv6.15.20//NONSGML v1.0//EN
CALSCALE:GREGORIAN
METHOD:PUBLISH
X-ORIGINAL-URL:https://www.link.uma.es
X-WR-CALDESC:Eventos para LINK by UMA-ATech
REFRESH-INTERVAL;VALUE=DURATION:PT1H
X-Robots-Tag:noindex
X-PUBLISHED-TTL:PT1H
BEGIN:VTIMEZONE
TZID:UTC
BEGIN:STANDARD
TZOFFSETFROM:+0000
TZOFFSETTO:+0000
TZNAME:UTC
DTSTART:20220101T000000
END:STANDARD
END:VTIMEZONE
BEGIN:VEVENT
DTSTART;TZID=UTC:20231011T080000
DTEND;TZID=UTC:20231011T140000
DTSTAMP:20260420T022430
CREATED:20230907T113710Z
LAST-MODIFIED:20231006T103420Z
UID:57074-1697011200-1697032800@www.link.uma.es
SUMMARY:3.01+3.02. Málaga Tech Park: InnoDay by InnovaIRV
DESCRIPTION:Salas 3.01 y 3.02 de Link by UMA\, de 8 a 14h. \nEl Instituto Ricardo Valle de Innovación (Innova IRV) organiza  «Inno-Day»\, un encuentro abierto a la innovación y el emprendimiento digitales\, una cita (bi)mensual con el doble objetivo de activar la Comunidad Innova IRV y conectar con los ecosistema locales\, nacionales e internacionales de empresas\, emprendedores\, investigadores y expertos en tecnología en colaboración con AMETIC\, para dar forma al futuro a través de proyectos\, valorización de IIP y empresas de nueva creación. \nInscripciones: https://www.eventbrite.com/e/entradas-innoday-669253464127 \nFundación Instituto Ricardo Valle de Innovación innovairv.com \n09:30 Registro \n09:45 Bienvenida\n– Javier López. Vicerrector de la UMA y VP de Innova IRV\n– José Manuel Leceta. Director General de Innova IRV\n10:00 Keynote: «La estrategia de la Comisión Europea en comunicaciones avanzadas: Digital Europe\, CEF\, cuántica»\n– Roberto Viola (online). Director General CONNECT de la Comisión Europea \n10:45 Keynote: «Fotónica integrada programable: Una nueva tecnología disruptiva»\n– José Capmany. Profesor de fotónica UPV y Co-Fundador de iPronics \n11:15 Mesa redonda: «Comunicaciones avanzadas: desde los sistemas aeroespaciales (cuántica) a la salud digital (telemedicina)»\n– José Antonio González Florido. Responsable Negocios Digitales de Telefónica España\n– José Carlos Pérez. Manager Territorial Sur de Orange\n– Jesús Amores. Head of Vodafone Málaga Innovation Hub\n– MODERA: Antonio Gómez-Guillamón. CEO AERTEC y VP de Innova IRV \n12:00 Expresiones de Interés (EoI) \n12:15 Clausura\n– Raúl Jiménez (Por confirmar). Director Gerente de la Agencia Digital de Andalucía\n– Ezequiel Navarro. Presidente de Innova IRV y CEO del grupo Premo \n12:30 Refresco \n 
URL:https://www.link.uma.es/event/3-013-02-malaga-tech-park-innoday-by-innovairv/
LOCATION:Salas 3.01 y 3.02 de Link by UMA
ATTACH;FMTTYPE=image/jpeg:https://www.link.uma.es/wp-content/uploads/2023/09/InnoDay.jpg
END:VEVENT
BEGIN:VEVENT
DTSTART;TZID=UTC:20231011T100000
DTEND;TZID=UTC:20231011T120000
DTSTAMP:20260420T022430
CREATED:20230918T124212Z
LAST-MODIFIED:20230918T124212Z
UID:57156-1697018400-1697025600@www.link.uma.es
SUMMARY:2.04. Taller Miércoles por la Orientación
DESCRIPTION:Sala 2.04\, 2ª planta – 10.00 a 12.00 h \nSesión presencial dirigida al alumnado de los Cursos Online  de Formación en Competencias: \n1. Enfoca tu futuro 2. Actitud Emprendedora 3. Soft&Digital Skills \nSi ya eres alumno/a es necesario inscripción previa a través de Campus Virtual https://empleabilidad.cv.uma.es/mod/scheduler/view.php?id=4285 \nPara ello\, entra en tu curso y sigue estos pasos: 1. Pincha en la pestaña Evaluación 2. Pincha Sesión presencial («Compartiendo lo aprendido») 3. Inscríbete el miércoles que más te interese \nOBJETIVO DE LA SESIÓN: \nTe rodean múltiples recursos para ayudarte a conseguir el puesto de trabajo que te interesa o para poner en marcha tu proyecto empresarial\, ¿los conoces? En este taller te mostraremos el amplio abanico que tanto tu universidad como otras entidades malagueñas y andaluzas te pueden ofrecer \nCONTENIDOS: \nRecursos formativos. \nProgramas de prácticas en empresas a nivel nacional e internacional. \nProgramas de acceso al empleo dirigido a jóvenes. \nHorario: 10:00-12:00 h \n¿Dónde? Sala 2.04 (Segunda Planta) Edif. The Green Ray\, Avenida Louis Pasteur\, 4\, 29010 Málaga \n(Campus: Extensión Teatinos)
URL:https://www.link.uma.es/event/2-04-taller-miercoles-por-la-orientacion-3/
LOCATION:Sala 2.04\, 2ª planta de Link\, Avenida Louis Pasteur\, 47\, Málaga\, Málaga\, 29010\, España
ATTACH;FMTTYPE=image/jpeg:https://www.link.uma.es/wp-content/uploads/2022/10/miercoles-pro-el-empleo.jpg
ORGANIZER;CN="Laura Marcos. Orientaci%C3%B3n UMA":MAILTO:lauramarcos@uma.es
END:VEVENT
END:VCALENDAR