BEGIN:VCALENDAR
VERSION:2.0
PRODID:-//LINK by UMA-ATech - ECPv6.15.20//NONSGML v1.0//EN
CALSCALE:GREGORIAN
METHOD:PUBLISH
X-ORIGINAL-URL:https://www.link.uma.es
X-WR-CALDESC:Eventos para LINK by UMA-ATech
REFRESH-INTERVAL;VALUE=DURATION:PT1H
X-Robots-Tag:noindex
X-PUBLISHED-TTL:PT1H
BEGIN:VTIMEZONE
TZID:UTC
BEGIN:STANDARD
TZOFFSETFROM:+0000
TZOFFSETTO:+0000
TZNAME:UTC
DTSTART:20220101T000000
END:STANDARD
END:VTIMEZONE
BEGIN:VEVENT
DTSTART;TZID=UTC:20231010T123000
DTEND;TZID=UTC:20231010T143000
DTSTAMP:20260419T194331
CREATED:20231009T064703Z
LAST-MODIFIED:20231009T064703Z
UID:57335-1696941000-1696948200@www.link.uma.es
SUMMARY:S.A. IHSM: Reunión investigadores
DESCRIPTION:Salón de actos\, planta baja\, de 12.30 a 14.30h \nReunión de investigadores con Teodomiro López Navarrete.
URL:https://www.link.uma.es/event/s-a-ihsm-reunion-investigadores/
LOCATION:Salón de Actos\, Planta Baja\, Avenida Louis Pasteur\, 47\, Málaga\, Málaga\, 29010\, España
ATTACH;FMTTYPE=image/png:https://www.link.uma.es/wp-content/uploads/2021/09/logo_IHSMpng.png
ORGANIZER;CN="Eduardo Rodr%C3%ADguez Bejarano. IHSM":MAILTO:Edu_rodri@uma.es
END:VEVENT
BEGIN:VEVENT
DTSTART;TZID=UTC:20231010T130000
DTEND;TZID=UTC:20231010T160000
DTSTAMP:20260419T194331
CREATED:20231009T081655Z
LAST-MODIFIED:20231009T081655Z
UID:57347-1696942800-1696953600@www.link.uma.es
SUMMARY:3.02. ViewNext TeamBuilding
DESCRIPTION:Sala 3.02\, 3ª planta\, de 13 a 16h \nViewNext: Reunión de teambuilding del equipo de CIB en Málaga
URL:https://www.link.uma.es/event/3-02-viewnext-teambuilding/
LOCATION:Sala 3.02\, Tercera Planta\, Avenida Louis Pasteur\, 47\, Málaga\, Málaga\, 29010\, España
ATTACH;FMTTYPE=image/png:https://www.link.uma.es/wp-content/uploads/2017/01/Viewnext.png
ORGANIZER;CN="Diego Ram%C3%ADrez. Responsable CIB M%C3%A1laga. ViewNext":MAILTO:dramirezs@viewnext.com
END:VEVENT
END:VCALENDAR