BEGIN:VCALENDAR
VERSION:2.0
PRODID:-//LINK by UMA-ATech - ECPv6.15.20//NONSGML v1.0//EN
CALSCALE:GREGORIAN
METHOD:PUBLISH
X-ORIGINAL-URL:https://www.link.uma.es
X-WR-CALDESC:Eventos para LINK by UMA-ATech
REFRESH-INTERVAL;VALUE=DURATION:PT1H
X-Robots-Tag:noindex
X-PUBLISHED-TTL:PT1H
BEGIN:VTIMEZONE
TZID:UTC
BEGIN:STANDARD
TZOFFSETFROM:+0000
TZOFFSETTO:+0000
TZNAME:UTC
DTSTART:20220101T000000
END:STANDARD
END:VTIMEZONE
BEGIN:VEVENT
DTSTART;VALUE=DATE:20230913
DTEND;VALUE=DATE:20230914
DTSTAMP:20260420T224456
CREATED:20230711T080852Z
LAST-MODIFIED:20230711T081046Z
UID:56945-1694563200-1694649599@www.link.uma.es
SUMMARY:Día de Apertura de Curso Escolar
DESCRIPTION:Las instalaciones de Link by UMA permanecerán cerradas hoy por ser el día de apertura del curso escolar. \nSentimos las molestias.
URL:https://www.link.uma.es/event/dia-de-apertura-de-curso/
LOCATION:Málaga
ATTACH;FMTTYPE=image/png:https://www.link.uma.es/wp-content/uploads/2022/12/UMA_logo.png
END:VEVENT
END:VCALENDAR