BEGIN:VCALENDAR
VERSION:2.0
PRODID:-//LINK by UMA-ATech - ECPv6.15.20//NONSGML v1.0//EN
CALSCALE:GREGORIAN
METHOD:PUBLISH
X-ORIGINAL-URL:https://www.link.uma.es
X-WR-CALDESC:Eventos para LINK by UMA-ATech
REFRESH-INTERVAL;VALUE=DURATION:PT1H
X-Robots-Tag:noindex
X-PUBLISHED-TTL:PT1H
BEGIN:VTIMEZONE
TZID:UTC
BEGIN:STANDARD
TZOFFSETFROM:+0000
TZOFFSETTO:+0000
TZNAME:UTC
DTSTART:20220101T000000
END:STANDARD
END:VTIMEZONE
BEGIN:VEVENT
DTSTART;VALUE=DATE:20230908
DTEND;VALUE=DATE:20230909
DTSTAMP:20260420T133625
CREATED:20230829T084209Z
LAST-MODIFIED:20230829T084452Z
UID:57013-1694131200-1694217599@www.link.uma.es
SUMMARY:Festivo: Virgen de la Victoria\, patrona de Málaga
DESCRIPTION:Durante el día de hoy las instalaciones de Link by UMA permanecerán cerradas. \nNos vemos el lunes! \nCada 8 de septiembre\, la ciudad celebra la fiesta de su Patrona\, Santa María de la Victoria. La Virgen de la Victoria es patrona principal de Málaga y de su Diócesis desde el 8 de diciembre de 1867\, en que es proclamada mediante un breve publicado por el papa Pío IX. Es fiesta local en el municipio.
URL:https://www.link.uma.es/event/festivo-virgen-de-la-victoria/
LOCATION:Málaga
ATTACH;FMTTYPE=image/jpeg:https://www.link.uma.es/wp-content/uploads/2023/08/Virgen-de-la-Victoria.jpeg
END:VEVENT
END:VCALENDAR