BEGIN:VCALENDAR
VERSION:2.0
PRODID:-//LINK by UMA-ATech - ECPv6.15.20//NONSGML v1.0//EN
CALSCALE:GREGORIAN
METHOD:PUBLISH
X-ORIGINAL-URL:https://www.link.uma.es
X-WR-CALDESC:Eventos para LINK by UMA-ATech
REFRESH-INTERVAL;VALUE=DURATION:PT1H
X-Robots-Tag:noindex
X-PUBLISHED-TTL:PT1H
BEGIN:VTIMEZONE
TZID:UTC
BEGIN:STANDARD
TZOFFSETFROM:+0000
TZOFFSETTO:+0000
TZNAME:UTC
DTSTART:20220101T000000
END:STANDARD
END:VTIMEZONE
BEGIN:VEVENT
DTSTART;TZID=UTC:20230906T080000
DTEND;TZID=UTC:20230906T180000
DTSTAMP:20260420T072142
CREATED:20230704T100228Z
LAST-MODIFIED:20230704T100527Z
UID:56922-1693987200-1694023200@www.link.uma.es
SUMMARY:3.01 Reunión IBM
DESCRIPTION:Reunión interna Viewnext- IBM
URL:https://www.link.uma.es/event/reunion-ibm/
LOCATION:Sala 3.01\, Tercera Planta\, Avenida Louis Pasteur\, 47\, Málaga\, Málaga\, 29010\, España
ORGANIZER;CN="Fernando Baena Director ViewNext":MAILTO:fbaena@viewnext.com; gloria.rueda@viewnext.com
END:VEVENT
BEGIN:VEVENT
DTSTART;TZID=UTC:20230906T093000
DTEND;TZID=UTC:20230906T180000
DTSTAMP:20260420T072142
CREATED:20230904T071412Z
LAST-MODIFIED:20230904T074621Z
UID:57034-1693992600-1694023200@www.link.uma.es
SUMMARY:2.01. Reunión TUPL
DESCRIPTION:Sala 2.01\, 2ª planta\, de 9.30 a 18h \nReunión del equipo directivo de TUPL. \nTupl provides a Low-code MLOps framework to develop hyperautomation applications with a fast time to market
URL:https://www.link.uma.es/event/2-01-tupl-3/
LOCATION:Sala 2.01\, Segunda Planta\, Avenida Louis Pasteur\, 47\, Málaga\, Málaga\, 29010\, España
ATTACH;FMTTYPE=image/png:https://www.link.uma.es/wp-content/uploads/2019/07/Tupl.png
ORGANIZER;CN="Mario Garc%C3%ADa Canfr%C3%A1n - TUPL":MAILTO:mario.garcia@tupl.com
END:VEVENT
END:VCALENDAR