BEGIN:VCALENDAR
VERSION:2.0
PRODID:-//LINK by UMA-ATech - ECPv6.15.20//NONSGML v1.0//EN
CALSCALE:GREGORIAN
METHOD:PUBLISH
X-WR-CALNAME:LINK by UMA-ATech
X-ORIGINAL-URL:https://www.link.uma.es
X-WR-CALDESC:Eventos para LINK by UMA-ATech
REFRESH-INTERVAL;VALUE=DURATION:PT1H
X-Robots-Tag:noindex
X-PUBLISHED-TTL:PT1H
BEGIN:VTIMEZONE
TZID:UTC
BEGIN:STANDARD
TZOFFSETFROM:+0000
TZOFFSETTO:+0000
TZNAME:UTC
DTSTART:20220101T000000
END:STANDARD
END:VTIMEZONE
BEGIN:VEVENT
DTSTART;TZID=UTC:20230904T100000
DTEND;TZID=UTC:20230904T180000
DTSTAMP:20260419T211010
CREATED:20230904T071007Z
LAST-MODIFIED:20230904T074816Z
UID:57028-1693821600-1693850400@www.link.uma.es
SUMMARY:2.01. Reunión TUPL
DESCRIPTION:Sala 2.01\, 2ª planta\, de 10 a 18h \nReunión equipo directivo TUPL. \nTupl provides a Low-code MLOps framework to develop hyperautomation applications with a fast time to market
URL:https://www.link.uma.es/event/2-01-tupl/
LOCATION:Sala 2.01\, Segunda Planta\, Avenida Louis Pasteur\, 47\, Málaga\, Málaga\, 29010\, España
ATTACH;FMTTYPE=image/png:https://www.link.uma.es/wp-content/uploads/2019/07/Tupl.png
ORGANIZER;CN="Mario Garc%C3%ADa Canfr%C3%A1n - TUPL":MAILTO:mario.garcia@tupl.com
END:VEVENT
END:VCALENDAR