BEGIN:VCALENDAR
VERSION:2.0
PRODID:-//LINK by UMA-ATech - ECPv6.15.20//NONSGML v1.0//EN
CALSCALE:GREGORIAN
METHOD:PUBLISH
X-ORIGINAL-URL:https://www.link.uma.es
X-WR-CALDESC:Eventos para LINK by UMA-ATech
REFRESH-INTERVAL;VALUE=DURATION:PT1H
X-Robots-Tag:noindex
X-PUBLISHED-TTL:PT1H
BEGIN:VTIMEZONE
TZID:UTC
BEGIN:STANDARD
TZOFFSETFROM:+0000
TZOFFSETTO:+0000
TZNAME:UTC
DTSTART:20220101T000000
END:STANDARD
END:VTIMEZONE
BEGIN:VEVENT
DTSTART;TZID=UTC:20230523T090000
DTEND;TZID=UTC:20230523T180000
DTSTAMP:20260419T203850
CREATED:20230307T084033Z
LAST-MODIFIED:20230307T092603Z
UID:56017-1684832400-1684864800@www.link.uma.es
SUMMARY:Sala 3.01. VIII Congreso Formación y Trabajo
DESCRIPTION:Salas 3.01 y 3.02\, de 9 a 16h. \nEl VII Congreso Formación y Trabajo se celebra el martes 23 de mayo de 2023\, en las instalaciones de Link by UMA y online\, y reúne a profesionales de distintos ámbitos de la Pedagogía que quieren compartir su experiencia entre colegas de profesión y con el alumnado del grado en Pedagogía. Inscripción: https://formacionytrabajo.uma.es/ \nEl objetivo principal del congreso es mostrar diferentes salidas laborales\, a partir de las experiencias que se expondrán en las ponencias. \nConscientes de la desorientación que sufre el alumnado de Pedagogía en cuanto a su futuro laboral\, este congreso pretende aportar información para solventar esta falta de orientación profesional\, mostrando distintas posibilidades profesionales reales para trabajar en pedagogía\, que a menudo son desconocidas. \nAdemás\, este congreso también pretende ser un encuentro para dar visibilidad a la importancia de la figura de las pedagogas y los pedagogos en otros ámbitos diferentes al escolar. \nPrograma\n09.00 Bienvenida institucional: \n\nDña. Isabel María Abad Guerrero. Vicerrectora adjunta de Empleabilidad. Universdiad de Málaga\nDña. Amparo Civila Salas. Vicedecana de Estudiantes. Facultad de Ciencias de la Educación de la Universidad de Málaga\nD. Pablo Sánchez Morales. Facultad de Ciencias de la Educación de la Universidad de Málaga\n\n09.15 Hay vida además de las oposiciones: pedagogía y empresa. Enrique Castillejo. Consejo General de Colegios Oficiales de Pedagogos y Psicopedagogos de España \n09.45 Pedagogía en el sector aeronáutico. Gabriela López. EUROPEAN FLYERS \n10.15 Pedagogía\, mujer y empresa. Monica Gómez. Avanza\, Escuela de Estudios Integrales \n10.30 El desarrollo local y la pedagogía del emprendimiento. Beatriz Estevez. Huno: Formación y Desarrollo \n\nCOFFEE TIME!\n\n11.15 ¿Hay vida después de la Universidad? Antonio Luis Alarcón. Grupo Santillana \n11.45 Transformando el conocimiento. Pedro Gener y María Zulueta. Avanzo by Randstad \n12.00 El pedagogo en los concurso públicos. Daniel Pérez. Grupo Euroformac \n12.15 ¿Puede ejercer un profesional de la pedagogía en una residencia de mayores? Manuel Bernabé. Sassan Formación \n13.30 La importancia de la pedagogía en la gestión de la formación programada para empresas. Inma Mendoza y Javier Gómez. Sipadan \n13.45 La Pedagogía más allá de la escuela: Una visión Administrativa. José Francisco Páez Navarro. Junta de Andalucia \n\nPIZZA TIME!\n\n16.00 Pedagogía para un ecosistema de innovación. Toni Roig \n16.30 Pedagogía y Tecnología: Un modelo empresarial 100% colaborativo. David Puente \n17.00 Jóvenes promesas. \n\nCinta Oncina. Freelance\nFranciso Trigos. Samoo\nZuleima Ortíz. Grupo Coremsa\nEmilio Santa Cruz. Grupo Mainjobs\nMiriam Bernudez. WindUp\n\n18.00 Clausura: \n\nPablo Sánchez Morales. Facultad de Ciencias de la Educación de la Universidad de Málaga\nMiguel Ángel Suvires García. Avanzo by Randstad
URL:https://www.link.uma.es/event/sala-3-01-viii-congreso-formacion-y-trabajo/
LOCATION:Salas 3.01 y 3.02 de Link by UMA
ATTACH;FMTTYPE=image/png:https://www.link.uma.es/wp-content/uploads/2023/03/Congreso-Formacion-y-Trabajo.png
ORGANIZER;CN="Pablo S%C3%A1nchez - UMA":MAILTO:p.sanchez@uma.es
END:VEVENT
BEGIN:VEVENT
DTSTART;TZID=UTC:20230523T100000
DTEND;TZID=UTC:20230523T140000
DTSTAMP:20260419T203850
CREATED:20230123T114815Z
LAST-MODIFIED:20230505T075748Z
UID:55513-1684836000-1684850400@www.link.uma.es
SUMMARY:CW. Aula IKEA Training UMA
DESCRIPTION:Coworking\, 4ª planta de Link\, de 10 a 14h \n¿Qué es el Aula IKEA Training Universidad de Málaga?\n\n\nIKEA Training es un proyecto que conecta a estudiantes\, docentes e investigadores con IKEA Málaga\, con la finalidad de desarrollar actividades formativas para la adquisición de competencias específicas y transversales en este sector. La captación de talento y su incorporación al ámbito profesional de la compañía es uno de sus objetivos principales. \nEl retail\, visual merchandiser y otras competencias relacionadas adaptadas al marco IKEA son las áreas de formación objeto de este aula por mecenazgo. \nEl aula tiene como objetivo promover actividades formativas que favorezcan la adquisición de competencias en: \n1. Comunicación y liderazgo.\n2. Creatividad\, presentación de nuevas ideas y proyectos.\n3. Confianza en la toma de decisiones.\n4. Capacidad para combinar en la práctica prioridades comerciales y estéticas.\n5. Comprensión de la marca.\n6. Análisis de negocio.\n7. Conocimiento del mercado local.\n8. Conocimiento del comportamiento de compra y hábitos de consumo.\n9. Interés por las nuevas tendencias en interiorismo.\n10. Conocimientos de omnicanalidad y merchandising online. \nContacto: IKEAtraining@uma.es / 951953125 / 637440514. \nDirección técnica: Juan Aguilar Jiménez\nPromotor: Vicerrectorado de Innovación Social y Emprendimiento\nMecenas: IKEA IBÉRICA\, S.A.
URL:https://www.link.uma.es/event/3-01-aula-ikea-training-uma-17/
LOCATION:Sala 3.01\, Tercera Planta\, Avenida Louis Pasteur\, 47\, Málaga\, Málaga\, 29010\, España
ORGANIZER;CN="Juan Aguilar":MAILTO:juan@estaciondiseno.es
END:VEVENT
BEGIN:VEVENT
DTSTART;TZID=UTC:20230523T160000
DTEND;TZID=UTC:20230523T200000
DTSTAMP:20260419T203850
CREATED:20230505T113417Z
LAST-MODIFIED:20230505T113417Z
UID:56463-1684857600-1684872000@www.link.uma.es
SUMMARY:CW. Product Marketing Accelerator
DESCRIPTION:Coworking\, 4ª planta de Link by UMA\, de 16 a 20h. \nEl Product Marketing\, o marketing enfocado al producto digital y el No Code (Desarrollo de tecnología sin necesidad de saber de programación) son dos tendencias claramente alcistas en el mercado actual. Las empresas demandan cada vez más profesionales con estas aptitudes y con conocimientos de herramientas digitales que les permitan desempeñar su labor de una forma más ágil\, eficiente y automatizada. La creación de este programa no solo ayudará a mejorar la empleabilidad de los estudiantes de la Universidad de Málaga\, sino que también les colocará al frente de la innovación en la formación en este tipo de prácticas a nivel nacional. \nCoordinador: Pepe De la Varga  Docentes: Jesús Vivas y Pepe De la Varga \nProcedimiento de inscripción: QR que aparece en cartel
URL:https://www.link.uma.es/event/cw-product-marketing-accelerator/
LOCATION:Coworking\, 4ª planta de Link by UMA
ATTACH;FMTTYPE=image/png:https://www.link.uma.es/wp-content/uploads/2023/05/Product-Marketing-Accelerator.png
END:VEVENT
END:VCALENDAR