BEGIN:VCALENDAR
VERSION:2.0
PRODID:-//LINK by UMA-ATech - ECPv6.15.20//NONSGML v1.0//EN
CALSCALE:GREGORIAN
METHOD:PUBLISH
X-WR-CALNAME:LINK by UMA-ATech
X-ORIGINAL-URL:https://www.link.uma.es
X-WR-CALDESC:Eventos para LINK by UMA-ATech
REFRESH-INTERVAL;VALUE=DURATION:PT1H
X-Robots-Tag:noindex
X-PUBLISHED-TTL:PT1H
BEGIN:VTIMEZONE
TZID:UTC
BEGIN:STANDARD
TZOFFSETFROM:+0000
TZOFFSETTO:+0000
TZNAME:UTC
DTSTART:20220101T000000
END:STANDARD
END:VTIMEZONE
BEGIN:VEVENT
DTSTART;TZID=UTC:20230324T090000
DTEND;TZID=UTC:20230324T140000
DTSTAMP:20260425T224650
CREATED:20230223T101232Z
LAST-MODIFIED:20230321T132105Z
UID:55950-1679648400-1679666400@www.link.uma.es
SUMMARY:CW. Polaris Academy con Laura Chica
DESCRIPTION:Coworking\, 4ª planta de Link by UMA\, de 9 a 14h. \nAutoliderazgo y liderazgo positivo con Laura Chica https://www.laurachica.com/ \nContenidos: \n\nqué hay en mi\nhacia donde voy\nqué tengo/qué necesito\nevaluación del recorrido\nliderazgo del equipo\n\nPolaris es un programa de acompañamiento que sirve de guía a los proyectos ganadores del concurso Spin-Off organizado por la Universidad de Málaga.
URL:https://www.link.uma.es/event/cw-polaris-academy-con-laura-chica/
LOCATION:Coworking\, 4ª planta de Link by UMA
ATTACH;FMTTYPE=image/jpeg:https://www.link.uma.es/wp-content/uploads/2020/04/POLARIS-ACADEMY-CIRCULO.jpg
ORGANIZER;CN="Fuensanta Galindo. Directora Polaris Academy[%3Aen]Fuensanta Galindo.":MAILTO:fuensantagalindo@uma.es
END:VEVENT
BEGIN:VEVENT
DTSTART;TZID=UTC:20230324T093000
DTEND;TZID=UTC:20230324T103000
DTSTAMP:20260425T224650
CREATED:20230213T093936Z
LAST-MODIFIED:20230213T093936Z
UID:55796-1679650200-1679653800@www.link.uma.es
SUMMARY:Salón Actos Seminario IHSM
DESCRIPTION:Salón de Actos\, planta baja – 09.30 a 10.30 h \nTendrá lugar un seminario del IHSM
URL:https://www.link.uma.es/event/salon-actos-seminario-ihsm-3/
LOCATION:Salón de Actos\, Planta Baja\, Avenida Louis Pasteur\, 47\, Málaga\, Málaga\, 29010\, España
ATTACH;FMTTYPE=image/png:https://www.link.uma.es/wp-content/uploads/2021/09/logo_IHSMpng.png
ORGANIZER;CN="Eduardo Rodr%C3%ADguez Bejarano. IHSM":MAILTO:Edu_rodri@uma.es
END:VEVENT
BEGIN:VEVENT
DTSTART;TZID=UTC:20230324T150000
DTEND;TZID=UTC:20230324T180000
DTSTAMP:20260425T224650
CREATED:20230303T093452Z
LAST-MODIFIED:20230303T093452Z
UID:55990-1679670000-1679680800@www.link.uma.es
SUMMARY:2.01. Reunión equipo AIESEC
DESCRIPTION:Sala 2.01\, 2ª planta\, de 15 a 18h \nReunión de equipo AIESEC. \nAIESEC es la organización global liderada por jóvenes más grande del mundo que busca el desarrollo de liderazgo en los jóvenes a través de oportunidades en el entorno internacional. Conectamos jóvenes con proyectos en el extranjero\, donde pueden aprender más sobre otras culturas y trabajar en su propio crecimiento. Nuestro objetivo es el desarrollo del liderazgo en los jóvenes a través de experiencias prácticas en ambientes retadores.
URL:https://www.link.uma.es/event/2-01-reunion-equipo-aiesec/
LOCATION:Sala 2.01. 2ª planta
ATTACH;FMTTYPE=image/png:https://www.link.uma.es/wp-content/uploads/2023/02/blueman.png
END:VEVENT
END:VCALENDAR