BEGIN:VCALENDAR
VERSION:2.0
PRODID:-//LINK by UMA-ATech - ECPv6.15.20//NONSGML v1.0//EN
CALSCALE:GREGORIAN
METHOD:PUBLISH
X-ORIGINAL-URL:https://www.link.uma.es
X-WR-CALDESC:Eventos para LINK by UMA-ATech
REFRESH-INTERVAL;VALUE=DURATION:PT1H
X-Robots-Tag:noindex
X-PUBLISHED-TTL:PT1H
BEGIN:VTIMEZONE
TZID:UTC
BEGIN:STANDARD
TZOFFSETFROM:+0000
TZOFFSETTO:+0000
TZNAME:UTC
DTSTART:20220101T000000
END:STANDARD
END:VTIMEZONE
BEGIN:VEVENT
DTSTART;TZID=UTC:20230323T100000
DTEND;TZID=UTC:20230323T130000
DTSTAMP:20260419T160210
CREATED:20230303T094659Z
LAST-MODIFIED:20230322T080227Z
UID:55994-1679565600-1679576400@www.link.uma.es
SUMMARY:3.01. Presentación Cátedra CompanyON
DESCRIPTION:Sala 3.01\, 3ª planta de Link by UMA\, de 10 a 13h \nPresentación Cátedra CompanyON a empresas de Málaga Tech Park. \nParticipa José Ángel Narváaez\, Rector de la Universidad de Málaga; Susana Carillo\, Teniente Alcalde y Delegada de Innovación Tecnológica del Ayuntamiento de Málaga; Rafael Godoy Rubio\, Director de la E.T.S.I. de Telecomunicación; Felipe Romera\, Director General del Málaga TechPark. \nCátedra CompanyON “Switch the Company On. Get a companion” \nLa cátedra CompanyOn es una iniciativa de la Escuela Técnica Superior de Ingeniería de Telecomunicación de la Universidad de Málaga (ETSIT). Se crea en 2023 con el objetivo de dar a los estudiantes de la ETSIT un servicio de conexión integral con las empresas del sector TIC ubicadas en Málaga que enriquezca su formación académica y profesional. \nInmersos en el mundo académico\, los estudiantes\, con frecuencia\, desconocen qué actores componen el tejido empresarial local en el sector de las telecomunicaciones. Tampoco tienen claro cuáles son los roles de un ingeniero en su desarrollo profesional\, o qué se hace exactamente en el día a día de una empresa. Por su parte\, las compañías tecnológicas están interesadas en que la formación de los estudiantes tenga en cuenta su realidad empresarial\, de modo que las competencias adquiridas por los futuros ingenieros sean adecuadas al desarrollo profesional. \nPor todo ello\, la cátedra CompanyOn pretende reforzar los vínculos entre las empresas mecenas y los estudiantes\, fomentando para ello una serie de actividades\, entre las que se pueden destacar: \n\nRealización\, por parte de las empresas\, de charlas\, talleres\, seminarios y prácticas integradas en el curriculum académico de la ETSIT y en coordinación con el profesorado\, así como otras de carácter transversal y dirigidas a todos los estudiantes\nPresentación de las empresas a los estudiantes. Realización de visitas y demostraciones\nMentorización de alumnos. Fomento de las becas en empresa\nEstablecimiento de premios a trabajos fin de estudios y tesis doctorales\nRealización de trabajos fin de estudios en el entorno empresarial\nRealización de actividades divulgativas de la ingeniería a estudiantes de bachillerato\nRealización de torneos deportivos con participación de la empresa\, profesores y estudiantes\nCualquier otra actividad\, a propuesta de las empresas\, estudiantes o profesorado que esté comprendida en los objetivos de CompanyOn\, que no son otros que difundir y acercar el mundo empresarial al colectivo estudiantil.\n\nLas empresas que aportan mecenazgo son\, por orden alfabético: Bullnet Capital\, Dekra\, Ericssson\, Idneo\, Keysight\, LDA Audiotech\, Premo y TUPL\, formando una excelente representación del sector de las telecomunicaciones en todas sus especialidades. \nCompanyOn apuesta firmemente por que la formación integral de los estudiantes\, tanto curricular como personal\, mejore sustancialmente con las actividades de la cátedra. Trabajemos para ello.
URL:https://www.link.uma.es/event/3-01-on-company/
LOCATION:Sala 3.01\, Tercera Planta\, Avenida Louis Pasteur\, 47\, Málaga\, Málaga\, 29010\, España
ATTACH;FMTTYPE=image/jpeg:https://www.link.uma.es/wp-content/uploads/2023/03/companyON.jpg
END:VEVENT
BEGIN:VEVENT
DTSTART;TZID=UTC:20230323T120000
DTEND;TZID=UTC:20230323T170000
DTSTAMP:20260419T160210
CREATED:20230322T094345Z
LAST-MODIFIED:20230322T094345Z
UID:56200-1679572800-1679590800@www.link.uma.es
SUMMARY:2.02. Zexel: Reunión de equipo
DESCRIPTION:Sala 2.02\, 2ª planta de Link by UMA\, de 12 a 17h \nOnboarding nuevos miembros del equipo Zexel. Bienvenidos a Link! \nZexel optimiza y automatiza el pago de los influencers de las campañas que gestionas\, desde una sola plataforma.
URL:https://www.link.uma.es/event/2-02-zexel-reunion-de-equipo/
LOCATION:Sala 2.02\, 2ª planta
ATTACH;FMTTYPE=image/png:https://www.link.uma.es/wp-content/uploads/2023/02/zexel-logo.png
ORGANIZER;CN="Mario Betancourt. Responable de Ventas. Zexel":MAILTO:mariob@zexel.io
END:VEVENT
BEGIN:VEVENT
DTSTART;TZID=UTC:20230323T160000
DTEND;TZID=UTC:20230323T190000
DTSTAMP:20260419T160210
CREATED:20230322T090309Z
LAST-MODIFIED:20230322T090309Z
UID:56179-1679587200-1679598000@www.link.uma.es
SUMMARY:2.01. AIESEC. Reunión de equipo
DESCRIPTION:Sala 2.01\, 2ª planta\, de 16 a 19h. \nReunión equipo AIESEC.
URL:https://www.link.uma.es/event/2-01-aiesec-reunion-de-equipo/
LOCATION:Sala 2.01. 2ª planta
ATTACH;FMTTYPE=image/png:https://www.link.uma.es/wp-content/uploads/2016/10/logo-aiesec.png
END:VEVENT
BEGIN:VEVENT
DTSTART;TZID=UTC:20230323T160000
DTEND;TZID=UTC:20230323T200000
DTSTAMP:20260419T160210
CREATED:20230220T095012Z
LAST-MODIFIED:20230313T131030Z
UID:55869-1679587200-1679601600@www.link.uma.es
SUMMARY:CW. Solidity Workshop.
DESCRIPTION: Coworking\, 4ª planta de Link by UMA\, de 16 a 20h \nSolidity Workshop. Workshop técnico inicial sobre Blockchain organizado por la comunidad de Blockchain Málaga. Formulario de inscripción: https://tally.so/r/wvMNjd \nMás información: https://blockchainmalaga.es/evento/workshop-introduccion-a-solidity/ \nEn este taller\, exploraremos los conceptos básicos de Solidity\, el lenguaje de programación utilizado para escribir contratos inteligentes en la cadena de bloques de Ethereum. Este taller está diseñado para aquellos que tienen conocimientos básicos en programación y están interesados en aprender cómo se pueden usar los contratos inteligentes para crear aplicaciones descentralizadas (dApps). \nRequisitos previos: \n\nConocimientos básicos de programación.\nPortátil propio.\n\nTemario: \n\nConceptos generales de blockchain\n\n¿Qué es blockchain y cómo funciona?\n¿Qué es Ethereum y por qué es importante?\n¿Qué es un contrato inteligente y cómo funciona?\n\n\nConceptos básicos del lenguaje Solidity\n\n¿Qué es Solidity?\nVariables y tipos de datos.\nFunciones y eventos.\nEstructuras de control y bucles.\n\n\nMarcos de desarrollo (Hardhat)\n\n¿Qué es Hardhat?\nInstalación y configuración de Hardhat.\nCompilación y prueba de contratos inteligentes.\nImplementación de contratos inteligentes en una red de prueba.\n\n\nCreación de tokens ERC20 simples\n\n¿Qué son los tokens ERC20?\nCreación de tokens ERC20 con Solidity.\nPruebas de tokens ERC20.\n\n\nMuestra de implementación de contratos inteligentes\n\nDespliegue de un contrato inteligente simple.\nInteracción con el contrato inteligente mediante la consola.\n\n\n\n¿Quién es tu tutor? \nJuan Castellón   \nMiset.io Tech Co-Founder | Blockchain Developer | Scrum Master \nMás de 20 años de experiencia en Desarrollo de Software en una variedad de industrias incluyendo DeFi\, FinTech\, Finanzas\, Banca\, Marketing\, Viajes\, Comunicaciones y Automoción. Durante los últimos 11 años ha liderado equipos técnicos\, dándole la oportunidad de combinar su pasión por el desarrollo de software y su pasión por el desarrollo de personas. Actualmente trabaja en diferentes proyectos de Blockchain para DeFi\, Tokenomics y Auditoría. \n 
URL:https://www.link.uma.es/event/cw-blockchain-workshop/
LOCATION:Coworking\, 4ª planta de Link by UMA
ATTACH;FMTTYPE=image/png:https://www.link.uma.es/wp-content/uploads/2023/02/cartel-vertical-003.png
ORGANIZER;CN="Mart%C3%ADn. Voluntario Blockchain M%C3%A1laga":MAILTO:hola@blockchainmalaga.es
END:VEVENT
END:VCALENDAR