BEGIN:VCALENDAR
VERSION:2.0
PRODID:-//LINK by UMA-ATech - ECPv6.15.20//NONSGML v1.0//EN
CALSCALE:GREGORIAN
METHOD:PUBLISH
X-WR-CALNAME:LINK by UMA-ATech
X-ORIGINAL-URL:https://www.link.uma.es
X-WR-CALDESC:Eventos para LINK by UMA-ATech
REFRESH-INTERVAL;VALUE=DURATION:PT1H
X-Robots-Tag:noindex
X-PUBLISHED-TTL:PT1H
BEGIN:VTIMEZONE
TZID:UTC
BEGIN:STANDARD
TZOFFSETFROM:+0000
TZOFFSETTO:+0000
TZNAME:UTC
DTSTART:20220101T000000
END:STANDARD
END:VTIMEZONE
BEGIN:VEVENT
DTSTART;TZID=UTC:20230317T090000
DTEND;TZID=UTC:20230317T110000
DTSTAMP:20260425T211458
CREATED:20230322T084039Z
LAST-MODIFIED:20230322T084039Z
UID:56174-1679043600-1679050800@www.link.uma.es
SUMMARY:3.01. LabMeeting IHSM
DESCRIPTION:Sala 3.01\, 3ª planta de Link by UMA\, de 9 a 11h. \nLabMeeting IHSM
URL:https://www.link.uma.es/event/3-01-labmeeting-ihsm/
LOCATION:Sala 3.01\, Tercera Planta\, Avenida Louis Pasteur\, 47\, Málaga\, Málaga\, 29010\, España
ATTACH;FMTTYPE=image/png:https://www.link.uma.es/wp-content/uploads/2021/09/logo_IHSMpng.png
ORGANIZER;CN="Catharina Merchante. IHSM-UMA-CSIC":MAILTO:merchante@uma.es
END:VEVENT
BEGIN:VEVENT
DTSTART;TZID=UTC:20230317T090000
DTEND;TZID=UTC:20230317T190000
DTSTAMP:20260425T211458
CREATED:20230207T121347Z
LAST-MODIFIED:20230208T112513Z
UID:55746-1679043600-1679079600@www.link.uma.es
SUMMARY:2.04.  Formación TUPL
DESCRIPTION:2.04\, 2ª planta – 9.00 a 19.00 h \nCurso de formación para un grupo de empleados de Tupl
URL:https://www.link.uma.es/event/formacion-tupl/
LOCATION:Sala 2.04. 2ª planta de Link
ATTACH;FMTTYPE=image/jpeg:https://www.link.uma.es/wp-content/uploads/2021/05/tupl.jpg
ORGANIZER;CN="Beatriz Garc%C3%ADa. RR.HH TULP":MAILTO:beatriz.garcia@tupl.com
END:VEVENT
BEGIN:VEVENT
DTSTART;TZID=UTC:20230317T100000
DTEND;TZID=UTC:20230317T140000
DTSTAMP:20260425T211458
CREATED:20230313T085452Z
LAST-MODIFIED:20230313T085452Z
UID:56066-1679047200-1679061600@www.link.uma.es
SUMMARY:2.02 Formación SoftProject
DESCRIPTION:Tendrá lugar una formación a cargo de la empresa SoftProject
URL:https://www.link.uma.es/event/2-02-formacion-softproject-2/
LOCATION:Sala 2.02\, 2ª planta
ATTACH;FMTTYPE=image/png:https://www.link.uma.es/wp-content/uploads/2021/10/SoftProject.png
ORGANIZER;CN="Jes%C3%BAs Gonz%C3%A1lez. Soft Project":MAILTO:jesus.gonzalez@softproject.es
END:VEVENT
BEGIN:VEVENT
DTSTART;TZID=UTC:20230317T110000
DTEND;TZID=UTC:20230317T140000
DTSTAMP:20260425T211458
CREATED:20230223T100923Z
LAST-MODIFIED:20230303T092242Z
UID:55949-1679050800-1679061600@www.link.uma.es
SUMMARY:CW. Polaris Academy con María Corpas y Luis Maldonado
DESCRIPTION:Coworking\, 4ª planta de Link by UMA\, de 11 a 14h. \nReceta de Marketing Digital sin cebolla\, con María Corpas y Luis Maldonado (Agencia WOM) \nContenidos: \n\n\n\n\n\n\n\n\nFundamentos: Conoce los ingredientes pero… ¡Échale huevos!\nCanales: ¿Qué sartén escogemos?\nEstrategias: Pimientos\, Patatas\, Sal… ¿Por qué empezamos?\nCaso práctico: Cocina tu estrategia a fuego lento.\n\n\n\n\n\n\n\n\n\n\nPolaris es un programa de acompañamiento que sirve de guía a los proyectos ganadores del concurso Spin-Off organizado por la Universidad de Málaga.
URL:https://www.link.uma.es/event/cw-polaris-academy-con-maria-corpas/
LOCATION:Coworking\, 4ª planta de Link by UMA
ATTACH;FMTTYPE=image/jpeg:https://www.link.uma.es/wp-content/uploads/2020/04/POLARIS-ACADEMY-CIRCULO.jpg
ORGANIZER;CN="Fuensanta Galindo. Directora Polaris Academy[%3Aen]Fuensanta Galindo.":MAILTO:fuensantagalindo@uma.es
END:VEVENT
BEGIN:VEVENT
DTSTART;TZID=UTC:20230317T150000
DTEND;TZID=UTC:20230317T180000
DTSTAMP:20260425T211458
CREATED:20230220T112632Z
LAST-MODIFIED:20230303T093244Z
UID:55905-1679065200-1679076000@www.link.uma.es
SUMMARY:2.01. Reunión equipo AIESEC
DESCRIPTION:Sala 2.01\, 2ª planta\, de 15 a 18h \nReunión de equipo AIESEC. \nAIESEC es la organización global liderada por jóvenes más grande del mundo que busca el desarrollo de liderazgo en los jóvenes a través de oportunidades en el entorno internacional. Conectamos jóvenes con proyectos en el extranjero\, donde pueden aprender más sobre otras culturas y trabajar en su propio crecimiento. Nuestro objetivo es el desarrollo del liderazgo en los jóvenes a través de experiencias prácticas en ambientes retadores.
URL:https://www.link.uma.es/event/sala-1-reunion-equipo-aiesec-4/
LOCATION:Sala 2.01\, Segunda Planta\, Avenida Louis Pasteur\, 47\, Málaga\, Málaga\, 29010\, España
ATTACH;FMTTYPE=image/png:https://www.link.uma.es/wp-content/uploads/2023/02/blueman.png
END:VEVENT
BEGIN:VEVENT
DTSTART;TZID=UTC:20230317T160000
DTEND;TZID=UTC:20230317T200000
DTSTAMP:20260425T211458
CREATED:20230118T115859Z
LAST-MODIFIED:20230303T080029Z
UID:55451-1679068800-1679083200@www.link.uma.es
SUMMARY:CREATIVELAB: Laboratorio de Proyectos
DESCRIPTION:3ª planta y Coworking\, de 16 a 20h \nLos Laboratorio Creativelab son un programa formativo del LINK by UMA para dotar a estudiantes y emprendedores de estrategias creativas y metodologías de proyecto que fomenten la adquisición de nuevas competencias profesionales. \nSe estructura en tres bloques fundamentales: creative mind (estrategias y recursos creativos)\, creative method (metodología proyectual) y creative project (desarrollo de ideas creativas). Los dos primeros componen un conjunto de recursos y estrategias necesarios para afrontar\, desde la perspectiva del design thinking\, el desarrollo de nuevas ideas para abordar proyectos creativos en cualquier ámbito de actividad productiva. \nEste aprendizaje aportará a estudiantes\, egresados y profesionales habilidades y competencias transversales en estrategias creativas y metodologías proyectuales del diseño. En cualquier disciplina o sector de actividad productiva\, para generar ideas que puedan transformarse en proyectos. \n 
URL:https://www.link.uma.es/event/creativelab-laboratorio-de-proyectos-4/
LOCATION:Salas 3.01 + 3.02\, Tercera Planta + Coworking\, Av. Louis Pasteur\, 47 (The Green Ray)\, Málaga\, Málaga\, 29010\, España
ATTACH;FMTTYPE=image/jpeg:https://www.link.uma.es/wp-content/uploads/2023/02/CREATIVELAB-Cartel-A3-2023-1-scaled.jpg
ORGANIZER;CN="Juan Aguilar. Creative Lab":MAILTO:jaguilar uma
END:VEVENT
END:VCALENDAR