BEGIN:VCALENDAR
VERSION:2.0
PRODID:-//LINK by UMA-ATech - ECPv6.15.20//NONSGML v1.0//EN
CALSCALE:GREGORIAN
METHOD:PUBLISH
X-ORIGINAL-URL:https://www.link.uma.es
X-WR-CALDESC:Eventos para LINK by UMA-ATech
REFRESH-INTERVAL;VALUE=DURATION:PT1H
X-Robots-Tag:noindex
X-PUBLISHED-TTL:PT1H
BEGIN:VTIMEZONE
TZID:UTC
BEGIN:STANDARD
TZOFFSETFROM:+0000
TZOFFSETTO:+0000
TZNAME:UTC
DTSTART:20220101T000000
END:STANDARD
END:VTIMEZONE
BEGIN:VEVENT
DTSTART;TZID=UTC:20230316T090000
DTEND;TZID=UTC:20230316T150000
DTSTAMP:20260426T002633
CREATED:20230126T105008Z
LAST-MODIFIED:20230307T104736Z
UID:55614-1678957200-1678978800@www.link.uma.es
SUMMARY:2.01. OPPLUS. Formación a formadores internos
DESCRIPTION:
URL:https://www.link.uma.es/event/2-02-opplus-formacion-a-formadores-internos-12/
LOCATION:Sala 2.01. 2ª planta
ORGANIZER;CN="Sara Escobar Aguilera. Personas%2C Desarrollo y Formaci%C3%B3n OPPLUS":MAILTO:sara.escobar.aguilera@opplus.bbva.com
END:VEVENT
BEGIN:VEVENT
DTSTART;TZID=UTC:20230316T100000
DTEND;TZID=UTC:20230316T123000
DTSTAMP:20260426T002633
CREATED:20230120T104947Z
LAST-MODIFIED:20230208T084731Z
UID:55461-1678960800-1678969800@www.link.uma.es
SUMMARY:Coworking. PWC: Reunión de equipos
DESCRIPTION:Coworking\, 4ª planta\, de 10 a 12.30 h. \nReunión PWC.
URL:https://www.link.uma.es/event/coworking-pwc-reunion-de-equipos/
LOCATION:Coworking\, Cuarta Planta\, Avenida Louis Pasteur\, 47\, Málaga\, Málaga\, 29010\, España
ATTACH;FMTTYPE=image/png:https://www.link.uma.es/wp-content/uploads/2019/10/PWC.png
ORGANIZER;CN="Jacqueline Lefranc Fern%C3%A1ndez. PWC":MAILTO:jacqueline.lefranc.fernandez@pwc.com
END:VEVENT
BEGIN:VEVENT
DTSTART;TZID=UTC:20230316T100000
DTEND;TZID=UTC:20230316T140000
DTSTAMP:20260426T002633
CREATED:20230313T085309Z
LAST-MODIFIED:20230313T085309Z
UID:56064-1678960800-1678975200@www.link.uma.es
SUMMARY:2.02 Formación SoftProject
DESCRIPTION:Tendrá lugar una formación a cargo de la empresa SoftProject
URL:https://www.link.uma.es/event/2-02-formacion-softproject/
LOCATION:Sala 2.02\, 2ª planta
ATTACH;FMTTYPE=image/png:https://www.link.uma.es/wp-content/uploads/2021/10/SoftProject.png
ORGANIZER;CN="Jes%C3%BAs Gonz%C3%A1lez. Soft Project":MAILTO:jesus.gonzalez@softproject.es
END:VEVENT
BEGIN:VEVENT
DTSTART;TZID=UTC:20230316T160000
DTEND;TZID=UTC:20230316T180000
DTSTAMP:20260426T002633
CREATED:20230313T085727Z
LAST-MODIFIED:20230313T085727Z
UID:56068-1678982400-1678989600@www.link.uma.es
SUMMARY:2.02 Reunión miembros AIESEC
DESCRIPTION:Reunión de miembros de la asociación de alumnos AIESEC
URL:https://www.link.uma.es/event/2-02-reunion-miembros-aiesec/
LOCATION:Sala 2.02\, 2ª planta
ATTACH;FMTTYPE=image/png:https://www.link.uma.es/wp-content/uploads/2017/01/aiesec.png
END:VEVENT
END:VCALENDAR