BEGIN:VCALENDAR
VERSION:2.0
PRODID:-//LINK by UMA-ATech - ECPv6.15.20//NONSGML v1.0//EN
CALSCALE:GREGORIAN
METHOD:PUBLISH
X-ORIGINAL-URL:https://www.link.uma.es
X-WR-CALDESC:Eventos para LINK by UMA-ATech
REFRESH-INTERVAL;VALUE=DURATION:PT1H
X-Robots-Tag:noindex
X-PUBLISHED-TTL:PT1H
BEGIN:VTIMEZONE
TZID:UTC
BEGIN:STANDARD
TZOFFSETFROM:+0000
TZOFFSETTO:+0000
TZNAME:UTC
DTSTART:20220101T000000
END:STANDARD
END:VTIMEZONE
BEGIN:VEVENT
DTSTART;TZID=UTC:20230313T090000
DTEND;TZID=UTC:20230313T140000
DTSTAMP:20260426T002631
CREATED:20230307T084435Z
LAST-MODIFIED:20230313T123546Z
UID:56021-1678698000-1678716000@www.link.uma.es
SUMMARY:2.02. Formación OPPlus
DESCRIPTION:Sala 3.02\, 3ª planta – 9.00 a 14.00 h \nSe impartirá una formación para trabajadores de la empresa OPPlus
URL:https://www.link.uma.es/event/3-02-formacion-op-plus/
LOCATION:Sala 3.02\, Tercera Planta\, Avenida Louis Pasteur\, 47\, Málaga\, Málaga\, 29010\, España
ATTACH;FMTTYPE=image/png:https://www.link.uma.es/wp-content/uploads/2023/01/Logotipo_Grupo_Opplus_-1.png
ORGANIZER;CN="Juan Carlos Fuica Mac%C3%ADas - OP Plus":MAILTO:juancarlos.fuica@opplus.bbva.com
END:VEVENT
BEGIN:VEVENT
DTSTART;TZID=UTC:20230313T100000
DTEND;TZID=UTC:20230313T130000
DTSTAMP:20260426T002631
CREATED:20230220T102121Z
LAST-MODIFIED:20230220T102754Z
UID:55876-1678701600-1678712400@www.link.uma.es
SUMMARY:CW. Curso formación PDI
DESCRIPTION:Coworking\, 4ª planta de Link by UMA\, de 10 a 13h. \n«La Tutorización del Practicum y del TFG en la Facultad de CC de la Educación». Curso de formación para PDI (D074-23) dentro del plan de formación para PDI de la UMA
URL:https://www.link.uma.es/event/cw-curso-formacion-pdi/
LOCATION:Coworking\, Cuarta Planta\, Avenida Louis Pasteur\, 47\, Málaga\, Málaga\, 29010\, España
ATTACH;FMTTYPE=image/jpeg:https://www.link.uma.es/wp-content/uploads/2023/02/Fac.-CC-Educacion.jpeg
ORGANIZER;CN="Carolina Mart%C3%ADn G%C3%B3mez. CC Educaci%C3%B3n UMA":MAILTO:cmarting@uma.es
END:VEVENT
BEGIN:VEVENT
DTSTART;TZID=UTC:20230313T123000
DTEND;TZID=UTC:20230313T180000
DTSTAMP:20260426T002631
CREATED:20230303T083850Z
LAST-MODIFIED:20230313T081843Z
UID:55974-1678710600-1678730400@www.link.uma.es
SUMMARY:2.01. Grabación vídeo Bebott
DESCRIPTION:Sala 2.01\, 2ª planta de Link\, de 12.30 a 18h. \nGrabación de vídeo promocional para la agencia de marketing digital Bebott. Bienvenidos a Link by UMA!
URL:https://www.link.uma.es/event/grabacion-video-bebott/
LOCATION:Sala 2.01\, Segunda Planta\, Avenida Louis Pasteur\, 47\, Málaga\, Málaga\, 29010\, España
ATTACH;FMTTYPE=image/jpeg:https://www.link.uma.es/wp-content/uploads/2023/03/bebott.jpg
ORGANIZER;CN="Ignacio Salazar. Bebott":MAILTO:ignacio@bebott.com
END:VEVENT
END:VCALENDAR