BEGIN:VCALENDAR
VERSION:2.0
PRODID:-//LINK by UMA-ATech - ECPv6.15.20//NONSGML v1.0//EN
CALSCALE:GREGORIAN
METHOD:PUBLISH
X-WR-CALNAME:LINK by UMA-ATech
X-ORIGINAL-URL:https://www.link.uma.es
X-WR-CALDESC:Eventos para LINK by UMA-ATech
REFRESH-INTERVAL;VALUE=DURATION:PT1H
X-Robots-Tag:noindex
X-PUBLISHED-TTL:PT1H
BEGIN:VTIMEZONE
TZID:UTC
BEGIN:STANDARD
TZOFFSETFROM:+0000
TZOFFSETTO:+0000
TZNAME:UTC
DTSTART:20220101T000000
END:STANDARD
END:VTIMEZONE
BEGIN:VEVENT
DTSTART;TZID=UTC:20230310T090000
DTEND;TZID=UTC:20230310T140000
DTSTAMP:20260425T224652
CREATED:20230207T084601Z
LAST-MODIFIED:20230220T074333Z
UID:55736-1678438800-1678456800@www.link.uma.es
SUMMARY:3.01. Prueba Selectiva
DESCRIPTION:Sala 3.01\, de 9 a 14h \n¡Suerte compañer@s!
URL:https://www.link.uma.es/event/3-01-antonio-penafiel/
LOCATION:Sala 3.01\, Tercera Planta\, Avenida Louis Pasteur\, 47\, Málaga\, Málaga\, 29010\, España
ORGANIZER;CN="Antonio Pe%C3%B1afiel. Director Servicio Empleabilidad y Emprendimiento.":MAILTO:apenafiel@uma.es
END:VEVENT
BEGIN:VEVENT
DTSTART;TZID=UTC:20230310T090000
DTEND;TZID=UTC:20230310T150000
DTSTAMP:20260425T224652
CREATED:20230222T093024Z
LAST-MODIFIED:20230222T093041Z
UID:55939-1678438800-1678460400@www.link.uma.es
SUMMARY:2.02 Reunión SoftProject
DESCRIPTION:Sala 2.02\, 2ª planta – 9.00 a 15.00 h \nReunión privada de la empresa SoftProject
URL:https://www.link.uma.es/event/reunion-softproject/
LOCATION:Sala 2.02\, 2ª planta
ATTACH;FMTTYPE=image/png:https://www.link.uma.es/wp-content/uploads/2021/10/SoftProject.png
ORGANIZER;CN="Alba Vallejo - SoftProject":MAILTO:alba.vallejo@softproject.es
END:VEVENT
BEGIN:VEVENT
DTSTART;TZID=UTC:20230310T093000
DTEND;TZID=UTC:20230310T103000
DTSTAMP:20260425T224652
CREATED:20230213T093821Z
LAST-MODIFIED:20230213T093821Z
UID:55794-1678440600-1678444200@www.link.uma.es
SUMMARY:Salón Actos Seminario IHSM
DESCRIPTION:Salón de Actos\, planta baja – 09.30 a 10.30 h \nTendrá lugar un seminario del IHSM
URL:https://www.link.uma.es/event/salon-actos-seminario-ihsm-2/
LOCATION:Salón de Actos\, Planta Baja\, Avenida Louis Pasteur\, 47\, Málaga\, Málaga\, 29010\, España
ATTACH;FMTTYPE=image/png:https://www.link.uma.es/wp-content/uploads/2021/09/logo_IHSMpng.png
ORGANIZER;CN="Eduardo Rodr%C3%ADguez Bejarano. IHSM":MAILTO:Edu_rodri@uma.es
END:VEVENT
BEGIN:VEVENT
DTSTART;TZID=UTC:20230310T093000
DTEND;TZID=UTC:20230310T173000
DTSTAMP:20260425T224652
CREATED:20230206T101939Z
LAST-MODIFIED:20230206T101939Z
UID:55725-1678440600-1678469400@www.link.uma.es
SUMMARY:2.01. Zexel: Formación interna
DESCRIPTION:Sala 2.01\, 2ª planta\, de 9.30 a 17.30h \nZexel da la bienvenida a sus nuevos desarrolladores y organiza esta dinámica de formación. Bienvenidos!!!
URL:https://www.link.uma.es/event/2-01-zexel-formacion-interna-6/
LOCATION:Sala 2.01\, Segunda Planta\, Avenida Louis Pasteur\, 47\, Málaga\, Málaga\, 29010\, España
ORGANIZER;CN="Valent%C3%ADn V%C3%A9liz. Zexel":MAILTO:valentinveliz@zexel.io
END:VEVENT
BEGIN:VEVENT
DTSTART;TZID=UTC:20230310T110000
DTEND;TZID=UTC:20230310T140000
DTSTAMP:20260425T224652
CREATED:20230215T104654Z
LAST-MODIFIED:20230303T092336Z
UID:55835-1678446000-1678456800@www.link.uma.es
SUMMARY:CW. Polaris Academy con Maribel Martín
DESCRIPTION:Coworking\, 4ª planta de Link by UMA\, de 11 a 14h. \nPonente: Maribel Martín: https://www.linkedin.com/in/maribel-mart%C3%ADn-jim%C3%A9nez-99a79388/ \nAspectos económicos/financieros y fiscales (I) y (II) \nCuestiones económico/financieras básicas para el desarrollo del tu proyecto. \n\n\n\n\n\nEmpresario individual vs Empresa ¿Cuándo dar el salto?\n\n\n\n\n\n\n\n\n\n\nInterpretación de los Estados financieros de una empresa\nMétodos de valoración de proyectos\nMecanismos de financiación\nEl plan de negocio\nCaso practico.\n\n\n\n\n\nAspectos fiscales en empresas de base tecnológica. \n\n\n\n\n\nNociones básicas sobre la imposición en España\nImpuesto sobre el Valor Añadido.\nImpuesto sobre sociedades. Aspectos generales y ventajas fiscales previstas para start up\n\n\n\n\n\n\n\nPolaris es un programa de acompañamiento que sirve de guía a los proyectos ganadores del concurso Spin-Off organizado por la Universidad de Málaga.
URL:https://www.link.uma.es/event/cw-polaris-academy-con-maribel-martin/
LOCATION:Coworking\, 4ª planta de Link by UMA
ATTACH;FMTTYPE=image/jpeg:https://www.link.uma.es/wp-content/uploads/2020/04/POLARIS-ACADEMY-CIRCULO.jpg
ORGANIZER;CN="Fuensanta Galindo. Directora Polaris Academy[%3Aen]Fuensanta Galindo.":MAILTO:fuensantagalindo@uma.es
END:VEVENT
BEGIN:VEVENT
DTSTART;TZID=UTC:20230310T150000
DTEND;TZID=UTC:20230310T180000
DTSTAMP:20260425T224652
CREATED:20230220T112457Z
LAST-MODIFIED:20230303T093309Z
UID:55903-1678460400-1678471200@www.link.uma.es
SUMMARY:2.02. Reunión equipo AIESEC
DESCRIPTION:Sala 2.02\, segunda planta\, de 15 a 18h \nReunión de equipo AIESEC. \nAIESEC es la organización global liderada por jóvenes más grande del mundo que busca el desarrollo de liderazgo en los jóvenes a través de oportunidades en el entorno internacional. Conectamos jóvenes con proyectos en el extranjero\, donde pueden aprender más sobre otras culturas y trabajar en su propio crecimiento. Nuestro objetivo es el desarrollo del liderazgo en los jóvenes a través de experiencias prácticas en ambientes retadores.
URL:https://www.link.uma.es/event/sala-1-reunion-equipo-aiesec-3/
LOCATION:Sala 2.02\, Segunda Planta\, Avenida Louis Pasteur\, 47\, Málaga\, Málaga\, 29010\, España
ATTACH;FMTTYPE=image/png:https://www.link.uma.es/wp-content/uploads/2023/02/blueman.png
END:VEVENT
BEGIN:VEVENT
DTSTART;TZID=UTC:20230310T160000
DTEND;TZID=UTC:20230310T200000
DTSTAMP:20260425T224652
CREATED:20230118T115052Z
LAST-MODIFIED:20230303T075941Z
UID:55445-1678464000-1678478400@www.link.uma.es
SUMMARY:CREATIVELAB: Laboratorio de Proyectos
DESCRIPTION:3ª planta y Coworking\, de 16 a 20h \nLos Laboratorio Creativelab son un programa formativo del LINK by UMA para dotar a estudiantes y emprendedores de estrategias creativas y metodologías de proyecto que fomenten la adquisición de nuevas competencias profesionales. \nSe estructura en tres bloques fundamentales: creative mind (estrategias y recursos creativos)\, creative method (metodología proyectual) y creative project (desarrollo de ideas creativas). Los dos primeros componen un conjunto de recursos y estrategias necesarios para afrontar\, desde la perspectiva del design thinking\, el desarrollo de nuevas ideas para abordar proyectos creativos en cualquier ámbito de actividad productiva. \nEste aprendizaje aportará a estudiantes\, egresados y profesionales habilidades y competencias transversales en estrategias creativas y metodologías proyectuales del diseño. En cualquier disciplina o sector de actividad productiva\, para generar ideas que puedan transformarse en proyectos. \n 
URL:https://www.link.uma.es/event/creativelab-laboratorio-de-proyectos/
LOCATION:Salas 3.01 + 3.02\, Tercera Planta + Coworking\, Av. Louis Pasteur\, 47 (The Green Ray)\, Málaga\, Málaga\, 29010\, España
ATTACH;FMTTYPE=image/jpeg:https://www.link.uma.es/wp-content/uploads/2023/02/CREATIVELAB-Cartel-A3-2023-1-scaled.jpg
ORGANIZER;CN="Juan Aguilar. Creative Lab":MAILTO:jaguilar uma
END:VEVENT
BEGIN:VEVENT
DTSTART;TZID=UTC:20230310T160000
DTEND;TZID=UTC:20230310T200000
DTSTAMP:20260425T224652
CREATED:20230307T090655Z
LAST-MODIFIED:20230307T090655Z
UID:56028-1678464000-1678478400@www.link.uma.es
SUMMARY:2.02 Reunión Start Up Meatec
DESCRIPTION:Sala 2.02\, 2ª planta – 16.00 a 20.00 h\n\nTendrá lugar una reunión del equipo MEATEC
URL:https://www.link.uma.es/event/2-02-reunion-start-up-meatec-2/
LOCATION:Sala 2.02\, 2ª planta
ORGANIZER;CN="Estefan%C3%ADa Garc%C3%ADa Luque - MEATEC":MAILTO:estefaniagarcia@uma.es
END:VEVENT
END:VCALENDAR