BEGIN:VCALENDAR
VERSION:2.0
PRODID:-//LINK by UMA-ATech - ECPv6.15.20//NONSGML v1.0//EN
CALSCALE:GREGORIAN
METHOD:PUBLISH
X-ORIGINAL-URL:https://www.link.uma.es
X-WR-CALDESC:Eventos para LINK by UMA-ATech
REFRESH-INTERVAL;VALUE=DURATION:PT1H
X-Robots-Tag:noindex
X-PUBLISHED-TTL:PT1H
BEGIN:VTIMEZONE
TZID:UTC
BEGIN:STANDARD
TZOFFSETFROM:+0000
TZOFFSETTO:+0000
TZNAME:UTC
DTSTART:20220101T000000
END:STANDARD
END:VTIMEZONE
BEGIN:VEVENT
DTSTART;TZID=UTC:20230303T090000
DTEND;TZID=UTC:20230303T110000
DTSTAMP:20260419T165755
CREATED:20230109T135941Z
LAST-MODIFIED:20230124T074406Z
UID:55345-1677834000-1677841200@www.link.uma.es
SUMMARY:3.01. Lab Meeting IHSM
DESCRIPTION:Sala 3.01\, 3ª planta Link by UMA \nTendrá lugar un Lab Meeting con grupos pertenecientes al IHSM.
URL:https://www.link.uma.es/event/lab-meeting-ihsm-4/
LOCATION:Sala 3.01\, Tercera Planta\, Avenida Louis Pasteur\, 47\, Málaga\, Málaga\, 29010\, España
ATTACH;FMTTYPE=image/png:https://www.link.uma.es/wp-content/uploads/2021/09/logo_IHSMpng.png
ORGANIZER;CN="Catharina Merchante. IHSM-UMA-CSIC":MAILTO:merchante@uma.es
END:VEVENT
BEGIN:VEVENT
DTSTART;TZID=UTC:20230303T090000
DTEND;TZID=UTC:20230303T140000
DTSTAMP:20260419T165755
CREATED:20230220T104740Z
LAST-MODIFIED:20230220T104831Z
UID:55892-1677834000-1677852000@www.link.uma.es
SUMMARY:2.02. Workshop Open Market OPPLUS
DESCRIPTION:Sala 2.02\, 2ª planta\, de 9 a 14h \nSesión de trabajo para definir la estrategia del proyecto Open Market\, con el objetivo del desarrollo y expansión del negocio de OPPLUS.
URL:https://www.link.uma.es/event/2-01-workshop-open-market-opplus/
LOCATION:Sala 2.02\, 2ª planta
ATTACH;FMTTYPE=image/png:https://www.link.uma.es/wp-content/uploads/2023/02/Opplus_Alto_Contraste.png
ORGANIZER;CN="Raquel S%C3%A1nchez Romero. Manager OPPLUS":MAILTO:mariaraquel.sanchez@opplus.bbva.com
END:VEVENT
BEGIN:VEVENT
DTSTART;TZID=UTC:20230303T110000
DTEND;TZID=UTC:20230303T140000
DTSTAMP:20260419T165755
CREATED:20230215T105120Z
LAST-MODIFIED:20230215T105120Z
UID:55837-1677841200-1677852000@www.link.uma.es
SUMMARY:CW. Polaris Academy con Enrique Nadales
DESCRIPTION:Coworking\, 4ª planta de Link by UMA\, de 11 a 14h. \nPonente: Enrique Nadales: https://www.linkedin.com/in/enrique-nadales-rodr%C3%ADguez-484875104/?originalSubdomain=es \nHabilidades directivas \nCombinación de habilidades directivas esenciales para el emprendedor. \n\nLiderazgo\nComunicación interna\nNegociación\nMotivación\n\nImportante: Leed antes de la sesión de Enrique el caso práctico que os adjuntamos. \nPolaris es un programa de acompañamiento que sirve de guía a los proyectos ganadores del concurso Spin-Off organizado por la Universidad de Málaga. \nPolaris a través de sus dos dimensiones\, Polaris Mentoring y Polaris Academy\, tiene como finalidad que los emprendedores adquieran y desarrollen las competencias necesarias para la dirección y gestión de sus proyectos empresariales.
URL:https://www.link.uma.es/event/cw-polaris-academy-con-enrique-nadales/
LOCATION:Coworking\, 4ª planta de Link by UMA
ATTACH;FMTTYPE=image/jpeg:https://www.link.uma.es/wp-content/uploads/2020/04/POLARIS-ACADEMY-CIRCULO.jpg
ORGANIZER;CN="Fuensanta Galindo. Directora Polaris Academy[%3Aen]Fuensanta Galindo.":MAILTO:fuensantagalindo@uma.es
END:VEVENT
BEGIN:VEVENT
DTSTART;TZID=UTC:20230303T150000
DTEND;TZID=UTC:20230303T180000
DTSTAMP:20260419T165755
CREATED:20230220T112225Z
LAST-MODIFIED:20230303T093214Z
UID:55901-1677855600-1677866400@www.link.uma.es
SUMMARY:201. Reunión equipo AIESEC
DESCRIPTION:Sala 2.01\, 2ª planta\, de 15 a 18h \nReunión de equipo AIESEC. \nAIESEC es la organización global liderada por jóvenes más grande del mundo que busca el desarrollo de liderazgo en los jóvenes a través de oportunidades en el entorno internacional. Conectamos jóvenes con proyectos en el extranjero\, donde pueden aprender más sobre otras culturas y trabajar en su propio crecimiento. Nuestro objetivo es el desarrollo del liderazgo en los jóvenes a través de experiencias prácticas en ambientes retadores.
URL:https://www.link.uma.es/event/sala-1-reunion-equipo-aiesec-2/
LOCATION:Sala 2.01\, Segunda Planta\, Avenida Louis Pasteur\, 47\, Málaga\, Málaga\, 29010\, España
ATTACH;FMTTYPE=image/png:https://www.link.uma.es/wp-content/uploads/2023/02/blueman.png
END:VEVENT
END:VCALENDAR