BEGIN:VCALENDAR
VERSION:2.0
PRODID:-//LINK by UMA-ATech - ECPv6.15.20//NONSGML v1.0//EN
CALSCALE:GREGORIAN
METHOD:PUBLISH
X-ORIGINAL-URL:https://www.link.uma.es
X-WR-CALDESC:Eventos para LINK by UMA-ATech
REFRESH-INTERVAL;VALUE=DURATION:PT1H
X-Robots-Tag:noindex
X-PUBLISHED-TTL:PT1H
BEGIN:VTIMEZONE
TZID:UTC
BEGIN:STANDARD
TZOFFSETFROM:+0000
TZOFFSETTO:+0000
TZNAME:UTC
DTSTART:20220101T000000
END:STANDARD
END:VTIMEZONE
BEGIN:VEVENT
DTSTART;TZID=UTC:20230302T093000
DTEND;TZID=UTC:20230302T140000
DTSTAMP:20260425T175145
CREATED:20230206T100925Z
LAST-MODIFIED:20230302T133140Z
UID:55710-1677749400-1677765600@www.link.uma.es
SUMMARY:2.01. Zexel: Formación interna
DESCRIPTION:Sala 2.01\, 2ª planta\, de 9.30 a 14h \nZexel da la bienvenida a sus nuevos desarrolladores y organiza esta dinámica de formación. Bienvenidos!!! \n 
URL:https://www.link.uma.es/event/zexel-formacion-interna/
LOCATION:Sala 2.01. 2ª planta
ATTACH;FMTTYPE=image/png:https://www.link.uma.es/wp-content/uploads/2023/02/zexel-logo.png
ORGANIZER;CN="Valent%C3%ADn V%C3%A9liz. Zexel":MAILTO:valentinveliz@zexel.io
END:VEVENT
BEGIN:VEVENT
DTSTART;TZID=UTC:20230302T100000
DTEND;TZID=UTC:20230302T140000
DTSTAMP:20260425T175145
CREATED:20230123T111432Z
LAST-MODIFIED:20230123T111432Z
UID:55473-1677751200-1677765600@www.link.uma.es
SUMMARY:3.01. Aula IKEA Training UMA
DESCRIPTION:Sala 3.01\, ª planta de Link\, de 10 a 14h \n¿Qué es el Aula IKEA Training Universidad de Málaga?\n\n\nIKEA Training es un proyecto que conecta a estudiantes\, docentes e investigadores con IKEA Málaga\, con la finalidad de desarrollar actividades formativas para la adquisición de competencias específicas y transversales en este sector. La captación de talento y su incorporación al ámbito profesional de la compañía es uno de sus objetivos principales. \nEl retail\, visual merchandiser y otras competencias relacionadas adaptadas al marco IKEA son las áreas de formación objeto de este aula por mecenazgo. \nEl aula tiene como objetivo promover actividades formativas que favorezcan la adquisición de competencias en: \n1. Comunicación y liderazgo.\n2. Creatividad\, presentación de nuevas ideas y proyectos.\n3. Confianza en la toma de decisiones.\n4. Capacidad para combinar en la práctica prioridades comerciales y estéticas.\n5. Comprensión de la marca.\n6. Análisis de negocio.\n7. Conocimiento del mercado local.\n8. Conocimiento del comportamiento de compra y hábitos de consumo.\n9. Interés por las nuevas tendencias en interiorismo.\n10. Conocimientos de omnicanalidad y merchandising online. \nContacto: IKEAtraining@uma.es / 951953125 / 637440514. \nDirección técnica: Juan Aguilar Jiménez\nPromotor: Vicerrectorado de Innovación Social y Emprendimiento\nMecenas: IKEA IBÉRICA\, S.A.
URL:https://www.link.uma.es/event/3-01-aula-ikea-training-uma-4/
LOCATION:Sala 3.01\, Tercera Planta\, Avenida Louis Pasteur\, 47\, Málaga\, Málaga\, 29010\, España
ORGANIZER;CN="Juan Aguilar":MAILTO:juan@estaciondiseno.es
END:VEVENT
BEGIN:VEVENT
DTSTART;TZID=UTC:20230302T103000
DTEND;TZID=UTC:20230302T120000
DTSTAMP:20260425T175145
CREATED:20230220T091847Z
LAST-MODIFIED:20230220T091847Z
UID:55866-1677753000-1677758400@www.link.uma.es
SUMMARY:2.04. Visita alumnado grado Ingeniería Sistemas Electrónicos
DESCRIPTION:Sala 2.04\, 2ª planta de Link by UMA\, de 10.30 a 12h \nHoy nos visitan en Link alumn@s del grado de Ingeniería de Sistemas Electrónicos de la mano de su profesor Juan Pedro Peña\, para conocer lo que les ofrece el Servicio de Empleabilidad y Emprendimiento de la UMA. Bienvenid@s a Link by UMA!
URL:https://www.link.uma.es/event/2-04-visita-alumnado-grado-ingenieria-sistemas-electronicos/
LOCATION:Sala 2.04\, 2ª planta de Link\, Avenida Louis Pasteur\, 47\, Málaga\, Málaga\, 29010\, España
ATTACH;FMTTYPE=image/png:https://www.link.uma.es/wp-content/uploads/2023/02/ETSI-Telecomunicacion.png
ORGANIZER;CN="Juan Pedro Pe%C3%B1a. ETSIT Tecnolog%C3%ADa Electr%C3%B3nica UMA":MAILTO:Juan P. Peña
END:VEVENT
END:VCALENDAR