BEGIN:VCALENDAR
VERSION:2.0
PRODID:-//LINK by UMA-ATech - ECPv6.15.20//NONSGML v1.0//EN
CALSCALE:GREGORIAN
METHOD:PUBLISH
X-ORIGINAL-URL:https://www.link.uma.es
X-WR-CALDESC:Eventos para LINK by UMA-ATech
REFRESH-INTERVAL;VALUE=DURATION:PT1H
X-Robots-Tag:noindex
X-PUBLISHED-TTL:PT1H
BEGIN:VTIMEZONE
TZID:UTC
BEGIN:STANDARD
TZOFFSETFROM:+0000
TZOFFSETTO:+0000
TZNAME:UTC
DTSTART:20210101T000000
END:STANDARD
END:VTIMEZONE
BEGIN:VEVENT
DTSTART;TZID=UTC:20221219T163000
DTEND;TZID=UTC:20221219T200000
DTSTAMP:20260425T163354
CREATED:20221212T083036Z
LAST-MODIFIED:20221212T083036Z
UID:55223-1671467400-1671480000@www.link.uma.es
SUMMARY:Cultura Artística y Sociedad Posdigital
DESCRIPTION:Sala 3.01\, 3ª planta de Link by UMA\, de 16.30 a 20 h. \nAsignatura: CULTURA ARTÍSTICA Y SOCIEDAD POSTDIGITAL\n\nTitulación: Máster en DESARROLLOS SOCIALES DE LA CULTURA ARTÍSTICA\n\n\nProfesores: RODRIGUEZ ORTEGA\, NURIA\n\n\nEl arte y las artes —en el amplio espectro de sus consideraciones—  son objeto y sujeto no ya del propio mundo académico o de las mediaciones de la llamada Institución Arte\, sino de la industria del ocio\, del turismo\, de la industria de los medios de comunicación\, del mercado de objetos de estatuto especial\, de la inversión en valores de rentabilidad económica\, de formas especiales de tratamiento terapéutico médico o psicológico\, de la expresión de valores simbólicos identitarios o religiosos\, etc.
URL:https://www.link.uma.es/event/cultura-artistica-y-sociedad-posdigital-5/
LOCATION:Sala 3.01\, Tercera Planta\, Avenida Louis Pasteur\, 47\, Málaga\, Málaga\, 29010\, España
ATTACH;FMTTYPE=image/png:https://www.link.uma.es/wp-content/uploads/2022/07/MDSCA-logo-2018.png
END:VEVENT
END:VCALENDAR