BEGIN:VCALENDAR
VERSION:2.0
PRODID:-//LINK by UMA-ATech - ECPv6.15.20//NONSGML v1.0//EN
CALSCALE:GREGORIAN
METHOD:PUBLISH
X-ORIGINAL-URL:https://www.link.uma.es
X-WR-CALDESC:Eventos para LINK by UMA-ATech
REFRESH-INTERVAL;VALUE=DURATION:PT1H
X-Robots-Tag:noindex
X-PUBLISHED-TTL:PT1H
BEGIN:VTIMEZONE
TZID:UTC
BEGIN:STANDARD
TZOFFSETFROM:+0000
TZOFFSETTO:+0000
TZNAME:UTC
DTSTART:20210101T000000
END:STANDARD
END:VTIMEZONE
BEGIN:VEVENT
DTSTART;TZID=UTC:20221216T090000
DTEND;TZID=UTC:20221216T140000
DTSTAMP:20260425T163352
CREATED:20221006T081556Z
LAST-MODIFIED:20221128T062057Z
UID:54688-1671181200-1671199200@www.link.uma.es
SUMMARY:Polaris: Demo Day
DESCRIPTION:Sala 3. \n01\, 3ª planta\, de 9.30 a 12.30h. \nDemo Day de los proyectos mentorizados por el programa Polaris. \nAgenda \n10:00 – Ecodecs \n10:10 – Battery Second Life \n10:20 – Digital Educa \n10:30 – Cybercrin \n10:40 – SmartPairing \n10:50 – BlueBerry \nDESCANSO \n11:20 – Moraga \n11:30 – Pinep Travel \n11:40 – Testeavida \n11:50 – Zexel \n12:00 – Coolx
URL:https://www.link.uma.es/event/polaris-academy-41/
LOCATION:Sala 3.01\, Tercera Planta\, Avenida Louis Pasteur\, 47\, Málaga\, Málaga\, 29010\, España
ATTACH;FMTTYPE=image/jpeg:https://www.link.uma.es/wp-content/uploads/2020/04/POLARIS-ACADEMY.jpg
ORGANIZER;CN="Fuensanta Galindo. Directora Polaris Academy[%3Aen]Fuensanta Galindo.":MAILTO:fuensantagalindo@uma.es
END:VEVENT
BEGIN:VEVENT
DTSTART;TZID=UTC:20221216T090000
DTEND;TZID=UTC:20221216T230000
DTSTAMP:20260425T163352
CREATED:20220912T102650Z
LAST-MODIFIED:20220912T102650Z
UID:54445-1671181200-1671231600@www.link.uma.es
SUMMARY:Reunión Investigadores IHSM
DESCRIPTION:
URL:https://www.link.uma.es/event/reunion-investigadores-ihsm-9/
LOCATION:Salón de Actos\, Planta Baja\, Avenida Louis Pasteur\, 47\, Málaga\, Málaga\, 29010\, España
ORGANIZER;CN="Eduardo Rodr%C3%ADguez Bejarano. IHSM":MAILTO:Edu_rodri@uma.es
END:VEVENT
BEGIN:VEVENT
DTSTART;TZID=UTC:20221216T143000
DTEND;TZID=UTC:20221216T163000
DTSTAMP:20260425T163352
CREATED:20221125T133542Z
LAST-MODIFIED:20221125T133542Z
UID:55169-1671201000-1671208200@www.link.uma.es
SUMMARY:3.01. 14:30-16:30 Team Building FY 23
DESCRIPTION:Team Building actividad para que las miembros de CGI puedan tener la oportunidad para poder reunirse antes del comienzo del año y antes del periodos de vacaciones con motivo de la navidad
URL:https://www.link.uma.es/event/3-01-1430-1630-team-building-fy-23/
LOCATION:Sala 3.01\, Tercera Planta\, Avenida Louis Pasteur\, 47\, Málaga\, Málaga\, 29010\, España
ORGANIZER;CN="Antonio Palomo. CGI":MAILTO:antonio.palomomunoz@cgi.com
END:VEVENT
BEGIN:VEVENT
DTSTART;TZID=UTC:20221216T180000
DTEND;TZID=UTC:20221216T203000
DTSTAMP:20260425T163352
CREATED:20221213T102858Z
LAST-MODIFIED:20221213T102858Z
UID:55243-1671213600-1671222600@www.link.uma.es
SUMMARY:Reunión IAESTE Málaga
DESCRIPTION:Coworking\, 4ª planta – 18.00 a 20.30 h \nTendrá lugar una reunión de los miembros de la asociación IAESTE LC Málaga. \n 
URL:https://www.link.uma.es/event/reunion-iaeste-malaga/
LOCATION:Coworking\, Cuarta Planta\, Avenida Louis Pasteur\, 47\, Málaga\, Málaga\, 29010\, España
ATTACH;FMTTYPE=image/png:https://www.link.uma.es/wp-content/uploads/2021/10/cropped-300x86-IAESTE-LC-Malaga.png
ORGANIZER;CN="Julia Milla Ortuna":MAILTO:millajulia@uma.es
END:VEVENT
END:VCALENDAR