BEGIN:VCALENDAR
VERSION:2.0
PRODID:-//LINK by UMA-ATech - ECPv6.15.20//NONSGML v1.0//EN
CALSCALE:GREGORIAN
METHOD:PUBLISH
X-ORIGINAL-URL:https://www.link.uma.es
X-WR-CALDESC:Eventos para LINK by UMA-ATech
REFRESH-INTERVAL;VALUE=DURATION:PT1H
X-Robots-Tag:noindex
X-PUBLISHED-TTL:PT1H
BEGIN:VTIMEZONE
TZID:UTC
BEGIN:STANDARD
TZOFFSETFROM:+0000
TZOFFSETTO:+0000
TZNAME:UTC
DTSTART:20210101T000000
END:STANDARD
END:VTIMEZONE
BEGIN:VEVENT
DTSTART;TZID=UTC:20221130T093000
DTEND;TZID=UTC:20221130T133000
DTSTAMP:20260425T175323
CREATED:20221125T134839Z
LAST-MODIFIED:20221125T134839Z
UID:55173-1669800600-1669815000@www.link.uma.es
SUMMARY:2.01 9:30-13:30. Reunión Interna REBS
DESCRIPTION:reunión interna de equipo de trabajo REBS
URL:https://www.link.uma.es/event/2-01-930-1330-reunion-interna-rebs/
LOCATION:Sala 2.01. 2ª planta
ORGANIZER;CN="Carmen Herrera - Talent by Rebs":MAILTO:carmenherrera@rebs-edu.com
END:VEVENT
BEGIN:VEVENT
DTSTART;TZID=UTC:20221130T100000
DTEND;TZID=UTC:20221130T120000
DTSTAMP:20260425T175323
CREATED:20221019T082531Z
LAST-MODIFIED:20221019T082531Z
UID:54880-1669802400-1669809600@www.link.uma.es
SUMMARY:Taller Miércoles por la Orientación - Descubre tus Competencias
DESCRIPTION:Sala 2.04\, 2ª planta Link by UMA \nTaller práctico dirigido a todos los estudiantes y titulados universitarios de la UMA. \nCompetente es aquel que tiene pericia\, aptitud o idoneidad para hacer algo o intervenir en un asunto determinado. Los trabajos de hoy en día están identificados por las competencias necesarias para desarrollarlos. ¿Y tú? ¿Cuáles son tus aptitudes\, en qué destacas\, qué necesitas mejorar? Descubre en este taller tus puntos fuertes y débiles para afrontar con más opciones el acceso al mercado laboral.  \nContenidos:    \n\n¿Qué son las competencias?  \nCómo identificarlas y potenciarlas.  \nAutoconocimiento. \nDAFO personal.  \n¿Qué buscan las empresas?  \n\n\nDesarrolla tu potencial. 
URL:https://www.link.uma.es/event/taller-miercoles-por-la-orientacion-descubre-tus-competencias/
LOCATION:Sala 2.04. 2ª planta de Link
ATTACH;FMTTYPE=image/jpeg:https://www.link.uma.es/wp-content/uploads/2022/10/miercoles-pro-el-empleo.jpg
ORGANIZER;CN="Laura Marcos. Orientaci%C3%B3n UMA":MAILTO:lauramarcos@uma.es
END:VEVENT
BEGIN:VEVENT
DTSTART;TZID=UTC:20221130T120000
DTEND;TZID=UTC:20221130T130000
DTSTAMP:20260425T175323
CREATED:20221125T134449Z
LAST-MODIFIED:20221125T134449Z
UID:55171-1669809600-1669813200@www.link.uma.es
SUMMARY:3.01. 12:00-13:00. Visita estudiantes Máster Dirección y Planificación del Turismo
DESCRIPTION:Los alumnos/as del Máster en Dirección y Planificación del Turismo de la Universidad de Málaga visitan hoy el Link by UMA para conocer todas las actividades\, oportunidades y programas de empleabilidad y emprendimiento que están a su disposición para su desarrollo personal y profesional
URL:https://www.link.uma.es/event/3-01-1200-1300-visita-estudiantes-master-direccion-y-planificacion-del-turismo/
LOCATION:Sala 3.01\, Tercera Planta\, Avenida Louis Pasteur\, 47\, Málaga\, Málaga\, 29010\, España
ORGANIZER;CN="Alfonso Exp%C3%B3sito Garc%C3%ADa":MAILTO:aexposito@uma.es
END:VEVENT
END:VCALENDAR