BEGIN:VCALENDAR
VERSION:2.0
PRODID:-//LINK by UMA-ATech - ECPv6.15.20//NONSGML v1.0//EN
CALSCALE:GREGORIAN
METHOD:PUBLISH
X-ORIGINAL-URL:https://www.link.uma.es
X-WR-CALDESC:Eventos para LINK by UMA-ATech
REFRESH-INTERVAL;VALUE=DURATION:PT1H
X-Robots-Tag:noindex
X-PUBLISHED-TTL:PT1H
BEGIN:VTIMEZONE
TZID:UTC
BEGIN:STANDARD
TZOFFSETFROM:+0000
TZOFFSETTO:+0000
TZNAME:UTC
DTSTART:20210101T000000
END:STANDARD
END:VTIMEZONE
BEGIN:VEVENT
DTSTART;TZID=UTC:20221129T160000
DTEND;TZID=UTC:20221129T173000
DTSTAMP:20260425T221346
CREATED:20221116T104206Z
LAST-MODIFIED:20221128T114124Z
UID:55087-1669737600-1669743000@www.link.uma.es
SUMMARY:Formación SME Cluster Growth: ¿Cómo financiar el crecimiento?
DESCRIPTION:Sala 2.01\, 2ª planta\, de 16 a 17.30h \nDavid Ojeda Torres\, Consultor CTA Andalucía Oriental imparte el taller ¿Cómo financiar el crecimiento? \nSME Cluster Growth (https://smeclustergrowth.eu/) es un proyecto Erasmus+ que la Universidad de Málaga lleva a cabo junto con otras universidades como la Universidad de Alcalá de Henares\, la Escuela de Minas\, Telecomunicaciones y Negocios de París\, la Universidad Tecnológica de Munster (Irlanda)\, la Universidad de Bolonia\, la Universidad Técnica de Estambul y tres empresas: Crazy Town (Finlandia)\, Momentum (Irlanda) y la Red de Innovación de Universidad e Industria (Bélgica). \nEl objetivo fundamental del proyecto es proporcionar herramientas formativas y de movilidad que permitan crecer a la pequeña y mediana empresa de ingeniería\, así como la creación de ecosistemas que faciliten su crecimiento sostenible en el tiempo. Los factores y necesidades que afectan al crecimiento han sido detectados en base a la literatura existente\, así como mediante casos de estudio y entrevistas que hemos llevado a cabo con pymes del ramo a lo largo de los países del consorcio. \nA partir de las necesidades detectadas se ha construido un programa formativo centrado en los siguientes puntos: cómo mantener un crecimiento sostenible\, cómo colaborar con otros clusters y ecosistemas empresariales\, cómo internacionalizarse\, cómo trabajar con universidades\, cómo financiar el crecimiento y cómo utilizar el valor del conocimiento y el talento en las empresas. \nPara solicitar más información\, contactar a: Clara Plata Ríos (cplata@uma.es) Vicerrectorado de Innovación Social y Emprendimiento (Universidad de Málaga)
URL:https://www.link.uma.es/event/formacion-sme-cluster-growth-como-financiar-el-crecimiento/
LOCATION:Sala 2.01\, Segunda Planta\, Avenida Louis Pasteur\, 47\, Málaga\, Málaga\, 29010\, España
ATTACH;FMTTYPE=image/jpeg:https://www.link.uma.es/wp-content/uploads/2022/03/logoyfondoSMEcluster.jpg
ORGANIZER;CN="Clara Plata. UMA":MAILTO:cplata@uma.es
END:VEVENT
END:VCALENDAR